BEGIN:VCALENDAR
VERSION:2.0
PRODID:-//Trinity Episcopal Church - ECPv6.15.20//NONSGML v1.0//EN
CALSCALE:GREGORIAN
METHOD:PUBLISH
X-ORIGINAL-URL:https://trinitymartinsburg.org
X-WR-CALDESC:Events for Trinity Episcopal Church
REFRESH-INTERVAL;VALUE=DURATION:PT1H
X-Robots-Tag:noindex
X-PUBLISHED-TTL:PT1H
BEGIN:VTIMEZONE
TZID:America/New_York
BEGIN:DAYLIGHT
TZOFFSETFROM:-0500
TZOFFSETTO:-0400
TZNAME:EDT
DTSTART:20190310T070000
END:DAYLIGHT
BEGIN:STANDARD
TZOFFSETFROM:-0400
TZOFFSETTO:-0500
TZNAME:EST
DTSTART:20191103T060000
END:STANDARD
BEGIN:DAYLIGHT
TZOFFSETFROM:-0500
TZOFFSETTO:-0400
TZNAME:EDT
DTSTART:20200308T070000
END:DAYLIGHT
BEGIN:STANDARD
TZOFFSETFROM:-0400
TZOFFSETTO:-0500
TZNAME:EST
DTSTART:20201101T060000
END:STANDARD
BEGIN:DAYLIGHT
TZOFFSETFROM:-0500
TZOFFSETTO:-0400
TZNAME:EDT
DTSTART:20210314T070000
END:DAYLIGHT
BEGIN:STANDARD
TZOFFSETFROM:-0400
TZOFFSETTO:-0500
TZNAME:EST
DTSTART:20211107T060000
END:STANDARD
BEGIN:DAYLIGHT
TZOFFSETFROM:-0500
TZOFFSETTO:-0400
TZNAME:EDT
DTSTART:20220313T070000
END:DAYLIGHT
BEGIN:STANDARD
TZOFFSETFROM:-0400
TZOFFSETTO:-0500
TZNAME:EST
DTSTART:20221106T060000
END:STANDARD
END:VTIMEZONE
BEGIN:VEVENT
DTSTART;TZID=America/New_York:20210228T113000
DTEND;TZID=America/New_York:20210228T123000
DTSTAMP:20260420T014753
CREATED:20200511T214125Z
LAST-MODIFIED:20200511T214158Z
UID:10000145-1614511800-1614515400@trinitymartinsburg.org
SUMMARY:Fellowship Digital Time
DESCRIPTION:To join click here
URL:https://trinitymartinsburg.org/calendar-event/fellowship-digital-time/2021-02-28/
LOCATION:Trinity Episcopal Church\, 200 W. King Street\, Martinsburg\, 25401\, United States
CATEGORIES:Fellowship
ATTACH;FMTTYPE=image/jpeg:https://trinitymartinsburg.org/wp-content/uploads/2020/05/37635-e1589226634374.jpg
GEO:39.4568997;-77.9652544
X-APPLE-STRUCTURED-LOCATION;VALUE=URI;X-ADDRESS=Trinity Episcopal Church 200 W. King Street Martinsburg 25401 United States;X-APPLE-RADIUS=500;X-TITLE=200 W. King Street:geo:-77.9652544,39.4568997
END:VEVENT
BEGIN:VEVENT
DTSTART;TZID=America/New_York:20210221T113000
DTEND;TZID=America/New_York:20210221T123000
DTSTAMP:20260420T014753
CREATED:20200511T214125Z
LAST-MODIFIED:20200511T214158Z
UID:10000144-1613907000-1613910600@trinitymartinsburg.org
SUMMARY:Fellowship Digital Time
DESCRIPTION:To join click here
URL:https://trinitymartinsburg.org/calendar-event/fellowship-digital-time/2021-02-21/
LOCATION:Trinity Episcopal Church\, 200 W. King Street\, Martinsburg\, 25401\, United States
CATEGORIES:Fellowship
ATTACH;FMTTYPE=image/jpeg:https://trinitymartinsburg.org/wp-content/uploads/2020/05/37635-e1589226634374.jpg
GEO:39.4568997;-77.9652544
X-APPLE-STRUCTURED-LOCATION;VALUE=URI;X-ADDRESS=Trinity Episcopal Church 200 W. King Street Martinsburg 25401 United States;X-APPLE-RADIUS=500;X-TITLE=200 W. King Street:geo:-77.9652544,39.4568997
END:VEVENT
BEGIN:VEVENT
DTSTART;TZID=America/New_York:20210214T113000
DTEND;TZID=America/New_York:20210214T123000
DTSTAMP:20260420T014753
CREATED:20200511T214125Z
LAST-MODIFIED:20200511T214158Z
UID:10000143-1613302200-1613305800@trinitymartinsburg.org
SUMMARY:Fellowship Digital Time
DESCRIPTION:To join click here
URL:https://trinitymartinsburg.org/calendar-event/fellowship-digital-time/2021-02-14/
LOCATION:Trinity Episcopal Church\, 200 W. King Street\, Martinsburg\, 25401\, United States
CATEGORIES:Fellowship
ATTACH;FMTTYPE=image/jpeg:https://trinitymartinsburg.org/wp-content/uploads/2020/05/37635-e1589226634374.jpg
GEO:39.4568997;-77.9652544
X-APPLE-STRUCTURED-LOCATION;VALUE=URI;X-ADDRESS=Trinity Episcopal Church 200 W. King Street Martinsburg 25401 United States;X-APPLE-RADIUS=500;X-TITLE=200 W. King Street:geo:-77.9652544,39.4568997
END:VEVENT
BEGIN:VEVENT
DTSTART;TZID=America/New_York:20210207T113000
DTEND;TZID=America/New_York:20210207T123000
DTSTAMP:20260420T014753
CREATED:20200511T214125Z
LAST-MODIFIED:20200511T214158Z
UID:10000142-1612697400-1612701000@trinitymartinsburg.org
SUMMARY:Fellowship Digital Time
DESCRIPTION:To join click here
URL:https://trinitymartinsburg.org/calendar-event/fellowship-digital-time/2021-02-07/
LOCATION:Trinity Episcopal Church\, 200 W. King Street\, Martinsburg\, 25401\, United States
CATEGORIES:Fellowship
ATTACH;FMTTYPE=image/jpeg:https://trinitymartinsburg.org/wp-content/uploads/2020/05/37635-e1589226634374.jpg
GEO:39.4568997;-77.9652544
X-APPLE-STRUCTURED-LOCATION;VALUE=URI;X-ADDRESS=Trinity Episcopal Church 200 W. King Street Martinsburg 25401 United States;X-APPLE-RADIUS=500;X-TITLE=200 W. King Street:geo:-77.9652544,39.4568997
END:VEVENT
BEGIN:VEVENT
DTSTART;TZID=America/New_York:20210131T113000
DTEND;TZID=America/New_York:20210131T123000
DTSTAMP:20260420T014753
CREATED:20200511T214125Z
LAST-MODIFIED:20200511T214158Z
UID:10000141-1612092600-1612096200@trinitymartinsburg.org
SUMMARY:Fellowship Digital Time
DESCRIPTION:To join click here
URL:https://trinitymartinsburg.org/calendar-event/fellowship-digital-time/2021-01-31/
LOCATION:Trinity Episcopal Church\, 200 W. King Street\, Martinsburg\, 25401\, United States
CATEGORIES:Fellowship
ATTACH;FMTTYPE=image/jpeg:https://trinitymartinsburg.org/wp-content/uploads/2020/05/37635-e1589226634374.jpg
GEO:39.4568997;-77.9652544
X-APPLE-STRUCTURED-LOCATION;VALUE=URI;X-ADDRESS=Trinity Episcopal Church 200 W. King Street Martinsburg 25401 United States;X-APPLE-RADIUS=500;X-TITLE=200 W. King Street:geo:-77.9652544,39.4568997
END:VEVENT
BEGIN:VEVENT
DTSTART;TZID=America/New_York:20210124T113000
DTEND;TZID=America/New_York:20210124T123000
DTSTAMP:20260420T014753
CREATED:20200511T214125Z
LAST-MODIFIED:20200511T214158Z
UID:10000140-1611487800-1611491400@trinitymartinsburg.org
SUMMARY:Fellowship Digital Time
DESCRIPTION:To join click here
URL:https://trinitymartinsburg.org/calendar-event/fellowship-digital-time/2021-01-24/
LOCATION:Trinity Episcopal Church\, 200 W. King Street\, Martinsburg\, 25401\, United States
CATEGORIES:Fellowship
ATTACH;FMTTYPE=image/jpeg:https://trinitymartinsburg.org/wp-content/uploads/2020/05/37635-e1589226634374.jpg
GEO:39.4568997;-77.9652544
X-APPLE-STRUCTURED-LOCATION;VALUE=URI;X-ADDRESS=Trinity Episcopal Church 200 W. King Street Martinsburg 25401 United States;X-APPLE-RADIUS=500;X-TITLE=200 W. King Street:geo:-77.9652544,39.4568997
END:VEVENT
BEGIN:VEVENT
DTSTART;TZID=America/New_York:20210117T113000
DTEND;TZID=America/New_York:20210117T123000
DTSTAMP:20260420T014753
CREATED:20200511T214125Z
LAST-MODIFIED:20200511T214158Z
UID:10000139-1610883000-1610886600@trinitymartinsburg.org
SUMMARY:Fellowship Digital Time
DESCRIPTION:To join click here
URL:https://trinitymartinsburg.org/calendar-event/fellowship-digital-time/2021-01-17/
LOCATION:Trinity Episcopal Church\, 200 W. King Street\, Martinsburg\, 25401\, United States
CATEGORIES:Fellowship
ATTACH;FMTTYPE=image/jpeg:https://trinitymartinsburg.org/wp-content/uploads/2020/05/37635-e1589226634374.jpg
GEO:39.4568997;-77.9652544
X-APPLE-STRUCTURED-LOCATION;VALUE=URI;X-ADDRESS=Trinity Episcopal Church 200 W. King Street Martinsburg 25401 United States;X-APPLE-RADIUS=500;X-TITLE=200 W. King Street:geo:-77.9652544,39.4568997
END:VEVENT
BEGIN:VEVENT
DTSTART;TZID=America/New_York:20210110T113000
DTEND;TZID=America/New_York:20210110T123000
DTSTAMP:20260420T014753
CREATED:20200511T214125Z
LAST-MODIFIED:20200511T214158Z
UID:10000138-1610278200-1610281800@trinitymartinsburg.org
SUMMARY:Fellowship Digital Time
DESCRIPTION:To join click here
URL:https://trinitymartinsburg.org/calendar-event/fellowship-digital-time/2021-01-10/
LOCATION:Trinity Episcopal Church\, 200 W. King Street\, Martinsburg\, 25401\, United States
CATEGORIES:Fellowship
ATTACH;FMTTYPE=image/jpeg:https://trinitymartinsburg.org/wp-content/uploads/2020/05/37635-e1589226634374.jpg
GEO:39.4568997;-77.9652544
X-APPLE-STRUCTURED-LOCATION;VALUE=URI;X-ADDRESS=Trinity Episcopal Church 200 W. King Street Martinsburg 25401 United States;X-APPLE-RADIUS=500;X-TITLE=200 W. King Street:geo:-77.9652544,39.4568997
END:VEVENT
BEGIN:VEVENT
DTSTART;TZID=America/New_York:20210103T113000
DTEND;TZID=America/New_York:20210103T123000
DTSTAMP:20260420T014753
CREATED:20200511T214125Z
LAST-MODIFIED:20200511T214158Z
UID:10000137-1609673400-1609677000@trinitymartinsburg.org
SUMMARY:Fellowship Digital Time
DESCRIPTION:To join click here
URL:https://trinitymartinsburg.org/calendar-event/fellowship-digital-time/2021-01-03/
LOCATION:Trinity Episcopal Church\, 200 W. King Street\, Martinsburg\, 25401\, United States
CATEGORIES:Fellowship
ATTACH;FMTTYPE=image/jpeg:https://trinitymartinsburg.org/wp-content/uploads/2020/05/37635-e1589226634374.jpg
GEO:39.4568997;-77.9652544
X-APPLE-STRUCTURED-LOCATION;VALUE=URI;X-ADDRESS=Trinity Episcopal Church 200 W. King Street Martinsburg 25401 United States;X-APPLE-RADIUS=500;X-TITLE=200 W. King Street:geo:-77.9652544,39.4568997
END:VEVENT
BEGIN:VEVENT
DTSTART;TZID=America/New_York:20201227T113000
DTEND;TZID=America/New_York:20201227T123000
DTSTAMP:20260420T014753
CREATED:20200511T214125Z
LAST-MODIFIED:20200511T214158Z
UID:10000136-1609068600-1609072200@trinitymartinsburg.org
SUMMARY:Fellowship Digital Time
DESCRIPTION:To join click here
URL:https://trinitymartinsburg.org/calendar-event/fellowship-digital-time/2020-12-27/
LOCATION:Trinity Episcopal Church\, 200 W. King Street\, Martinsburg\, 25401\, United States
CATEGORIES:Fellowship
ATTACH;FMTTYPE=image/jpeg:https://trinitymartinsburg.org/wp-content/uploads/2020/05/37635-e1589226634374.jpg
GEO:39.4568997;-77.9652544
X-APPLE-STRUCTURED-LOCATION;VALUE=URI;X-ADDRESS=Trinity Episcopal Church 200 W. King Street Martinsburg 25401 United States;X-APPLE-RADIUS=500;X-TITLE=200 W. King Street:geo:-77.9652544,39.4568997
END:VEVENT
BEGIN:VEVENT
DTSTART;TZID=America/New_York:20201220T113000
DTEND;TZID=America/New_York:20201220T123000
DTSTAMP:20260420T014753
CREATED:20200511T214125Z
LAST-MODIFIED:20200511T214158Z
UID:10000135-1608463800-1608467400@trinitymartinsburg.org
SUMMARY:Fellowship Digital Time
DESCRIPTION:To join click here
URL:https://trinitymartinsburg.org/calendar-event/fellowship-digital-time/2020-12-20/
LOCATION:Trinity Episcopal Church\, 200 W. King Street\, Martinsburg\, 25401\, United States
CATEGORIES:Fellowship
ATTACH;FMTTYPE=image/jpeg:https://trinitymartinsburg.org/wp-content/uploads/2020/05/37635-e1589226634374.jpg
GEO:39.4568997;-77.9652544
X-APPLE-STRUCTURED-LOCATION;VALUE=URI;X-ADDRESS=Trinity Episcopal Church 200 W. King Street Martinsburg 25401 United States;X-APPLE-RADIUS=500;X-TITLE=200 W. King Street:geo:-77.9652544,39.4568997
END:VEVENT
BEGIN:VEVENT
DTSTART;TZID=America/New_York:20201213T113000
DTEND;TZID=America/New_York:20201213T123000
DTSTAMP:20260420T014753
CREATED:20200511T214125Z
LAST-MODIFIED:20200511T214158Z
UID:10000134-1607859000-1607862600@trinitymartinsburg.org
SUMMARY:Fellowship Digital Time
DESCRIPTION:To join click here
URL:https://trinitymartinsburg.org/calendar-event/fellowship-digital-time/2020-12-13/
LOCATION:Trinity Episcopal Church\, 200 W. King Street\, Martinsburg\, 25401\, United States
CATEGORIES:Fellowship
ATTACH;FMTTYPE=image/jpeg:https://trinitymartinsburg.org/wp-content/uploads/2020/05/37635-e1589226634374.jpg
GEO:39.4568997;-77.9652544
X-APPLE-STRUCTURED-LOCATION;VALUE=URI;X-ADDRESS=Trinity Episcopal Church 200 W. King Street Martinsburg 25401 United States;X-APPLE-RADIUS=500;X-TITLE=200 W. King Street:geo:-77.9652544,39.4568997
END:VEVENT
BEGIN:VEVENT
DTSTART;TZID=America/New_York:20201206T113000
DTEND;TZID=America/New_York:20201206T123000
DTSTAMP:20260420T014753
CREATED:20200511T214125Z
LAST-MODIFIED:20200511T214158Z
UID:10000133-1607254200-1607257800@trinitymartinsburg.org
SUMMARY:Fellowship Digital Time
DESCRIPTION:To join click here
URL:https://trinitymartinsburg.org/calendar-event/fellowship-digital-time/2020-12-06/
LOCATION:Trinity Episcopal Church\, 200 W. King Street\, Martinsburg\, 25401\, United States
CATEGORIES:Fellowship
ATTACH;FMTTYPE=image/jpeg:https://trinitymartinsburg.org/wp-content/uploads/2020/05/37635-e1589226634374.jpg
GEO:39.4568997;-77.9652544
X-APPLE-STRUCTURED-LOCATION;VALUE=URI;X-ADDRESS=Trinity Episcopal Church 200 W. King Street Martinsburg 25401 United States;X-APPLE-RADIUS=500;X-TITLE=200 W. King Street:geo:-77.9652544,39.4568997
END:VEVENT
BEGIN:VEVENT
DTSTART;TZID=America/New_York:20201129T113000
DTEND;TZID=America/New_York:20201129T123000
DTSTAMP:20260420T014753
CREATED:20200511T214125Z
LAST-MODIFIED:20200511T214158Z
UID:10000132-1606649400-1606653000@trinitymartinsburg.org
SUMMARY:Fellowship Digital Time
DESCRIPTION:To join click here
URL:https://trinitymartinsburg.org/calendar-event/fellowship-digital-time/2020-11-29/
LOCATION:Trinity Episcopal Church\, 200 W. King Street\, Martinsburg\, 25401\, United States
CATEGORIES:Fellowship
ATTACH;FMTTYPE=image/jpeg:https://trinitymartinsburg.org/wp-content/uploads/2020/05/37635-e1589226634374.jpg
GEO:39.4568997;-77.9652544
X-APPLE-STRUCTURED-LOCATION;VALUE=URI;X-ADDRESS=Trinity Episcopal Church 200 W. King Street Martinsburg 25401 United States;X-APPLE-RADIUS=500;X-TITLE=200 W. King Street:geo:-77.9652544,39.4568997
END:VEVENT
BEGIN:VEVENT
DTSTART;TZID=America/New_York:20201122T113000
DTEND;TZID=America/New_York:20201122T123000
DTSTAMP:20260420T014753
CREATED:20200511T214125Z
LAST-MODIFIED:20200511T214158Z
UID:10000131-1606044600-1606048200@trinitymartinsburg.org
SUMMARY:Fellowship Digital Time
DESCRIPTION:To join click here
URL:https://trinitymartinsburg.org/calendar-event/fellowship-digital-time/2020-11-22/
LOCATION:Trinity Episcopal Church\, 200 W. King Street\, Martinsburg\, 25401\, United States
CATEGORIES:Fellowship
ATTACH;FMTTYPE=image/jpeg:https://trinitymartinsburg.org/wp-content/uploads/2020/05/37635-e1589226634374.jpg
GEO:39.4568997;-77.9652544
X-APPLE-STRUCTURED-LOCATION;VALUE=URI;X-ADDRESS=Trinity Episcopal Church 200 W. King Street Martinsburg 25401 United States;X-APPLE-RADIUS=500;X-TITLE=200 W. King Street:geo:-77.9652544,39.4568997
END:VEVENT
BEGIN:VEVENT
DTSTART;TZID=America/New_York:20201115T113000
DTEND;TZID=America/New_York:20201115T123000
DTSTAMP:20260420T014753
CREATED:20200511T214125Z
LAST-MODIFIED:20200511T214158Z
UID:10000130-1605439800-1605443400@trinitymartinsburg.org
SUMMARY:Fellowship Digital Time
DESCRIPTION:To join click here
URL:https://trinitymartinsburg.org/calendar-event/fellowship-digital-time/2020-11-15/
LOCATION:Trinity Episcopal Church\, 200 W. King Street\, Martinsburg\, 25401\, United States
CATEGORIES:Fellowship
ATTACH;FMTTYPE=image/jpeg:https://trinitymartinsburg.org/wp-content/uploads/2020/05/37635-e1589226634374.jpg
GEO:39.4568997;-77.9652544
X-APPLE-STRUCTURED-LOCATION;VALUE=URI;X-ADDRESS=Trinity Episcopal Church 200 W. King Street Martinsburg 25401 United States;X-APPLE-RADIUS=500;X-TITLE=200 W. King Street:geo:-77.9652544,39.4568997
END:VEVENT
BEGIN:VEVENT
DTSTART;TZID=America/New_York:20201108T113000
DTEND;TZID=America/New_York:20201108T123000
DTSTAMP:20260420T014753
CREATED:20200511T214125Z
LAST-MODIFIED:20200511T214158Z
UID:10000129-1604835000-1604838600@trinitymartinsburg.org
SUMMARY:Fellowship Digital Time
DESCRIPTION:To join click here
URL:https://trinitymartinsburg.org/calendar-event/fellowship-digital-time/2020-11-08/
LOCATION:Trinity Episcopal Church\, 200 W. King Street\, Martinsburg\, 25401\, United States
CATEGORIES:Fellowship
ATTACH;FMTTYPE=image/jpeg:https://trinitymartinsburg.org/wp-content/uploads/2020/05/37635-e1589226634374.jpg
GEO:39.4568997;-77.9652544
X-APPLE-STRUCTURED-LOCATION;VALUE=URI;X-ADDRESS=Trinity Episcopal Church 200 W. King Street Martinsburg 25401 United States;X-APPLE-RADIUS=500;X-TITLE=200 W. King Street:geo:-77.9652544,39.4568997
END:VEVENT
BEGIN:VEVENT
DTSTART;TZID=America/New_York:20201101T113000
DTEND;TZID=America/New_York:20201101T123000
DTSTAMP:20260420T014753
CREATED:20200511T214125Z
LAST-MODIFIED:20200511T214158Z
UID:10000128-1604230200-1604233800@trinitymartinsburg.org
SUMMARY:Fellowship Digital Time
DESCRIPTION:To join click here
URL:https://trinitymartinsburg.org/calendar-event/fellowship-digital-time/2020-11-01/
LOCATION:Trinity Episcopal Church\, 200 W. King Street\, Martinsburg\, 25401\, United States
CATEGORIES:Fellowship
ATTACH;FMTTYPE=image/jpeg:https://trinitymartinsburg.org/wp-content/uploads/2020/05/37635-e1589226634374.jpg
GEO:39.4568997;-77.9652544
X-APPLE-STRUCTURED-LOCATION;VALUE=URI;X-ADDRESS=Trinity Episcopal Church 200 W. King Street Martinsburg 25401 United States;X-APPLE-RADIUS=500;X-TITLE=200 W. King Street:geo:-77.9652544,39.4568997
END:VEVENT
BEGIN:VEVENT
DTSTART;TZID=America/New_York:20201025T113000
DTEND;TZID=America/New_York:20201025T123000
DTSTAMP:20260420T014753
CREATED:20200511T214125Z
LAST-MODIFIED:20200511T214158Z
UID:10000127-1603625400-1603629000@trinitymartinsburg.org
SUMMARY:Fellowship Digital Time
DESCRIPTION:To join click here
URL:https://trinitymartinsburg.org/calendar-event/fellowship-digital-time/2020-10-25/
LOCATION:Trinity Episcopal Church\, 200 W. King Street\, Martinsburg\, 25401\, United States
CATEGORIES:Fellowship
ATTACH;FMTTYPE=image/jpeg:https://trinitymartinsburg.org/wp-content/uploads/2020/05/37635-e1589226634374.jpg
GEO:39.4568997;-77.9652544
X-APPLE-STRUCTURED-LOCATION;VALUE=URI;X-ADDRESS=Trinity Episcopal Church 200 W. King Street Martinsburg 25401 United States;X-APPLE-RADIUS=500;X-TITLE=200 W. King Street:geo:-77.9652544,39.4568997
END:VEVENT
BEGIN:VEVENT
DTSTART;TZID=America/New_York:20201018T113000
DTEND;TZID=America/New_York:20201018T123000
DTSTAMP:20260420T014753
CREATED:20200511T214125Z
LAST-MODIFIED:20200511T214158Z
UID:10000126-1603020600-1603024200@trinitymartinsburg.org
SUMMARY:Fellowship Digital Time
DESCRIPTION:To join click here
URL:https://trinitymartinsburg.org/calendar-event/fellowship-digital-time/2020-10-18/
LOCATION:Trinity Episcopal Church\, 200 W. King Street\, Martinsburg\, 25401\, United States
CATEGORIES:Fellowship
ATTACH;FMTTYPE=image/jpeg:https://trinitymartinsburg.org/wp-content/uploads/2020/05/37635-e1589226634374.jpg
GEO:39.4568997;-77.9652544
X-APPLE-STRUCTURED-LOCATION;VALUE=URI;X-ADDRESS=Trinity Episcopal Church 200 W. King Street Martinsburg 25401 United States;X-APPLE-RADIUS=500;X-TITLE=200 W. King Street:geo:-77.9652544,39.4568997
END:VEVENT
BEGIN:VEVENT
DTSTART;TZID=America/New_York:20201011T113000
DTEND;TZID=America/New_York:20201011T123000
DTSTAMP:20260420T014753
CREATED:20200511T214125Z
LAST-MODIFIED:20200511T214158Z
UID:10000125-1602415800-1602419400@trinitymartinsburg.org
SUMMARY:Fellowship Digital Time
DESCRIPTION:To join click here
URL:https://trinitymartinsburg.org/calendar-event/fellowship-digital-time/2020-10-11/
LOCATION:Trinity Episcopal Church\, 200 W. King Street\, Martinsburg\, 25401\, United States
CATEGORIES:Fellowship
ATTACH;FMTTYPE=image/jpeg:https://trinitymartinsburg.org/wp-content/uploads/2020/05/37635-e1589226634374.jpg
GEO:39.4568997;-77.9652544
X-APPLE-STRUCTURED-LOCATION;VALUE=URI;X-ADDRESS=Trinity Episcopal Church 200 W. King Street Martinsburg 25401 United States;X-APPLE-RADIUS=500;X-TITLE=200 W. King Street:geo:-77.9652544,39.4568997
END:VEVENT
BEGIN:VEVENT
DTSTART;TZID=America/New_York:20201004T113000
DTEND;TZID=America/New_York:20201004T123000
DTSTAMP:20260420T014753
CREATED:20200511T214125Z
LAST-MODIFIED:20200511T214158Z
UID:10000124-1601811000-1601814600@trinitymartinsburg.org
SUMMARY:Fellowship Digital Time
DESCRIPTION:To join click here
URL:https://trinitymartinsburg.org/calendar-event/fellowship-digital-time/2020-10-04/
LOCATION:Trinity Episcopal Church\, 200 W. King Street\, Martinsburg\, 25401\, United States
CATEGORIES:Fellowship
ATTACH;FMTTYPE=image/jpeg:https://trinitymartinsburg.org/wp-content/uploads/2020/05/37635-e1589226634374.jpg
GEO:39.4568997;-77.9652544
X-APPLE-STRUCTURED-LOCATION;VALUE=URI;X-ADDRESS=Trinity Episcopal Church 200 W. King Street Martinsburg 25401 United States;X-APPLE-RADIUS=500;X-TITLE=200 W. King Street:geo:-77.9652544,39.4568997
END:VEVENT
BEGIN:VEVENT
DTSTART;TZID=America/New_York:20200927T113000
DTEND;TZID=America/New_York:20200927T123000
DTSTAMP:20260420T014753
CREATED:20200511T214125Z
LAST-MODIFIED:20200511T214158Z
UID:10000123-1601206200-1601209800@trinitymartinsburg.org
SUMMARY:Fellowship Digital Time
DESCRIPTION:To join click here
URL:https://trinitymartinsburg.org/calendar-event/fellowship-digital-time/2020-09-27/
LOCATION:Trinity Episcopal Church\, 200 W. King Street\, Martinsburg\, 25401\, United States
CATEGORIES:Fellowship
ATTACH;FMTTYPE=image/jpeg:https://trinitymartinsburg.org/wp-content/uploads/2020/05/37635-e1589226634374.jpg
GEO:39.4568997;-77.9652544
X-APPLE-STRUCTURED-LOCATION;VALUE=URI;X-ADDRESS=Trinity Episcopal Church 200 W. King Street Martinsburg 25401 United States;X-APPLE-RADIUS=500;X-TITLE=200 W. King Street:geo:-77.9652544,39.4568997
END:VEVENT
BEGIN:VEVENT
DTSTART;TZID=America/New_York:20200920T113000
DTEND;TZID=America/New_York:20200920T123000
DTSTAMP:20260420T014753
CREATED:20200511T214125Z
LAST-MODIFIED:20200511T214158Z
UID:10000122-1600601400-1600605000@trinitymartinsburg.org
SUMMARY:Fellowship Digital Time
DESCRIPTION:To join click here
URL:https://trinitymartinsburg.org/calendar-event/fellowship-digital-time/2020-09-20/
LOCATION:Trinity Episcopal Church\, 200 W. King Street\, Martinsburg\, 25401\, United States
CATEGORIES:Fellowship
ATTACH;FMTTYPE=image/jpeg:https://trinitymartinsburg.org/wp-content/uploads/2020/05/37635-e1589226634374.jpg
GEO:39.4568997;-77.9652544
X-APPLE-STRUCTURED-LOCATION;VALUE=URI;X-ADDRESS=Trinity Episcopal Church 200 W. King Street Martinsburg 25401 United States;X-APPLE-RADIUS=500;X-TITLE=200 W. King Street:geo:-77.9652544,39.4568997
END:VEVENT
BEGIN:VEVENT
DTSTART;TZID=America/New_York:20200913T113000
DTEND;TZID=America/New_York:20200913T123000
DTSTAMP:20260420T014753
CREATED:20200511T214125Z
LAST-MODIFIED:20200511T214158Z
UID:10000121-1599996600-1600000200@trinitymartinsburg.org
SUMMARY:Fellowship Digital Time
DESCRIPTION:To join click here
URL:https://trinitymartinsburg.org/calendar-event/fellowship-digital-time/2020-09-13/
LOCATION:Trinity Episcopal Church\, 200 W. King Street\, Martinsburg\, 25401\, United States
CATEGORIES:Fellowship
ATTACH;FMTTYPE=image/jpeg:https://trinitymartinsburg.org/wp-content/uploads/2020/05/37635-e1589226634374.jpg
GEO:39.4568997;-77.9652544
X-APPLE-STRUCTURED-LOCATION;VALUE=URI;X-ADDRESS=Trinity Episcopal Church 200 W. King Street Martinsburg 25401 United States;X-APPLE-RADIUS=500;X-TITLE=200 W. King Street:geo:-77.9652544,39.4568997
END:VEVENT
BEGIN:VEVENT
DTSTART;TZID=America/New_York:20200906T113000
DTEND;TZID=America/New_York:20200906T123000
DTSTAMP:20260420T014753
CREATED:20200511T214125Z
LAST-MODIFIED:20200511T214158Z
UID:10000120-1599391800-1599395400@trinitymartinsburg.org
SUMMARY:Fellowship Digital Time
DESCRIPTION:To join click here
URL:https://trinitymartinsburg.org/calendar-event/fellowship-digital-time/2020-09-06/
LOCATION:Trinity Episcopal Church\, 200 W. King Street\, Martinsburg\, 25401\, United States
CATEGORIES:Fellowship
ATTACH;FMTTYPE=image/jpeg:https://trinitymartinsburg.org/wp-content/uploads/2020/05/37635-e1589226634374.jpg
GEO:39.4568997;-77.9652544
X-APPLE-STRUCTURED-LOCATION;VALUE=URI;X-ADDRESS=Trinity Episcopal Church 200 W. King Street Martinsburg 25401 United States;X-APPLE-RADIUS=500;X-TITLE=200 W. King Street:geo:-77.9652544,39.4568997
END:VEVENT
BEGIN:VEVENT
DTSTART;TZID=America/New_York:20200830T113000
DTEND;TZID=America/New_York:20200830T123000
DTSTAMP:20260420T014753
CREATED:20200511T214125Z
LAST-MODIFIED:20200511T214158Z
UID:10000119-1598787000-1598790600@trinitymartinsburg.org
SUMMARY:Fellowship Digital Time
DESCRIPTION:To join click here
URL:https://trinitymartinsburg.org/calendar-event/fellowship-digital-time/2020-08-30/
LOCATION:Trinity Episcopal Church\, 200 W. King Street\, Martinsburg\, 25401\, United States
CATEGORIES:Fellowship
ATTACH;FMTTYPE=image/jpeg:https://trinitymartinsburg.org/wp-content/uploads/2020/05/37635-e1589226634374.jpg
GEO:39.4568997;-77.9652544
X-APPLE-STRUCTURED-LOCATION;VALUE=URI;X-ADDRESS=Trinity Episcopal Church 200 W. King Street Martinsburg 25401 United States;X-APPLE-RADIUS=500;X-TITLE=200 W. King Street:geo:-77.9652544,39.4568997
END:VEVENT
BEGIN:VEVENT
DTSTART;TZID=America/New_York:20200823T113000
DTEND;TZID=America/New_York:20200823T123000
DTSTAMP:20260420T014753
CREATED:20200511T214125Z
LAST-MODIFIED:20200511T214158Z
UID:10000118-1598182200-1598185800@trinitymartinsburg.org
SUMMARY:Fellowship Digital Time
DESCRIPTION:To join click here
URL:https://trinitymartinsburg.org/calendar-event/fellowship-digital-time/2020-08-23/
LOCATION:Trinity Episcopal Church\, 200 W. King Street\, Martinsburg\, 25401\, United States
CATEGORIES:Fellowship
ATTACH;FMTTYPE=image/jpeg:https://trinitymartinsburg.org/wp-content/uploads/2020/05/37635-e1589226634374.jpg
GEO:39.4568997;-77.9652544
X-APPLE-STRUCTURED-LOCATION;VALUE=URI;X-ADDRESS=Trinity Episcopal Church 200 W. King Street Martinsburg 25401 United States;X-APPLE-RADIUS=500;X-TITLE=200 W. King Street:geo:-77.9652544,39.4568997
END:VEVENT
BEGIN:VEVENT
DTSTART;TZID=America/New_York:20200816T113000
DTEND;TZID=America/New_York:20200816T123000
DTSTAMP:20260420T014753
CREATED:20200511T214125Z
LAST-MODIFIED:20200511T214158Z
UID:10000117-1597577400-1597581000@trinitymartinsburg.org
SUMMARY:Fellowship Digital Time
DESCRIPTION:To join click here
URL:https://trinitymartinsburg.org/calendar-event/fellowship-digital-time/2020-08-16/
LOCATION:Trinity Episcopal Church\, 200 W. King Street\, Martinsburg\, 25401\, United States
CATEGORIES:Fellowship
ATTACH;FMTTYPE=image/jpeg:https://trinitymartinsburg.org/wp-content/uploads/2020/05/37635-e1589226634374.jpg
GEO:39.4568997;-77.9652544
X-APPLE-STRUCTURED-LOCATION;VALUE=URI;X-ADDRESS=Trinity Episcopal Church 200 W. King Street Martinsburg 25401 United States;X-APPLE-RADIUS=500;X-TITLE=200 W. King Street:geo:-77.9652544,39.4568997
END:VEVENT
BEGIN:VEVENT
DTSTART;TZID=America/New_York:20200809T113000
DTEND;TZID=America/New_York:20200809T123000
DTSTAMP:20260420T014753
CREATED:20200511T214125Z
LAST-MODIFIED:20200511T214158Z
UID:10000116-1596972600-1596976200@trinitymartinsburg.org
SUMMARY:Fellowship Digital Time
DESCRIPTION:To join click here
URL:https://trinitymartinsburg.org/calendar-event/fellowship-digital-time/2020-08-09/
LOCATION:Trinity Episcopal Church\, 200 W. King Street\, Martinsburg\, 25401\, United States
CATEGORIES:Fellowship
ATTACH;FMTTYPE=image/jpeg:https://trinitymartinsburg.org/wp-content/uploads/2020/05/37635-e1589226634374.jpg
GEO:39.4568997;-77.9652544
X-APPLE-STRUCTURED-LOCATION;VALUE=URI;X-ADDRESS=Trinity Episcopal Church 200 W. King Street Martinsburg 25401 United States;X-APPLE-RADIUS=500;X-TITLE=200 W. King Street:geo:-77.9652544,39.4568997
END:VEVENT
END:VCALENDAR