BEGIN:VCALENDAR
VERSION:2.0
PRODID:-//Trinity Episcopal Church - ECPv6.15.20//NONSGML v1.0//EN
CALSCALE:GREGORIAN
METHOD:PUBLISH
X-ORIGINAL-URL:https://trinitymartinsburg.org
X-WR-CALDESC:Events for Trinity Episcopal Church
REFRESH-INTERVAL;VALUE=DURATION:PT1H
X-Robots-Tag:noindex
X-PUBLISHED-TTL:PT1H
BEGIN:VTIMEZONE
TZID:America/New_York
BEGIN:DAYLIGHT
TZOFFSETFROM:-0500
TZOFFSETTO:-0400
TZNAME:EDT
DTSTART:20180311T070000
END:DAYLIGHT
BEGIN:STANDARD
TZOFFSETFROM:-0400
TZOFFSETTO:-0500
TZNAME:EST
DTSTART:20181104T060000
END:STANDARD
BEGIN:DAYLIGHT
TZOFFSETFROM:-0500
TZOFFSETTO:-0400
TZNAME:EDT
DTSTART:20190310T070000
END:DAYLIGHT
BEGIN:STANDARD
TZOFFSETFROM:-0400
TZOFFSETTO:-0500
TZNAME:EST
DTSTART:20191103T060000
END:STANDARD
BEGIN:DAYLIGHT
TZOFFSETFROM:-0500
TZOFFSETTO:-0400
TZNAME:EDT
DTSTART:20200308T070000
END:DAYLIGHT
BEGIN:STANDARD
TZOFFSETFROM:-0400
TZOFFSETTO:-0500
TZNAME:EST
DTSTART:20201101T060000
END:STANDARD
BEGIN:DAYLIGHT
TZOFFSETFROM:-0500
TZOFFSETTO:-0400
TZNAME:EDT
DTSTART:20210314T070000
END:DAYLIGHT
BEGIN:STANDARD
TZOFFSETFROM:-0400
TZOFFSETTO:-0500
TZNAME:EST
DTSTART:20211107T060000
END:STANDARD
END:VTIMEZONE
BEGIN:VEVENT
DTSTART;TZID=America/New_York:20200607T160000
DTEND;TZID=America/New_York:20200607T170000
DTSTAMP:20260422T121310
CREATED:20190830T001148Z
LAST-MODIFIED:20201016T161008Z
UID:10000040-1591545600-1591549200@trinitymartinsburg.org
SUMMARY:Adult Digital Christian Formation
DESCRIPTION:Click here for information and to join.
URL:https://trinitymartinsburg.org/calendar-event/christian-formation-2019-11-03/2020-06-07/
LOCATION:Trinity Episcopal Church\, 200 W. King Street\, Martinsburg\, 25401\, United States
CATEGORIES:Formation,Worship
ATTACH;FMTTYPE=image/png:https://trinitymartinsburg.org/wp-content/uploads/2020/05/Sunday-Shool2-e1589226336319.png
GEO:39.4568997;-77.9652544
X-APPLE-STRUCTURED-LOCATION;VALUE=URI;X-ADDRESS=Trinity Episcopal Church 200 W. King Street Martinsburg 25401 United States;X-APPLE-RADIUS=500;X-TITLE=200 W. King Street:geo:-77.9652544,39.4568997
END:VEVENT
BEGIN:VEVENT
DTSTART;TZID=America/New_York:20200531T160000
DTEND;TZID=America/New_York:20200531T170000
DTSTAMP:20260422T121310
CREATED:20190830T001148Z
LAST-MODIFIED:20201016T161008Z
UID:10000039-1590940800-1590944400@trinitymartinsburg.org
SUMMARY:Adult Digital Christian Formation
DESCRIPTION:Click here for information and to join.
URL:https://trinitymartinsburg.org/calendar-event/christian-formation-2019-11-03/2020-05-31/
LOCATION:Trinity Episcopal Church\, 200 W. King Street\, Martinsburg\, 25401\, United States
CATEGORIES:Formation,Worship
ATTACH;FMTTYPE=image/png:https://trinitymartinsburg.org/wp-content/uploads/2020/05/Sunday-Shool2-e1589226336319.png
GEO:39.4568997;-77.9652544
X-APPLE-STRUCTURED-LOCATION;VALUE=URI;X-ADDRESS=Trinity Episcopal Church 200 W. King Street Martinsburg 25401 United States;X-APPLE-RADIUS=500;X-TITLE=200 W. King Street:geo:-77.9652544,39.4568997
END:VEVENT
BEGIN:VEVENT
DTSTART;TZID=America/New_York:20200524T160000
DTEND;TZID=America/New_York:20200524T170000
DTSTAMP:20260422T121310
CREATED:20190830T001148Z
LAST-MODIFIED:20201016T161008Z
UID:10000038-1590336000-1590339600@trinitymartinsburg.org
SUMMARY:Adult Digital Christian Formation
DESCRIPTION:Click here for information and to join.
URL:https://trinitymartinsburg.org/calendar-event/christian-formation-2019-11-03/2020-05-24/
LOCATION:Trinity Episcopal Church\, 200 W. King Street\, Martinsburg\, 25401\, United States
CATEGORIES:Formation,Worship
ATTACH;FMTTYPE=image/png:https://trinitymartinsburg.org/wp-content/uploads/2020/05/Sunday-Shool2-e1589226336319.png
GEO:39.4568997;-77.9652544
X-APPLE-STRUCTURED-LOCATION;VALUE=URI;X-ADDRESS=Trinity Episcopal Church 200 W. King Street Martinsburg 25401 United States;X-APPLE-RADIUS=500;X-TITLE=200 W. King Street:geo:-77.9652544,39.4568997
END:VEVENT
BEGIN:VEVENT
DTSTART;TZID=America/New_York:20200517T160000
DTEND;TZID=America/New_York:20200517T170000
DTSTAMP:20260422T121310
CREATED:20190830T001148Z
LAST-MODIFIED:20201016T161008Z
UID:10000037-1589731200-1589734800@trinitymartinsburg.org
SUMMARY:Adult Digital Christian Formation
DESCRIPTION:Click here for information and to join.
URL:https://trinitymartinsburg.org/calendar-event/christian-formation-2019-11-03/2020-05-17/
LOCATION:Trinity Episcopal Church\, 200 W. King Street\, Martinsburg\, 25401\, United States
CATEGORIES:Formation,Worship
ATTACH;FMTTYPE=image/png:https://trinitymartinsburg.org/wp-content/uploads/2020/05/Sunday-Shool2-e1589226336319.png
GEO:39.4568997;-77.9652544
X-APPLE-STRUCTURED-LOCATION;VALUE=URI;X-ADDRESS=Trinity Episcopal Church 200 W. King Street Martinsburg 25401 United States;X-APPLE-RADIUS=500;X-TITLE=200 W. King Street:geo:-77.9652544,39.4568997
END:VEVENT
BEGIN:VEVENT
DTSTART;TZID=America/New_York:20200510T160000
DTEND;TZID=America/New_York:20200510T170000
DTSTAMP:20260422T121310
CREATED:20190830T001148Z
LAST-MODIFIED:20201016T161008Z
UID:10000036-1589126400-1589130000@trinitymartinsburg.org
SUMMARY:Adult Digital Christian Formation
DESCRIPTION:Click here for information and to join.
URL:https://trinitymartinsburg.org/calendar-event/christian-formation-2019-11-03/2020-05-10/
LOCATION:Trinity Episcopal Church\, 200 W. King Street\, Martinsburg\, 25401\, United States
CATEGORIES:Formation,Worship
ATTACH;FMTTYPE=image/png:https://trinitymartinsburg.org/wp-content/uploads/2020/05/Sunday-Shool2-e1589226336319.png
GEO:39.4568997;-77.9652544
X-APPLE-STRUCTURED-LOCATION;VALUE=URI;X-ADDRESS=Trinity Episcopal Church 200 W. King Street Martinsburg 25401 United States;X-APPLE-RADIUS=500;X-TITLE=200 W. King Street:geo:-77.9652544,39.4568997
END:VEVENT
BEGIN:VEVENT
DTSTART;TZID=America/New_York:20200503T160000
DTEND;TZID=America/New_York:20200503T170000
DTSTAMP:20260422T121310
CREATED:20190830T001148Z
LAST-MODIFIED:20201016T161008Z
UID:10000035-1588521600-1588525200@trinitymartinsburg.org
SUMMARY:Adult Digital Christian Formation
DESCRIPTION:Click here for information and to join.
URL:https://trinitymartinsburg.org/calendar-event/christian-formation-2019-11-03/2020-05-03/
LOCATION:Trinity Episcopal Church\, 200 W. King Street\, Martinsburg\, 25401\, United States
CATEGORIES:Formation,Worship
ATTACH;FMTTYPE=image/png:https://trinitymartinsburg.org/wp-content/uploads/2020/05/Sunday-Shool2-e1589226336319.png
GEO:39.4568997;-77.9652544
X-APPLE-STRUCTURED-LOCATION;VALUE=URI;X-ADDRESS=Trinity Episcopal Church 200 W. King Street Martinsburg 25401 United States;X-APPLE-RADIUS=500;X-TITLE=200 W. King Street:geo:-77.9652544,39.4568997
END:VEVENT
BEGIN:VEVENT
DTSTART;TZID=America/New_York:20200426T160000
DTEND;TZID=America/New_York:20200426T170000
DTSTAMP:20260422T121310
CREATED:20190830T001148Z
LAST-MODIFIED:20201016T161008Z
UID:10000034-1587916800-1587920400@trinitymartinsburg.org
SUMMARY:Adult Digital Christian Formation
DESCRIPTION:Click here for information and to join.
URL:https://trinitymartinsburg.org/calendar-event/christian-formation-2019-11-03/2020-04-26/
LOCATION:Trinity Episcopal Church\, 200 W. King Street\, Martinsburg\, 25401\, United States
CATEGORIES:Formation,Worship
ATTACH;FMTTYPE=image/png:https://trinitymartinsburg.org/wp-content/uploads/2020/05/Sunday-Shool2-e1589226336319.png
GEO:39.4568997;-77.9652544
X-APPLE-STRUCTURED-LOCATION;VALUE=URI;X-ADDRESS=Trinity Episcopal Church 200 W. King Street Martinsburg 25401 United States;X-APPLE-RADIUS=500;X-TITLE=200 W. King Street:geo:-77.9652544,39.4568997
END:VEVENT
BEGIN:VEVENT
DTSTART;TZID=America/New_York:20200419T160000
DTEND;TZID=America/New_York:20200419T170000
DTSTAMP:20260422T121310
CREATED:20190830T001148Z
LAST-MODIFIED:20201016T161008Z
UID:10000033-1587312000-1587315600@trinitymartinsburg.org
SUMMARY:Adult Digital Christian Formation
DESCRIPTION:Click here for information and to join.
URL:https://trinitymartinsburg.org/calendar-event/christian-formation-2019-11-03/2020-04-19/
LOCATION:Trinity Episcopal Church\, 200 W. King Street\, Martinsburg\, 25401\, United States
CATEGORIES:Formation,Worship
ATTACH;FMTTYPE=image/png:https://trinitymartinsburg.org/wp-content/uploads/2020/05/Sunday-Shool2-e1589226336319.png
GEO:39.4568997;-77.9652544
X-APPLE-STRUCTURED-LOCATION;VALUE=URI;X-ADDRESS=Trinity Episcopal Church 200 W. King Street Martinsburg 25401 United States;X-APPLE-RADIUS=500;X-TITLE=200 W. King Street:geo:-77.9652544,39.4568997
END:VEVENT
BEGIN:VEVENT
DTSTART;TZID=America/New_York:20200412T160000
DTEND;TZID=America/New_York:20200412T170000
DTSTAMP:20260422T121310
CREATED:20190830T001148Z
LAST-MODIFIED:20201016T161008Z
UID:10000032-1586707200-1586710800@trinitymartinsburg.org
SUMMARY:Adult Digital Christian Formation
DESCRIPTION:Click here for information and to join.
URL:https://trinitymartinsburg.org/calendar-event/christian-formation-2019-11-03/2020-04-12/
LOCATION:Trinity Episcopal Church\, 200 W. King Street\, Martinsburg\, 25401\, United States
CATEGORIES:Formation,Worship
ATTACH;FMTTYPE=image/png:https://trinitymartinsburg.org/wp-content/uploads/2020/05/Sunday-Shool2-e1589226336319.png
GEO:39.4568997;-77.9652544
X-APPLE-STRUCTURED-LOCATION;VALUE=URI;X-ADDRESS=Trinity Episcopal Church 200 W. King Street Martinsburg 25401 United States;X-APPLE-RADIUS=500;X-TITLE=200 W. King Street:geo:-77.9652544,39.4568997
END:VEVENT
BEGIN:VEVENT
DTSTART;TZID=America/New_York:20200405T160000
DTEND;TZID=America/New_York:20200405T170000
DTSTAMP:20260422T121310
CREATED:20190830T001148Z
LAST-MODIFIED:20201016T161008Z
UID:10000031-1586102400-1586106000@trinitymartinsburg.org
SUMMARY:Adult Digital Christian Formation
DESCRIPTION:Click here for information and to join.
URL:https://trinitymartinsburg.org/calendar-event/christian-formation-2019-11-03/2020-04-05/
LOCATION:Trinity Episcopal Church\, 200 W. King Street\, Martinsburg\, 25401\, United States
CATEGORIES:Formation,Worship
ATTACH;FMTTYPE=image/png:https://trinitymartinsburg.org/wp-content/uploads/2020/05/Sunday-Shool2-e1589226336319.png
GEO:39.4568997;-77.9652544
X-APPLE-STRUCTURED-LOCATION;VALUE=URI;X-ADDRESS=Trinity Episcopal Church 200 W. King Street Martinsburg 25401 United States;X-APPLE-RADIUS=500;X-TITLE=200 W. King Street:geo:-77.9652544,39.4568997
END:VEVENT
BEGIN:VEVENT
DTSTART;TZID=America/New_York:20200329T160000
DTEND;TZID=America/New_York:20200329T170000
DTSTAMP:20260422T121310
CREATED:20190830T001148Z
LAST-MODIFIED:20201016T161008Z
UID:10000030-1585497600-1585501200@trinitymartinsburg.org
SUMMARY:Adult Digital Christian Formation
DESCRIPTION:Click here for information and to join.
URL:https://trinitymartinsburg.org/calendar-event/christian-formation-2019-11-03/2020-03-29/
LOCATION:Trinity Episcopal Church\, 200 W. King Street\, Martinsburg\, 25401\, United States
CATEGORIES:Formation,Worship
ATTACH;FMTTYPE=image/png:https://trinitymartinsburg.org/wp-content/uploads/2020/05/Sunday-Shool2-e1589226336319.png
GEO:39.4568997;-77.9652544
X-APPLE-STRUCTURED-LOCATION;VALUE=URI;X-ADDRESS=Trinity Episcopal Church 200 W. King Street Martinsburg 25401 United States;X-APPLE-RADIUS=500;X-TITLE=200 W. King Street:geo:-77.9652544,39.4568997
END:VEVENT
BEGIN:VEVENT
DTSTART;TZID=America/New_York:20200322T160000
DTEND;TZID=America/New_York:20200322T170000
DTSTAMP:20260422T121310
CREATED:20190830T001148Z
LAST-MODIFIED:20201016T161008Z
UID:10000029-1584892800-1584896400@trinitymartinsburg.org
SUMMARY:Adult Digital Christian Formation
DESCRIPTION:Click here for information and to join.
URL:https://trinitymartinsburg.org/calendar-event/christian-formation-2019-11-03/2020-03-22/
LOCATION:Trinity Episcopal Church\, 200 W. King Street\, Martinsburg\, 25401\, United States
CATEGORIES:Formation,Worship
ATTACH;FMTTYPE=image/png:https://trinitymartinsburg.org/wp-content/uploads/2020/05/Sunday-Shool2-e1589226336319.png
GEO:39.4568997;-77.9652544
X-APPLE-STRUCTURED-LOCATION;VALUE=URI;X-ADDRESS=Trinity Episcopal Church 200 W. King Street Martinsburg 25401 United States;X-APPLE-RADIUS=500;X-TITLE=200 W. King Street:geo:-77.9652544,39.4568997
END:VEVENT
BEGIN:VEVENT
DTSTART;TZID=America/New_York:20200315T160000
DTEND;TZID=America/New_York:20200315T170000
DTSTAMP:20260422T121310
CREATED:20190830T001148Z
LAST-MODIFIED:20201016T161008Z
UID:10000028-1584288000-1584291600@trinitymartinsburg.org
SUMMARY:Adult Digital Christian Formation
DESCRIPTION:Click here for information and to join.
URL:https://trinitymartinsburg.org/calendar-event/christian-formation-2019-11-03/2020-03-15/
LOCATION:Trinity Episcopal Church\, 200 W. King Street\, Martinsburg\, 25401\, United States
CATEGORIES:Formation,Worship
ATTACH;FMTTYPE=image/png:https://trinitymartinsburg.org/wp-content/uploads/2020/05/Sunday-Shool2-e1589226336319.png
GEO:39.4568997;-77.9652544
X-APPLE-STRUCTURED-LOCATION;VALUE=URI;X-ADDRESS=Trinity Episcopal Church 200 W. King Street Martinsburg 25401 United States;X-APPLE-RADIUS=500;X-TITLE=200 W. King Street:geo:-77.9652544,39.4568997
END:VEVENT
BEGIN:VEVENT
DTSTART;TZID=America/New_York:20200308T160000
DTEND;TZID=America/New_York:20200308T170000
DTSTAMP:20260422T121310
CREATED:20190830T001148Z
LAST-MODIFIED:20201016T161008Z
UID:10000027-1583683200-1583686800@trinitymartinsburg.org
SUMMARY:Adult Digital Christian Formation
DESCRIPTION:Click here for information and to join.
URL:https://trinitymartinsburg.org/calendar-event/christian-formation-2019-11-03/2020-03-08/
LOCATION:Trinity Episcopal Church\, 200 W. King Street\, Martinsburg\, 25401\, United States
CATEGORIES:Formation,Worship
ATTACH;FMTTYPE=image/png:https://trinitymartinsburg.org/wp-content/uploads/2020/05/Sunday-Shool2-e1589226336319.png
GEO:39.4568997;-77.9652544
X-APPLE-STRUCTURED-LOCATION;VALUE=URI;X-ADDRESS=Trinity Episcopal Church 200 W. King Street Martinsburg 25401 United States;X-APPLE-RADIUS=500;X-TITLE=200 W. King Street:geo:-77.9652544,39.4568997
END:VEVENT
BEGIN:VEVENT
DTSTART;TZID=America/New_York:20200301T160000
DTEND;TZID=America/New_York:20200301T170000
DTSTAMP:20260422T121310
CREATED:20190830T001148Z
LAST-MODIFIED:20201016T161008Z
UID:10000026-1583078400-1583082000@trinitymartinsburg.org
SUMMARY:Adult Digital Christian Formation
DESCRIPTION:Click here for information and to join.
URL:https://trinitymartinsburg.org/calendar-event/christian-formation-2019-11-03/2020-03-01/
LOCATION:Trinity Episcopal Church\, 200 W. King Street\, Martinsburg\, 25401\, United States
CATEGORIES:Formation,Worship
ATTACH;FMTTYPE=image/png:https://trinitymartinsburg.org/wp-content/uploads/2020/05/Sunday-Shool2-e1589226336319.png
GEO:39.4568997;-77.9652544
X-APPLE-STRUCTURED-LOCATION;VALUE=URI;X-ADDRESS=Trinity Episcopal Church 200 W. King Street Martinsburg 25401 United States;X-APPLE-RADIUS=500;X-TITLE=200 W. King Street:geo:-77.9652544,39.4568997
END:VEVENT
BEGIN:VEVENT
DTSTART;TZID=America/New_York:20200223T160000
DTEND;TZID=America/New_York:20200223T170000
DTSTAMP:20260422T121310
CREATED:20190830T001148Z
LAST-MODIFIED:20201016T161008Z
UID:10000025-1582473600-1582477200@trinitymartinsburg.org
SUMMARY:Adult Digital Christian Formation
DESCRIPTION:Click here for information and to join.
URL:https://trinitymartinsburg.org/calendar-event/christian-formation-2019-11-03/2020-02-23/
LOCATION:Trinity Episcopal Church\, 200 W. King Street\, Martinsburg\, 25401\, United States
CATEGORIES:Formation,Worship
ATTACH;FMTTYPE=image/png:https://trinitymartinsburg.org/wp-content/uploads/2020/05/Sunday-Shool2-e1589226336319.png
GEO:39.4568997;-77.9652544
X-APPLE-STRUCTURED-LOCATION;VALUE=URI;X-ADDRESS=Trinity Episcopal Church 200 W. King Street Martinsburg 25401 United States;X-APPLE-RADIUS=500;X-TITLE=200 W. King Street:geo:-77.9652544,39.4568997
END:VEVENT
BEGIN:VEVENT
DTSTART;TZID=America/New_York:20200216T160000
DTEND;TZID=America/New_York:20200216T170000
DTSTAMP:20260422T121310
CREATED:20190830T001148Z
LAST-MODIFIED:20201016T161008Z
UID:10000024-1581868800-1581872400@trinitymartinsburg.org
SUMMARY:Adult Digital Christian Formation
DESCRIPTION:Click here for information and to join.
URL:https://trinitymartinsburg.org/calendar-event/christian-formation-2019-11-03/2020-02-16/
LOCATION:Trinity Episcopal Church\, 200 W. King Street\, Martinsburg\, 25401\, United States
CATEGORIES:Formation,Worship
ATTACH;FMTTYPE=image/png:https://trinitymartinsburg.org/wp-content/uploads/2020/05/Sunday-Shool2-e1589226336319.png
GEO:39.4568997;-77.9652544
X-APPLE-STRUCTURED-LOCATION;VALUE=URI;X-ADDRESS=Trinity Episcopal Church 200 W. King Street Martinsburg 25401 United States;X-APPLE-RADIUS=500;X-TITLE=200 W. King Street:geo:-77.9652544,39.4568997
END:VEVENT
BEGIN:VEVENT
DTSTART;TZID=America/New_York:20200209T160000
DTEND;TZID=America/New_York:20200209T170000
DTSTAMP:20260422T121310
CREATED:20190830T001148Z
LAST-MODIFIED:20201016T161008Z
UID:10000023-1581264000-1581267600@trinitymartinsburg.org
SUMMARY:Adult Digital Christian Formation
DESCRIPTION:Click here for information and to join.
URL:https://trinitymartinsburg.org/calendar-event/christian-formation-2019-11-03/2020-02-09/
LOCATION:Trinity Episcopal Church\, 200 W. King Street\, Martinsburg\, 25401\, United States
CATEGORIES:Formation,Worship
ATTACH;FMTTYPE=image/png:https://trinitymartinsburg.org/wp-content/uploads/2020/05/Sunday-Shool2-e1589226336319.png
GEO:39.4568997;-77.9652544
X-APPLE-STRUCTURED-LOCATION;VALUE=URI;X-ADDRESS=Trinity Episcopal Church 200 W. King Street Martinsburg 25401 United States;X-APPLE-RADIUS=500;X-TITLE=200 W. King Street:geo:-77.9652544,39.4568997
END:VEVENT
BEGIN:VEVENT
DTSTART;TZID=America/New_York:20200202T160000
DTEND;TZID=America/New_York:20200202T170000
DTSTAMP:20260422T121310
CREATED:20190830T001148Z
LAST-MODIFIED:20201016T161008Z
UID:10000022-1580659200-1580662800@trinitymartinsburg.org
SUMMARY:Adult Digital Christian Formation
DESCRIPTION:Click here for information and to join.
URL:https://trinitymartinsburg.org/calendar-event/christian-formation-2019-11-03/2020-02-02/
LOCATION:Trinity Episcopal Church\, 200 W. King Street\, Martinsburg\, 25401\, United States
CATEGORIES:Formation,Worship
ATTACH;FMTTYPE=image/png:https://trinitymartinsburg.org/wp-content/uploads/2020/05/Sunday-Shool2-e1589226336319.png
GEO:39.4568997;-77.9652544
X-APPLE-STRUCTURED-LOCATION;VALUE=URI;X-ADDRESS=Trinity Episcopal Church 200 W. King Street Martinsburg 25401 United States;X-APPLE-RADIUS=500;X-TITLE=200 W. King Street:geo:-77.9652544,39.4568997
END:VEVENT
BEGIN:VEVENT
DTSTART;TZID=America/New_York:20200126T160000
DTEND;TZID=America/New_York:20200126T170000
DTSTAMP:20260422T121310
CREATED:20190830T001148Z
LAST-MODIFIED:20201016T161008Z
UID:10000021-1580054400-1580058000@trinitymartinsburg.org
SUMMARY:Adult Digital Christian Formation
DESCRIPTION:Click here for information and to join.
URL:https://trinitymartinsburg.org/calendar-event/christian-formation-2019-11-03/2020-01-26/
LOCATION:Trinity Episcopal Church\, 200 W. King Street\, Martinsburg\, 25401\, United States
CATEGORIES:Formation,Worship
ATTACH;FMTTYPE=image/png:https://trinitymartinsburg.org/wp-content/uploads/2020/05/Sunday-Shool2-e1589226336319.png
GEO:39.4568997;-77.9652544
X-APPLE-STRUCTURED-LOCATION;VALUE=URI;X-ADDRESS=Trinity Episcopal Church 200 W. King Street Martinsburg 25401 United States;X-APPLE-RADIUS=500;X-TITLE=200 W. King Street:geo:-77.9652544,39.4568997
END:VEVENT
BEGIN:VEVENT
DTSTART;TZID=America/New_York:20200119T160000
DTEND;TZID=America/New_York:20200119T170000
DTSTAMP:20260422T121310
CREATED:20190830T001148Z
LAST-MODIFIED:20201016T161008Z
UID:10000020-1579449600-1579453200@trinitymartinsburg.org
SUMMARY:Adult Digital Christian Formation
DESCRIPTION:Click here for information and to join.
URL:https://trinitymartinsburg.org/calendar-event/christian-formation-2019-11-03/2020-01-19/
LOCATION:Trinity Episcopal Church\, 200 W. King Street\, Martinsburg\, 25401\, United States
CATEGORIES:Formation,Worship
ATTACH;FMTTYPE=image/png:https://trinitymartinsburg.org/wp-content/uploads/2020/05/Sunday-Shool2-e1589226336319.png
GEO:39.4568997;-77.9652544
X-APPLE-STRUCTURED-LOCATION;VALUE=URI;X-ADDRESS=Trinity Episcopal Church 200 W. King Street Martinsburg 25401 United States;X-APPLE-RADIUS=500;X-TITLE=200 W. King Street:geo:-77.9652544,39.4568997
END:VEVENT
BEGIN:VEVENT
DTSTART;TZID=America/New_York:20200112T160000
DTEND;TZID=America/New_York:20200112T170000
DTSTAMP:20260422T121310
CREATED:20190830T001148Z
LAST-MODIFIED:20201016T161008Z
UID:10000019-1578844800-1578848400@trinitymartinsburg.org
SUMMARY:Adult Digital Christian Formation
DESCRIPTION:Click here for information and to join.
URL:https://trinitymartinsburg.org/calendar-event/christian-formation-2019-11-03/2020-01-12/
LOCATION:Trinity Episcopal Church\, 200 W. King Street\, Martinsburg\, 25401\, United States
CATEGORIES:Formation,Worship
ATTACH;FMTTYPE=image/png:https://trinitymartinsburg.org/wp-content/uploads/2020/05/Sunday-Shool2-e1589226336319.png
GEO:39.4568997;-77.9652544
X-APPLE-STRUCTURED-LOCATION;VALUE=URI;X-ADDRESS=Trinity Episcopal Church 200 W. King Street Martinsburg 25401 United States;X-APPLE-RADIUS=500;X-TITLE=200 W. King Street:geo:-77.9652544,39.4568997
END:VEVENT
BEGIN:VEVENT
DTSTART;TZID=America/New_York:20200105T160000
DTEND;TZID=America/New_York:20200105T170000
DTSTAMP:20260422T121310
CREATED:20190830T001148Z
LAST-MODIFIED:20201016T161008Z
UID:10000018-1578240000-1578243600@trinitymartinsburg.org
SUMMARY:Adult Digital Christian Formation
DESCRIPTION:Click here for information and to join.
URL:https://trinitymartinsburg.org/calendar-event/christian-formation-2019-11-03/2020-01-05/
LOCATION:Trinity Episcopal Church\, 200 W. King Street\, Martinsburg\, 25401\, United States
CATEGORIES:Formation,Worship
ATTACH;FMTTYPE=image/png:https://trinitymartinsburg.org/wp-content/uploads/2020/05/Sunday-Shool2-e1589226336319.png
GEO:39.4568997;-77.9652544
X-APPLE-STRUCTURED-LOCATION;VALUE=URI;X-ADDRESS=Trinity Episcopal Church 200 W. King Street Martinsburg 25401 United States;X-APPLE-RADIUS=500;X-TITLE=200 W. King Street:geo:-77.9652544,39.4568997
END:VEVENT
BEGIN:VEVENT
DTSTART;TZID=America/New_York:20191229T160000
DTEND;TZID=America/New_York:20191229T170000
DTSTAMP:20260422T121310
CREATED:20190830T001148Z
LAST-MODIFIED:20201016T161008Z
UID:10000017-1577635200-1577638800@trinitymartinsburg.org
SUMMARY:Adult Digital Christian Formation
DESCRIPTION:Click here for information and to join.
URL:https://trinitymartinsburg.org/calendar-event/christian-formation-2019-11-03/2019-12-29/
LOCATION:Trinity Episcopal Church\, 200 W. King Street\, Martinsburg\, 25401\, United States
CATEGORIES:Formation,Worship
ATTACH;FMTTYPE=image/png:https://trinitymartinsburg.org/wp-content/uploads/2020/05/Sunday-Shool2-e1589226336319.png
GEO:39.4568997;-77.9652544
X-APPLE-STRUCTURED-LOCATION;VALUE=URI;X-ADDRESS=Trinity Episcopal Church 200 W. King Street Martinsburg 25401 United States;X-APPLE-RADIUS=500;X-TITLE=200 W. King Street:geo:-77.9652544,39.4568997
END:VEVENT
BEGIN:VEVENT
DTSTART;TZID=America/New_York:20191222T160000
DTEND;TZID=America/New_York:20191222T170000
DTSTAMP:20260422T121310
CREATED:20190830T001148Z
LAST-MODIFIED:20201016T161008Z
UID:10000016-1577030400-1577034000@trinitymartinsburg.org
SUMMARY:Adult Digital Christian Formation
DESCRIPTION:Click here for information and to join.
URL:https://trinitymartinsburg.org/calendar-event/christian-formation-2019-11-03/2019-12-22/
LOCATION:Trinity Episcopal Church\, 200 W. King Street\, Martinsburg\, 25401\, United States
CATEGORIES:Formation,Worship
ATTACH;FMTTYPE=image/png:https://trinitymartinsburg.org/wp-content/uploads/2020/05/Sunday-Shool2-e1589226336319.png
GEO:39.4568997;-77.9652544
X-APPLE-STRUCTURED-LOCATION;VALUE=URI;X-ADDRESS=Trinity Episcopal Church 200 W. King Street Martinsburg 25401 United States;X-APPLE-RADIUS=500;X-TITLE=200 W. King Street:geo:-77.9652544,39.4568997
END:VEVENT
BEGIN:VEVENT
DTSTART;TZID=America/New_York:20191215T160000
DTEND;TZID=America/New_York:20191215T170000
DTSTAMP:20260422T121310
CREATED:20190830T001148Z
LAST-MODIFIED:20201016T161008Z
UID:10000015-1576425600-1576429200@trinitymartinsburg.org
SUMMARY:Adult Digital Christian Formation
DESCRIPTION:Click here for information and to join.
URL:https://trinitymartinsburg.org/calendar-event/christian-formation-2019-11-03/2019-12-15/
LOCATION:Trinity Episcopal Church\, 200 W. King Street\, Martinsburg\, 25401\, United States
CATEGORIES:Formation,Worship
ATTACH;FMTTYPE=image/png:https://trinitymartinsburg.org/wp-content/uploads/2020/05/Sunday-Shool2-e1589226336319.png
GEO:39.4568997;-77.9652544
X-APPLE-STRUCTURED-LOCATION;VALUE=URI;X-ADDRESS=Trinity Episcopal Church 200 W. King Street Martinsburg 25401 United States;X-APPLE-RADIUS=500;X-TITLE=200 W. King Street:geo:-77.9652544,39.4568997
END:VEVENT
BEGIN:VEVENT
DTSTART;TZID=America/New_York:20191208T160000
DTEND;TZID=America/New_York:20191208T170000
DTSTAMP:20260422T121310
CREATED:20190830T001148Z
LAST-MODIFIED:20201016T161008Z
UID:10000014-1575820800-1575824400@trinitymartinsburg.org
SUMMARY:Adult Digital Christian Formation
DESCRIPTION:Click here for information and to join.
URL:https://trinitymartinsburg.org/calendar-event/christian-formation-2019-11-03/2019-12-08/
LOCATION:Trinity Episcopal Church\, 200 W. King Street\, Martinsburg\, 25401\, United States
CATEGORIES:Formation,Worship
ATTACH;FMTTYPE=image/png:https://trinitymartinsburg.org/wp-content/uploads/2020/05/Sunday-Shool2-e1589226336319.png
GEO:39.4568997;-77.9652544
X-APPLE-STRUCTURED-LOCATION;VALUE=URI;X-ADDRESS=Trinity Episcopal Church 200 W. King Street Martinsburg 25401 United States;X-APPLE-RADIUS=500;X-TITLE=200 W. King Street:geo:-77.9652544,39.4568997
END:VEVENT
BEGIN:VEVENT
DTSTART;TZID=America/New_York:20191201T160000
DTEND;TZID=America/New_York:20191201T170000
DTSTAMP:20260422T121310
CREATED:20190830T001148Z
LAST-MODIFIED:20201016T161008Z
UID:10000013-1575216000-1575219600@trinitymartinsburg.org
SUMMARY:Adult Digital Christian Formation
DESCRIPTION:Click here for information and to join.
URL:https://trinitymartinsburg.org/calendar-event/christian-formation-2019-11-03/2019-12-01/
LOCATION:Trinity Episcopal Church\, 200 W. King Street\, Martinsburg\, 25401\, United States
CATEGORIES:Formation,Worship
ATTACH;FMTTYPE=image/png:https://trinitymartinsburg.org/wp-content/uploads/2020/05/Sunday-Shool2-e1589226336319.png
GEO:39.4568997;-77.9652544
X-APPLE-STRUCTURED-LOCATION;VALUE=URI;X-ADDRESS=Trinity Episcopal Church 200 W. King Street Martinsburg 25401 United States;X-APPLE-RADIUS=500;X-TITLE=200 W. King Street:geo:-77.9652544,39.4568997
END:VEVENT
BEGIN:VEVENT
DTSTART;TZID=America/New_York:20191124T160000
DTEND;TZID=America/New_York:20191124T170000
DTSTAMP:20260422T121310
CREATED:20190830T001148Z
LAST-MODIFIED:20201016T161008Z
UID:10000012-1574611200-1574614800@trinitymartinsburg.org
SUMMARY:Adult Digital Christian Formation
DESCRIPTION:Click here for information and to join.
URL:https://trinitymartinsburg.org/calendar-event/christian-formation-2019-11-03/2019-11-24/
LOCATION:Trinity Episcopal Church\, 200 W. King Street\, Martinsburg\, 25401\, United States
CATEGORIES:Formation,Worship
ATTACH;FMTTYPE=image/png:https://trinitymartinsburg.org/wp-content/uploads/2020/05/Sunday-Shool2-e1589226336319.png
GEO:39.4568997;-77.9652544
X-APPLE-STRUCTURED-LOCATION;VALUE=URI;X-ADDRESS=Trinity Episcopal Church 200 W. King Street Martinsburg 25401 United States;X-APPLE-RADIUS=500;X-TITLE=200 W. King Street:geo:-77.9652544,39.4568997
END:VEVENT
BEGIN:VEVENT
DTSTART;TZID=America/New_York:20191117T160000
DTEND;TZID=America/New_York:20191117T170000
DTSTAMP:20260422T121310
CREATED:20190830T001148Z
LAST-MODIFIED:20201016T161008Z
UID:10000011-1574006400-1574010000@trinitymartinsburg.org
SUMMARY:Adult Digital Christian Formation
DESCRIPTION:Click here for information and to join.
URL:https://trinitymartinsburg.org/calendar-event/christian-formation-2019-11-03/2019-11-17/
LOCATION:Trinity Episcopal Church\, 200 W. King Street\, Martinsburg\, 25401\, United States
CATEGORIES:Formation,Worship
ATTACH;FMTTYPE=image/png:https://trinitymartinsburg.org/wp-content/uploads/2020/05/Sunday-Shool2-e1589226336319.png
GEO:39.4568997;-77.9652544
X-APPLE-STRUCTURED-LOCATION;VALUE=URI;X-ADDRESS=Trinity Episcopal Church 200 W. King Street Martinsburg 25401 United States;X-APPLE-RADIUS=500;X-TITLE=200 W. King Street:geo:-77.9652544,39.4568997
END:VEVENT
END:VCALENDAR