BEGIN:VCALENDAR
VERSION:2.0
PRODID:-//Trinity Episcopal Church - ECPv6.15.20//NONSGML v1.0//EN
CALSCALE:GREGORIAN
METHOD:PUBLISH
X-WR-CALNAME:Trinity Episcopal Church
X-ORIGINAL-URL:https://trinitymartinsburg.org
X-WR-CALDESC:Events for Trinity Episcopal Church
REFRESH-INTERVAL;VALUE=DURATION:PT1H
X-Robots-Tag:noindex
X-PUBLISHED-TTL:PT1H
BEGIN:VTIMEZONE
TZID:America/New_York
BEGIN:DAYLIGHT
TZOFFSETFROM:-0500
TZOFFSETTO:-0400
TZNAME:EDT
DTSTART:20180311T070000
END:DAYLIGHT
BEGIN:STANDARD
TZOFFSETFROM:-0400
TZOFFSETTO:-0500
TZNAME:EST
DTSTART:20181104T060000
END:STANDARD
BEGIN:DAYLIGHT
TZOFFSETFROM:-0500
TZOFFSETTO:-0400
TZNAME:EDT
DTSTART:20190310T070000
END:DAYLIGHT
BEGIN:STANDARD
TZOFFSETFROM:-0400
TZOFFSETTO:-0500
TZNAME:EST
DTSTART:20191103T060000
END:STANDARD
BEGIN:DAYLIGHT
TZOFFSETFROM:-0500
TZOFFSETTO:-0400
TZNAME:EDT
DTSTART:20200308T070000
END:DAYLIGHT
BEGIN:STANDARD
TZOFFSETFROM:-0400
TZOFFSETTO:-0500
TZNAME:EST
DTSTART:20201101T060000
END:STANDARD
END:VTIMEZONE
BEGIN:VEVENT
DTSTART;TZID=America/New_York:20191215T093000
DTEND;TZID=America/New_York:20191215T100000
DTSTAMP:20260422T174830
CREATED:20190830T022204Z
LAST-MODIFIED:20191008T175332Z
UID:10000078-1576402200-1576404000@trinitymartinsburg.org
SUMMARY:Choir Rehearsal
DESCRIPTION:
URL:https://trinitymartinsburg.org/calendar-event/choir-rehearsal-2/2019-12-15/
LOCATION:Trinity Episcopal Church\, 200 W. King Street\, Martinsburg\, 25401\, United States
CATEGORIES:Worship
ATTACH;FMTTYPE=image/png:https://trinitymartinsburg.org/wp-content/uploads/2019/08/Music-Notes-1.png
GEO:39.4568997;-77.9652544
X-APPLE-STRUCTURED-LOCATION;VALUE=URI;X-ADDRESS=Trinity Episcopal Church 200 W. King Street Martinsburg 25401 United States;X-APPLE-RADIUS=500;X-TITLE=200 W. King Street:geo:-77.9652544,39.4568997
END:VEVENT
BEGIN:VEVENT
DTSTART;TZID=America/New_York:20191212T190000
DTEND;TZID=America/New_York:20191212T200000
DTSTAMP:20260422T174830
CREATED:20190830T021303Z
LAST-MODIFIED:20190830T021900Z
UID:10000060-1576177200-1576180800@trinitymartinsburg.org
SUMMARY:Choir Rehearsal
DESCRIPTION:
URL:https://trinitymartinsburg.org/calendar-event/choir-rehearsal/2019-12-12/
LOCATION:Trinity Episcopal Church\, 200 W. King Street\, Martinsburg\, 25401\, United States
CATEGORIES:Worship
ATTACH;FMTTYPE=image/png:https://trinitymartinsburg.org/wp-content/uploads/2019/08/Music-Notes-1.png
GEO:39.4568997;-77.9652544
X-APPLE-STRUCTURED-LOCATION;VALUE=URI;X-ADDRESS=Trinity Episcopal Church 200 W. King Street Martinsburg 25401 United States;X-APPLE-RADIUS=500;X-TITLE=200 W. King Street:geo:-77.9652544,39.4568997
END:VEVENT
BEGIN:VEVENT
DTSTART;TZID=America/New_York:20191208T160000
DTEND;TZID=America/New_York:20191208T170000
DTSTAMP:20260422T174830
CREATED:20190830T001148Z
LAST-MODIFIED:20201016T161008Z
UID:10000014-1575820800-1575824400@trinitymartinsburg.org
SUMMARY:Adult Digital Christian Formation
DESCRIPTION:Click here for information and to join.
URL:https://trinitymartinsburg.org/calendar-event/christian-formation-2019-11-03/2019-12-08/
LOCATION:Trinity Episcopal Church\, 200 W. King Street\, Martinsburg\, 25401\, United States
CATEGORIES:Formation,Worship
ATTACH;FMTTYPE=image/png:https://trinitymartinsburg.org/wp-content/uploads/2020/05/Sunday-Shool2-e1589226336319.png
GEO:39.4568997;-77.9652544
X-APPLE-STRUCTURED-LOCATION;VALUE=URI;X-ADDRESS=Trinity Episcopal Church 200 W. King Street Martinsburg 25401 United States;X-APPLE-RADIUS=500;X-TITLE=200 W. King Street:geo:-77.9652544,39.4568997
END:VEVENT
BEGIN:VEVENT
DTSTART;TZID=America/New_York:20191208T093000
DTEND;TZID=America/New_York:20191208T100000
DTSTAMP:20260422T174830
CREATED:20190830T022204Z
LAST-MODIFIED:20191008T175332Z
UID:10000077-1575797400-1575799200@trinitymartinsburg.org
SUMMARY:Choir Rehearsal
DESCRIPTION:
URL:https://trinitymartinsburg.org/calendar-event/choir-rehearsal-2/2019-12-08/
LOCATION:Trinity Episcopal Church\, 200 W. King Street\, Martinsburg\, 25401\, United States
CATEGORIES:Worship
ATTACH;FMTTYPE=image/png:https://trinitymartinsburg.org/wp-content/uploads/2019/08/Music-Notes-1.png
GEO:39.4568997;-77.9652544
X-APPLE-STRUCTURED-LOCATION;VALUE=URI;X-ADDRESS=Trinity Episcopal Church 200 W. King Street Martinsburg 25401 United States;X-APPLE-RADIUS=500;X-TITLE=200 W. King Street:geo:-77.9652544,39.4568997
END:VEVENT
BEGIN:VEVENT
DTSTART;TZID=America/New_York:20191205T190000
DTEND;TZID=America/New_York:20191205T200000
DTSTAMP:20260422T174830
CREATED:20190830T021303Z
LAST-MODIFIED:20190830T021900Z
UID:10000059-1575572400-1575576000@trinitymartinsburg.org
SUMMARY:Choir Rehearsal
DESCRIPTION:
URL:https://trinitymartinsburg.org/calendar-event/choir-rehearsal/2019-12-05/
LOCATION:Trinity Episcopal Church\, 200 W. King Street\, Martinsburg\, 25401\, United States
CATEGORIES:Worship
ATTACH;FMTTYPE=image/png:https://trinitymartinsburg.org/wp-content/uploads/2019/08/Music-Notes-1.png
GEO:39.4568997;-77.9652544
X-APPLE-STRUCTURED-LOCATION;VALUE=URI;X-ADDRESS=Trinity Episcopal Church 200 W. King Street Martinsburg 25401 United States;X-APPLE-RADIUS=500;X-TITLE=200 W. King Street:geo:-77.9652544,39.4568997
END:VEVENT
BEGIN:VEVENT
DTSTART;TZID=America/New_York:20191201T160000
DTEND;TZID=America/New_York:20191201T170000
DTSTAMP:20260422T174830
CREATED:20190830T001148Z
LAST-MODIFIED:20201016T161008Z
UID:10000013-1575216000-1575219600@trinitymartinsburg.org
SUMMARY:Adult Digital Christian Formation
DESCRIPTION:Click here for information and to join.
URL:https://trinitymartinsburg.org/calendar-event/christian-formation-2019-11-03/2019-12-01/
LOCATION:Trinity Episcopal Church\, 200 W. King Street\, Martinsburg\, 25401\, United States
CATEGORIES:Formation,Worship
ATTACH;FMTTYPE=image/png:https://trinitymartinsburg.org/wp-content/uploads/2020/05/Sunday-Shool2-e1589226336319.png
GEO:39.4568997;-77.9652544
X-APPLE-STRUCTURED-LOCATION;VALUE=URI;X-ADDRESS=Trinity Episcopal Church 200 W. King Street Martinsburg 25401 United States;X-APPLE-RADIUS=500;X-TITLE=200 W. King Street:geo:-77.9652544,39.4568997
END:VEVENT
BEGIN:VEVENT
DTSTART;TZID=America/New_York:20191201T093000
DTEND;TZID=America/New_York:20191201T100000
DTSTAMP:20260422T174830
CREATED:20190830T022204Z
LAST-MODIFIED:20191008T175332Z
UID:10000076-1575192600-1575194400@trinitymartinsburg.org
SUMMARY:Choir Rehearsal
DESCRIPTION:
URL:https://trinitymartinsburg.org/calendar-event/choir-rehearsal-2/2019-12-01/
LOCATION:Trinity Episcopal Church\, 200 W. King Street\, Martinsburg\, 25401\, United States
CATEGORIES:Worship
ATTACH;FMTTYPE=image/png:https://trinitymartinsburg.org/wp-content/uploads/2019/08/Music-Notes-1.png
GEO:39.4568997;-77.9652544
X-APPLE-STRUCTURED-LOCATION;VALUE=URI;X-ADDRESS=Trinity Episcopal Church 200 W. King Street Martinsburg 25401 United States;X-APPLE-RADIUS=500;X-TITLE=200 W. King Street:geo:-77.9652544,39.4568997
END:VEVENT
BEGIN:VEVENT
DTSTART;TZID=America/New_York:20191128T190000
DTEND;TZID=America/New_York:20191128T200000
DTSTAMP:20260422T174830
CREATED:20190830T021303Z
LAST-MODIFIED:20190830T021900Z
UID:10000058-1574967600-1574971200@trinitymartinsburg.org
SUMMARY:Choir Rehearsal
DESCRIPTION:
URL:https://trinitymartinsburg.org/calendar-event/choir-rehearsal/2019-11-28/
LOCATION:Trinity Episcopal Church\, 200 W. King Street\, Martinsburg\, 25401\, United States
CATEGORIES:Worship
ATTACH;FMTTYPE=image/png:https://trinitymartinsburg.org/wp-content/uploads/2019/08/Music-Notes-1.png
GEO:39.4568997;-77.9652544
X-APPLE-STRUCTURED-LOCATION;VALUE=URI;X-ADDRESS=Trinity Episcopal Church 200 W. King Street Martinsburg 25401 United States;X-APPLE-RADIUS=500;X-TITLE=200 W. King Street:geo:-77.9652544,39.4568997
END:VEVENT
BEGIN:VEVENT
DTSTART;TZID=America/New_York:20191125T140000
DTEND;TZID=America/New_York:20191125T153000
DTSTAMP:20260422T174830
CREATED:20190830T020922Z
LAST-MODIFIED:20200516T114553Z
UID:10000043-1574690400-1574695800@trinitymartinsburg.org
SUMMARY:Saint Mary's Guild
DESCRIPTION:Digital meeting click here
URL:https://trinitymartinsburg.org/calendar-event/saint-marys-guild/2019-11-25/
LOCATION:Trinity Episcopal Church\, 200 W. King Street\, Martinsburg\, 25401\, United States
CATEGORIES:Fellowship
ATTACH;FMTTYPE=image/jpeg:https://trinitymartinsburg.org/wp-content/uploads/2019/08/380172-e1571863950421.jpg
GEO:39.4568997;-77.9652544
X-APPLE-STRUCTURED-LOCATION;VALUE=URI;X-ADDRESS=Trinity Episcopal Church 200 W. King Street Martinsburg 25401 United States;X-APPLE-RADIUS=500;X-TITLE=200 W. King Street:geo:-77.9652544,39.4568997
END:VEVENT
BEGIN:VEVENT
DTSTART;TZID=America/New_York:20191124T160000
DTEND;TZID=America/New_York:20191124T170000
DTSTAMP:20260422T174830
CREATED:20190830T001148Z
LAST-MODIFIED:20201016T161008Z
UID:10000012-1574611200-1574614800@trinitymartinsburg.org
SUMMARY:Adult Digital Christian Formation
DESCRIPTION:Click here for information and to join.
URL:https://trinitymartinsburg.org/calendar-event/christian-formation-2019-11-03/2019-11-24/
LOCATION:Trinity Episcopal Church\, 200 W. King Street\, Martinsburg\, 25401\, United States
CATEGORIES:Formation,Worship
ATTACH;FMTTYPE=image/png:https://trinitymartinsburg.org/wp-content/uploads/2020/05/Sunday-Shool2-e1589226336319.png
GEO:39.4568997;-77.9652544
X-APPLE-STRUCTURED-LOCATION;VALUE=URI;X-ADDRESS=Trinity Episcopal Church 200 W. King Street Martinsburg 25401 United States;X-APPLE-RADIUS=500;X-TITLE=200 W. King Street:geo:-77.9652544,39.4568997
END:VEVENT
BEGIN:VEVENT
DTSTART;TZID=America/New_York:20191124T093000
DTEND;TZID=America/New_York:20191124T100000
DTSTAMP:20260422T174830
CREATED:20190830T022204Z
LAST-MODIFIED:20191008T175332Z
UID:10000075-1574587800-1574589600@trinitymartinsburg.org
SUMMARY:Choir Rehearsal
DESCRIPTION:
URL:https://trinitymartinsburg.org/calendar-event/choir-rehearsal-2/2019-11-24/
LOCATION:Trinity Episcopal Church\, 200 W. King Street\, Martinsburg\, 25401\, United States
CATEGORIES:Worship
ATTACH;FMTTYPE=image/png:https://trinitymartinsburg.org/wp-content/uploads/2019/08/Music-Notes-1.png
GEO:39.4568997;-77.9652544
X-APPLE-STRUCTURED-LOCATION;VALUE=URI;X-ADDRESS=Trinity Episcopal Church 200 W. King Street Martinsburg 25401 United States;X-APPLE-RADIUS=500;X-TITLE=200 W. King Street:geo:-77.9652544,39.4568997
END:VEVENT
BEGIN:VEVENT
DTSTART;TZID=America/New_York:20191124T084500
DTEND;TZID=America/New_York:20191124T100000
DTSTAMP:20260422T174830
CREATED:20191023T210051Z
LAST-MODIFIED:20191023T210051Z
UID:10000095-1574585100-1574589600@trinitymartinsburg.org
SUMMARY:Trinity’s Annual Business Meeting
DESCRIPTION:Discussion will include the budget\, election of vestry members and trustee officers\, bylaws and the future of Trinity.\nThe meeting will start after the 8:00 am service. Brunch will be potluck\, so please bring a breakfast type of dish for all to share and enjoy.
URL:https://trinitymartinsburg.org/calendar-event/trinitys-annual-business-meeting/
LOCATION:Trinity Episcopal Church\, 200 W. King Street\, Martinsburg\, 25401\, United States
CATEGORIES:Meetings
ATTACH;FMTTYPE=image/jpeg:https://trinitymartinsburg.org/wp-content/uploads/2019/10/1458118-e1571864364612.jpg
GEO:39.4568997;-77.9652544
X-APPLE-STRUCTURED-LOCATION;VALUE=URI;X-ADDRESS=Trinity Episcopal Church 200 W. King Street Martinsburg 25401 United States;X-APPLE-RADIUS=500;X-TITLE=200 W. King Street:geo:-77.9652544,39.4568997
END:VEVENT
BEGIN:VEVENT
DTSTART;TZID=America/New_York:20191121T190000
DTEND;TZID=America/New_York:20191121T200000
DTSTAMP:20260422T174830
CREATED:20190830T021303Z
LAST-MODIFIED:20190830T021900Z
UID:10000057-1574362800-1574366400@trinitymartinsburg.org
SUMMARY:Choir Rehearsal
DESCRIPTION:
URL:https://trinitymartinsburg.org/calendar-event/choir-rehearsal/2019-11-21/
LOCATION:Trinity Episcopal Church\, 200 W. King Street\, Martinsburg\, 25401\, United States
CATEGORIES:Worship
ATTACH;FMTTYPE=image/png:https://trinitymartinsburg.org/wp-content/uploads/2019/08/Music-Notes-1.png
GEO:39.4568997;-77.9652544
X-APPLE-STRUCTURED-LOCATION;VALUE=URI;X-ADDRESS=Trinity Episcopal Church 200 W. King Street Martinsburg 25401 United States;X-APPLE-RADIUS=500;X-TITLE=200 W. King Street:geo:-77.9652544,39.4568997
END:VEVENT
BEGIN:VEVENT
DTSTART;TZID=America/New_York:20191118T180000
DTEND;TZID=America/New_York:20191118T200000
DTSTAMP:20260422T174830
CREATED:20190905T005243Z
LAST-MODIFIED:20200516T113438Z
UID:10000084-1574100000-1574107200@trinitymartinsburg.org
SUMMARY:Vestry  Meeting
DESCRIPTION:Meeting of lay members elected by the congregation to run the business of a church. parish. \nTo digitally join click here
URL:https://trinitymartinsburg.org/calendar-event/vestry-meeting/2019-11-18/
LOCATION:Trinity Episcopal Church Library
CATEGORIES:Meetings
ATTACH;FMTTYPE=image/png:https://trinitymartinsburg.org/wp-content/uploads/2019/09/meeting.png
END:VEVENT
BEGIN:VEVENT
DTSTART;TZID=America/New_York:20191117T160000
DTEND;TZID=America/New_York:20191117T170000
DTSTAMP:20260422T174830
CREATED:20190830T001148Z
LAST-MODIFIED:20201016T161008Z
UID:10000011-1574006400-1574010000@trinitymartinsburg.org
SUMMARY:Adult Digital Christian Formation
DESCRIPTION:Click here for information and to join.
URL:https://trinitymartinsburg.org/calendar-event/christian-formation-2019-11-03/2019-11-17/
LOCATION:Trinity Episcopal Church\, 200 W. King Street\, Martinsburg\, 25401\, United States
CATEGORIES:Formation,Worship
ATTACH;FMTTYPE=image/png:https://trinitymartinsburg.org/wp-content/uploads/2020/05/Sunday-Shool2-e1589226336319.png
GEO:39.4568997;-77.9652544
X-APPLE-STRUCTURED-LOCATION;VALUE=URI;X-ADDRESS=Trinity Episcopal Church 200 W. King Street Martinsburg 25401 United States;X-APPLE-RADIUS=500;X-TITLE=200 W. King Street:geo:-77.9652544,39.4568997
END:VEVENT
BEGIN:VEVENT
DTSTART;TZID=America/New_York:20191117T093000
DTEND;TZID=America/New_York:20191117T100000
DTSTAMP:20260422T174830
CREATED:20190830T022204Z
LAST-MODIFIED:20191008T175332Z
UID:10000074-1573983000-1573984800@trinitymartinsburg.org
SUMMARY:Choir Rehearsal
DESCRIPTION:
URL:https://trinitymartinsburg.org/calendar-event/choir-rehearsal-2/2019-11-17/
LOCATION:Trinity Episcopal Church\, 200 W. King Street\, Martinsburg\, 25401\, United States
CATEGORIES:Worship
ATTACH;FMTTYPE=image/png:https://trinitymartinsburg.org/wp-content/uploads/2019/08/Music-Notes-1.png
GEO:39.4568997;-77.9652544
X-APPLE-STRUCTURED-LOCATION;VALUE=URI;X-ADDRESS=Trinity Episcopal Church 200 W. King Street Martinsburg 25401 United States;X-APPLE-RADIUS=500;X-TITLE=200 W. King Street:geo:-77.9652544,39.4568997
END:VEVENT
BEGIN:VEVENT
DTSTART;TZID=America/New_York:20191114T190000
DTEND;TZID=America/New_York:20191114T200000
DTSTAMP:20260422T174830
CREATED:20190830T021303Z
LAST-MODIFIED:20190830T021900Z
UID:10000056-1573758000-1573761600@trinitymartinsburg.org
SUMMARY:Choir Rehearsal
DESCRIPTION:
URL:https://trinitymartinsburg.org/calendar-event/choir-rehearsal/2019-11-14/
LOCATION:Trinity Episcopal Church\, 200 W. King Street\, Martinsburg\, 25401\, United States
CATEGORIES:Worship
ATTACH;FMTTYPE=image/png:https://trinitymartinsburg.org/wp-content/uploads/2019/08/Music-Notes-1.png
GEO:39.4568997;-77.9652544
X-APPLE-STRUCTURED-LOCATION;VALUE=URI;X-ADDRESS=Trinity Episcopal Church 200 W. King Street Martinsburg 25401 United States;X-APPLE-RADIUS=500;X-TITLE=200 W. King Street:geo:-77.9652544,39.4568997
END:VEVENT
BEGIN:VEVENT
DTSTART;TZID=America/New_York:20191110T160000
DTEND;TZID=America/New_York:20191110T170000
DTSTAMP:20260422T174830
CREATED:20190830T001148Z
LAST-MODIFIED:20201016T161008Z
UID:10000010-1573401600-1573405200@trinitymartinsburg.org
SUMMARY:Adult Digital Christian Formation
DESCRIPTION:Click here for information and to join.
URL:https://trinitymartinsburg.org/calendar-event/christian-formation-2019-11-03/2019-11-10/
LOCATION:Trinity Episcopal Church\, 200 W. King Street\, Martinsburg\, 25401\, United States
CATEGORIES:Formation,Worship
ATTACH;FMTTYPE=image/png:https://trinitymartinsburg.org/wp-content/uploads/2020/05/Sunday-Shool2-e1589226336319.png
GEO:39.4568997;-77.9652544
X-APPLE-STRUCTURED-LOCATION;VALUE=URI;X-ADDRESS=Trinity Episcopal Church 200 W. King Street Martinsburg 25401 United States;X-APPLE-RADIUS=500;X-TITLE=200 W. King Street:geo:-77.9652544,39.4568997
END:VEVENT
BEGIN:VEVENT
DTSTART;TZID=America/New_York:20191110T113000
DTEND;TZID=America/New_York:20191110T123000
DTSTAMP:20260422T174830
CREATED:20191028T233322Z
LAST-MODIFIED:20191028T233322Z
UID:10000096-1573385400-1573389000@trinitymartinsburg.org
SUMMARY:Chili Cookoff
DESCRIPTION:PARISH HALL AFTER 10:30 AM SERVICE\n• Bring your Best Chili in a slow cooker\n• Hot and Ready to serve\n• Come up with your chili’s’ name\n• Determine heat level \nCOME AND ENJOY OUR FELLOWSHIP\nALL ARE WELCOME TO ENTER THE CONTEST
URL:https://trinitymartinsburg.org/calendar-event/chili-cookoff/
LOCATION:Trinity Episcopal Church\, 200 W. King Street\, Martinsburg\, 25401\, United States
CATEGORIES:Fellowship
GEO:39.4568997;-77.9652544
X-APPLE-STRUCTURED-LOCATION;VALUE=URI;X-ADDRESS=Trinity Episcopal Church 200 W. King Street Martinsburg 25401 United States;X-APPLE-RADIUS=500;X-TITLE=200 W. King Street:geo:-77.9652544,39.4568997
END:VEVENT
BEGIN:VEVENT
DTSTART;TZID=America/New_York:20191110T093000
DTEND;TZID=America/New_York:20191110T100000
DTSTAMP:20260422T174830
CREATED:20190830T022204Z
LAST-MODIFIED:20191008T175332Z
UID:10000073-1573378200-1573380000@trinitymartinsburg.org
SUMMARY:Choir Rehearsal
DESCRIPTION:
URL:https://trinitymartinsburg.org/calendar-event/choir-rehearsal-2/2019-11-10/
LOCATION:Trinity Episcopal Church\, 200 W. King Street\, Martinsburg\, 25401\, United States
CATEGORIES:Worship
ATTACH;FMTTYPE=image/png:https://trinitymartinsburg.org/wp-content/uploads/2019/08/Music-Notes-1.png
GEO:39.4568997;-77.9652544
X-APPLE-STRUCTURED-LOCATION;VALUE=URI;X-ADDRESS=Trinity Episcopal Church 200 W. King Street Martinsburg 25401 United States;X-APPLE-RADIUS=500;X-TITLE=200 W. King Street:geo:-77.9652544,39.4568997
END:VEVENT
BEGIN:VEVENT
DTSTART;TZID=America/New_York:20191107T190000
DTEND;TZID=America/New_York:20191107T200000
DTSTAMP:20260422T174830
CREATED:20190830T021303Z
LAST-MODIFIED:20190830T021900Z
UID:10000055-1573153200-1573156800@trinitymartinsburg.org
SUMMARY:Choir Rehearsal
DESCRIPTION:
URL:https://trinitymartinsburg.org/calendar-event/choir-rehearsal/2019-11-07/
LOCATION:Trinity Episcopal Church\, 200 W. King Street\, Martinsburg\, 25401\, United States
CATEGORIES:Worship
ATTACH;FMTTYPE=image/png:https://trinitymartinsburg.org/wp-content/uploads/2019/08/Music-Notes-1.png
GEO:39.4568997;-77.9652544
X-APPLE-STRUCTURED-LOCATION;VALUE=URI;X-ADDRESS=Trinity Episcopal Church 200 W. King Street Martinsburg 25401 United States;X-APPLE-RADIUS=500;X-TITLE=200 W. King Street:geo:-77.9652544,39.4568997
END:VEVENT
BEGIN:VEVENT
DTSTART;TZID=America/New_York:20191103T160000
DTEND;TZID=America/New_York:20191103T170000
DTSTAMP:20260422T174830
CREATED:20190830T001148Z
LAST-MODIFIED:20201016T161008Z
UID:10000009-1572796800-1572800400@trinitymartinsburg.org
SUMMARY:Adult Digital Christian Formation
DESCRIPTION:Click here for information and to join.
URL:https://trinitymartinsburg.org/calendar-event/christian-formation-2019-11-03/2019-11-03/
LOCATION:Trinity Episcopal Church\, 200 W. King Street\, Martinsburg\, 25401\, United States
CATEGORIES:Formation,Worship
ATTACH;FMTTYPE=image/png:https://trinitymartinsburg.org/wp-content/uploads/2020/05/Sunday-Shool2-e1589226336319.png
GEO:39.4568997;-77.9652544
X-APPLE-STRUCTURED-LOCATION;VALUE=URI;X-ADDRESS=Trinity Episcopal Church 200 W. King Street Martinsburg 25401 United States;X-APPLE-RADIUS=500;X-TITLE=200 W. King Street:geo:-77.9652544,39.4568997
END:VEVENT
BEGIN:VEVENT
DTSTART;TZID=America/New_York:20191103T093000
DTEND;TZID=America/New_York:20191103T100000
DTSTAMP:20260422T174830
CREATED:20190830T022204Z
LAST-MODIFIED:20191008T175332Z
UID:10000072-1572773400-1572775200@trinitymartinsburg.org
SUMMARY:Choir Rehearsal
DESCRIPTION:
URL:https://trinitymartinsburg.org/calendar-event/choir-rehearsal-2/2019-11-03/
LOCATION:Trinity Episcopal Church\, 200 W. King Street\, Martinsburg\, 25401\, United States
CATEGORIES:Worship
ATTACH;FMTTYPE=image/png:https://trinitymartinsburg.org/wp-content/uploads/2019/08/Music-Notes-1.png
GEO:39.4568997;-77.9652544
X-APPLE-STRUCTURED-LOCATION;VALUE=URI;X-ADDRESS=Trinity Episcopal Church 200 W. King Street Martinsburg 25401 United States;X-APPLE-RADIUS=500;X-TITLE=200 W. King Street:geo:-77.9652544,39.4568997
END:VEVENT
BEGIN:VEVENT
DTSTART;TZID=America/New_York:20191031T190000
DTEND;TZID=America/New_York:20191031T200000
DTSTAMP:20260422T174830
CREATED:20190830T021303Z
LAST-MODIFIED:20190830T021900Z
UID:10000054-1572548400-1572552000@trinitymartinsburg.org
SUMMARY:Choir Rehearsal
DESCRIPTION:
URL:https://trinitymartinsburg.org/calendar-event/choir-rehearsal/2019-10-31/
LOCATION:Trinity Episcopal Church\, 200 W. King Street\, Martinsburg\, 25401\, United States
CATEGORIES:Worship
ATTACH;FMTTYPE=image/png:https://trinitymartinsburg.org/wp-content/uploads/2019/08/Music-Notes-1.png
GEO:39.4568997;-77.9652544
X-APPLE-STRUCTURED-LOCATION;VALUE=URI;X-ADDRESS=Trinity Episcopal Church 200 W. King Street Martinsburg 25401 United States;X-APPLE-RADIUS=500;X-TITLE=200 W. King Street:geo:-77.9652544,39.4568997
END:VEVENT
BEGIN:VEVENT
DTSTART;TZID=America/New_York:20191028T140000
DTEND;TZID=America/New_York:20191028T153000
DTSTAMP:20260422T174830
CREATED:20190830T020922Z
LAST-MODIFIED:20200516T114553Z
UID:10000042-1572271200-1572276600@trinitymartinsburg.org
SUMMARY:Saint Mary's Guild
DESCRIPTION:Digital meeting click here
URL:https://trinitymartinsburg.org/calendar-event/saint-marys-guild/2019-10-28/
LOCATION:Trinity Episcopal Church\, 200 W. King Street\, Martinsburg\, 25401\, United States
CATEGORIES:Fellowship
ATTACH;FMTTYPE=image/jpeg:https://trinitymartinsburg.org/wp-content/uploads/2019/08/380172-e1571863950421.jpg
GEO:39.4568997;-77.9652544
X-APPLE-STRUCTURED-LOCATION;VALUE=URI;X-ADDRESS=Trinity Episcopal Church 200 W. King Street Martinsburg 25401 United States;X-APPLE-RADIUS=500;X-TITLE=200 W. King Street:geo:-77.9652544,39.4568997
END:VEVENT
BEGIN:VEVENT
DTSTART;TZID=America/New_York:20191027T093000
DTEND;TZID=America/New_York:20191027T101500
DTSTAMP:20260422T174830
CREATED:20190830T001148Z
LAST-MODIFIED:20190903T003948Z
UID:10000008-1572168600-1572171300@trinitymartinsburg.org
SUMMARY:Christian Formation
DESCRIPTION:Separated into groups by age: \nCatechesis1: ages 3-6\nCatechesis 2: ages 7-12\nTweens: ages 13-17\nAdults \nThis week’s lesson plan \nLesson Plans that Work 
URL:https://trinitymartinsburg.org/calendar-event/christian-formation-2019-10-27/
LOCATION:Trinity Episcopal Church\, 200 W. King Street\, Martinsburg\, 25401\, United States
CATEGORIES:Formation
ATTACH;FMTTYPE=image/jpeg:https://trinitymartinsburg.org/wp-content/uploads/2018/03/IMG_3334-e1567938205417.jpg
GEO:39.4568997;-77.9652544
X-APPLE-STRUCTURED-LOCATION;VALUE=URI;X-ADDRESS=Trinity Episcopal Church 200 W. King Street Martinsburg 25401 United States;X-APPLE-RADIUS=500;X-TITLE=200 W. King Street:geo:-77.9652544,39.4568997
END:VEVENT
BEGIN:VEVENT
DTSTART;TZID=America/New_York:20191027T093000
DTEND;TZID=America/New_York:20191027T100000
DTSTAMP:20260422T174830
CREATED:20190830T022204Z
LAST-MODIFIED:20191008T175332Z
UID:10000071-1572168600-1572170400@trinitymartinsburg.org
SUMMARY:Choir Rehearsal
DESCRIPTION:
URL:https://trinitymartinsburg.org/calendar-event/choir-rehearsal-2/2019-10-27/
LOCATION:Trinity Episcopal Church\, 200 W. King Street\, Martinsburg\, 25401\, United States
CATEGORIES:Worship
ATTACH;FMTTYPE=image/png:https://trinitymartinsburg.org/wp-content/uploads/2019/08/Music-Notes-1.png
GEO:39.4568997;-77.9652544
X-APPLE-STRUCTURED-LOCATION;VALUE=URI;X-ADDRESS=Trinity Episcopal Church 200 W. King Street Martinsburg 25401 United States;X-APPLE-RADIUS=500;X-TITLE=200 W. King Street:geo:-77.9652544,39.4568997
END:VEVENT
BEGIN:VEVENT
DTSTART;TZID=America/New_York:20191024T190000
DTEND;TZID=America/New_York:20191024T200000
DTSTAMP:20260422T174830
CREATED:20190830T021303Z
LAST-MODIFIED:20190830T021900Z
UID:10000053-1571943600-1571947200@trinitymartinsburg.org
SUMMARY:Choir Rehearsal
DESCRIPTION:
URL:https://trinitymartinsburg.org/calendar-event/choir-rehearsal/2019-10-24/
LOCATION:Trinity Episcopal Church\, 200 W. King Street\, Martinsburg\, 25401\, United States
CATEGORIES:Worship
ATTACH;FMTTYPE=image/png:https://trinitymartinsburg.org/wp-content/uploads/2019/08/Music-Notes-1.png
GEO:39.4568997;-77.9652544
X-APPLE-STRUCTURED-LOCATION;VALUE=URI;X-ADDRESS=Trinity Episcopal Church 200 W. King Street Martinsburg 25401 United States;X-APPLE-RADIUS=500;X-TITLE=200 W. King Street:geo:-77.9652544,39.4568997
END:VEVENT
BEGIN:VEVENT
DTSTART;TZID=America/New_York:20191021T180000
DTEND;TZID=America/New_York:20191021T200000
DTSTAMP:20260422T174830
CREATED:20190905T005243Z
LAST-MODIFIED:20200516T113438Z
UID:10000083-1571680800-1571688000@trinitymartinsburg.org
SUMMARY:Vestry  Meeting
DESCRIPTION:Meeting of lay members elected by the congregation to run the business of a church. parish. \nTo digitally join click here
URL:https://trinitymartinsburg.org/calendar-event/vestry-meeting/2019-10-21/
LOCATION:Trinity Episcopal Church Library
CATEGORIES:Meetings
ATTACH;FMTTYPE=image/png:https://trinitymartinsburg.org/wp-content/uploads/2019/09/meeting.png
END:VEVENT
BEGIN:VEVENT
DTSTART;TZID=America/New_York:20191020T093000
DTEND;TZID=America/New_York:20191020T101500
DTSTAMP:20260422T174830
CREATED:20190830T001148Z
LAST-MODIFIED:20190903T003629Z
UID:10000007-1571563800-1571566500@trinitymartinsburg.org
SUMMARY:Christian Formation
DESCRIPTION:Separated into groups by age: \nCatechesis1: ages 3-6\nCatechesis 2: ages 7-12\nTweens: ages 13-17\nAdults \nThis week’s lesson plan \nLesson Plans that Work 
URL:https://trinitymartinsburg.org/calendar-event/christian-formation-2019-10-20/
LOCATION:Trinity Episcopal Church\, 200 W. King Street\, Martinsburg\, 25401\, United States
CATEGORIES:Formation
ATTACH;FMTTYPE=image/jpeg:https://trinitymartinsburg.org/wp-content/uploads/2018/03/IMG_3334-e1567938205417.jpg
GEO:39.4568997;-77.9652544
X-APPLE-STRUCTURED-LOCATION;VALUE=URI;X-ADDRESS=Trinity Episcopal Church 200 W. King Street Martinsburg 25401 United States;X-APPLE-RADIUS=500;X-TITLE=200 W. King Street:geo:-77.9652544,39.4568997
END:VEVENT
END:VCALENDAR