BEGIN:VCALENDAR
VERSION:2.0
PRODID:-//Trinity Episcopal Church - ECPv6.15.20//NONSGML v1.0//EN
CALSCALE:GREGORIAN
METHOD:PUBLISH
X-WR-CALNAME:Trinity Episcopal Church
X-ORIGINAL-URL:https://trinitymartinsburg.org
X-WR-CALDESC:Events for Trinity Episcopal Church
REFRESH-INTERVAL;VALUE=DURATION:PT1H
X-Robots-Tag:noindex
X-PUBLISHED-TTL:PT1H
BEGIN:VTIMEZONE
TZID:America/New_York
BEGIN:DAYLIGHT
TZOFFSETFROM:-0500
TZOFFSETTO:-0400
TZNAME:EDT
DTSTART:20180311T070000
END:DAYLIGHT
BEGIN:STANDARD
TZOFFSETFROM:-0400
TZOFFSETTO:-0500
TZNAME:EST
DTSTART:20181104T060000
END:STANDARD
BEGIN:DAYLIGHT
TZOFFSETFROM:-0500
TZOFFSETTO:-0400
TZNAME:EDT
DTSTART:20190310T070000
END:DAYLIGHT
BEGIN:STANDARD
TZOFFSETFROM:-0400
TZOFFSETTO:-0500
TZNAME:EST
DTSTART:20191103T060000
END:STANDARD
BEGIN:DAYLIGHT
TZOFFSETFROM:-0500
TZOFFSETTO:-0400
TZNAME:EDT
DTSTART:20200308T070000
END:DAYLIGHT
BEGIN:STANDARD
TZOFFSETFROM:-0400
TZOFFSETTO:-0500
TZNAME:EST
DTSTART:20201101T060000
END:STANDARD
END:VTIMEZONE
BEGIN:VEVENT
DTSTART;TZID=America/New_York:20191107T190000
DTEND;TZID=America/New_York:20191107T200000
DTSTAMP:20260422T212043
CREATED:20190830T021303Z
LAST-MODIFIED:20190830T021900Z
UID:10000055-1573153200-1573156800@trinitymartinsburg.org
SUMMARY:Choir Rehearsal
DESCRIPTION:
URL:https://trinitymartinsburg.org/calendar-event/choir-rehearsal/2019-11-07/
LOCATION:Trinity Episcopal Church\, 200 W. King Street\, Martinsburg\, 25401\, United States
CATEGORIES:Worship
ATTACH;FMTTYPE=image/png:https://trinitymartinsburg.org/wp-content/uploads/2019/08/Music-Notes-1.png
GEO:39.4568997;-77.9652544
X-APPLE-STRUCTURED-LOCATION;VALUE=URI;X-ADDRESS=Trinity Episcopal Church 200 W. King Street Martinsburg 25401 United States;X-APPLE-RADIUS=500;X-TITLE=200 W. King Street:geo:-77.9652544,39.4568997
END:VEVENT
BEGIN:VEVENT
DTSTART;TZID=America/New_York:20191103T160000
DTEND;TZID=America/New_York:20191103T170000
DTSTAMP:20260422T212043
CREATED:20190830T001148Z
LAST-MODIFIED:20201016T161008Z
UID:10000009-1572796800-1572800400@trinitymartinsburg.org
SUMMARY:Adult Digital Christian Formation
DESCRIPTION:Click here for information and to join.
URL:https://trinitymartinsburg.org/calendar-event/christian-formation-2019-11-03/2019-11-03/
LOCATION:Trinity Episcopal Church\, 200 W. King Street\, Martinsburg\, 25401\, United States
CATEGORIES:Formation,Worship
ATTACH;FMTTYPE=image/png:https://trinitymartinsburg.org/wp-content/uploads/2020/05/Sunday-Shool2-e1589226336319.png
GEO:39.4568997;-77.9652544
X-APPLE-STRUCTURED-LOCATION;VALUE=URI;X-ADDRESS=Trinity Episcopal Church 200 W. King Street Martinsburg 25401 United States;X-APPLE-RADIUS=500;X-TITLE=200 W. King Street:geo:-77.9652544,39.4568997
END:VEVENT
BEGIN:VEVENT
DTSTART;TZID=America/New_York:20191103T093000
DTEND;TZID=America/New_York:20191103T100000
DTSTAMP:20260422T212043
CREATED:20190830T022204Z
LAST-MODIFIED:20191008T175332Z
UID:10000072-1572773400-1572775200@trinitymartinsburg.org
SUMMARY:Choir Rehearsal
DESCRIPTION:
URL:https://trinitymartinsburg.org/calendar-event/choir-rehearsal-2/2019-11-03/
LOCATION:Trinity Episcopal Church\, 200 W. King Street\, Martinsburg\, 25401\, United States
CATEGORIES:Worship
ATTACH;FMTTYPE=image/png:https://trinitymartinsburg.org/wp-content/uploads/2019/08/Music-Notes-1.png
GEO:39.4568997;-77.9652544
X-APPLE-STRUCTURED-LOCATION;VALUE=URI;X-ADDRESS=Trinity Episcopal Church 200 W. King Street Martinsburg 25401 United States;X-APPLE-RADIUS=500;X-TITLE=200 W. King Street:geo:-77.9652544,39.4568997
END:VEVENT
BEGIN:VEVENT
DTSTART;TZID=America/New_York:20191031T190000
DTEND;TZID=America/New_York:20191031T200000
DTSTAMP:20260422T212043
CREATED:20190830T021303Z
LAST-MODIFIED:20190830T021900Z
UID:10000054-1572548400-1572552000@trinitymartinsburg.org
SUMMARY:Choir Rehearsal
DESCRIPTION:
URL:https://trinitymartinsburg.org/calendar-event/choir-rehearsal/2019-10-31/
LOCATION:Trinity Episcopal Church\, 200 W. King Street\, Martinsburg\, 25401\, United States
CATEGORIES:Worship
ATTACH;FMTTYPE=image/png:https://trinitymartinsburg.org/wp-content/uploads/2019/08/Music-Notes-1.png
GEO:39.4568997;-77.9652544
X-APPLE-STRUCTURED-LOCATION;VALUE=URI;X-ADDRESS=Trinity Episcopal Church 200 W. King Street Martinsburg 25401 United States;X-APPLE-RADIUS=500;X-TITLE=200 W. King Street:geo:-77.9652544,39.4568997
END:VEVENT
BEGIN:VEVENT
DTSTART;TZID=America/New_York:20191028T140000
DTEND;TZID=America/New_York:20191028T153000
DTSTAMP:20260422T212043
CREATED:20190830T020922Z
LAST-MODIFIED:20200516T114553Z
UID:10000042-1572271200-1572276600@trinitymartinsburg.org
SUMMARY:Saint Mary's Guild
DESCRIPTION:Digital meeting click here
URL:https://trinitymartinsburg.org/calendar-event/saint-marys-guild/2019-10-28/
LOCATION:Trinity Episcopal Church\, 200 W. King Street\, Martinsburg\, 25401\, United States
CATEGORIES:Fellowship
ATTACH;FMTTYPE=image/jpeg:https://trinitymartinsburg.org/wp-content/uploads/2019/08/380172-e1571863950421.jpg
GEO:39.4568997;-77.9652544
X-APPLE-STRUCTURED-LOCATION;VALUE=URI;X-ADDRESS=Trinity Episcopal Church 200 W. King Street Martinsburg 25401 United States;X-APPLE-RADIUS=500;X-TITLE=200 W. King Street:geo:-77.9652544,39.4568997
END:VEVENT
BEGIN:VEVENT
DTSTART;TZID=America/New_York:20191027T093000
DTEND;TZID=America/New_York:20191027T101500
DTSTAMP:20260422T212043
CREATED:20190830T001148Z
LAST-MODIFIED:20190903T003948Z
UID:10000008-1572168600-1572171300@trinitymartinsburg.org
SUMMARY:Christian Formation
DESCRIPTION:Separated into groups by age: \nCatechesis1: ages 3-6\nCatechesis 2: ages 7-12\nTweens: ages 13-17\nAdults \nThis week’s lesson plan \nLesson Plans that Work 
URL:https://trinitymartinsburg.org/calendar-event/christian-formation-2019-10-27/
LOCATION:Trinity Episcopal Church\, 200 W. King Street\, Martinsburg\, 25401\, United States
CATEGORIES:Formation
ATTACH;FMTTYPE=image/jpeg:https://trinitymartinsburg.org/wp-content/uploads/2018/03/IMG_3334-e1567938205417.jpg
GEO:39.4568997;-77.9652544
X-APPLE-STRUCTURED-LOCATION;VALUE=URI;X-ADDRESS=Trinity Episcopal Church 200 W. King Street Martinsburg 25401 United States;X-APPLE-RADIUS=500;X-TITLE=200 W. King Street:geo:-77.9652544,39.4568997
END:VEVENT
BEGIN:VEVENT
DTSTART;TZID=America/New_York:20191027T093000
DTEND;TZID=America/New_York:20191027T100000
DTSTAMP:20260422T212043
CREATED:20190830T022204Z
LAST-MODIFIED:20191008T175332Z
UID:10000071-1572168600-1572170400@trinitymartinsburg.org
SUMMARY:Choir Rehearsal
DESCRIPTION:
URL:https://trinitymartinsburg.org/calendar-event/choir-rehearsal-2/2019-10-27/
LOCATION:Trinity Episcopal Church\, 200 W. King Street\, Martinsburg\, 25401\, United States
CATEGORIES:Worship
ATTACH;FMTTYPE=image/png:https://trinitymartinsburg.org/wp-content/uploads/2019/08/Music-Notes-1.png
GEO:39.4568997;-77.9652544
X-APPLE-STRUCTURED-LOCATION;VALUE=URI;X-ADDRESS=Trinity Episcopal Church 200 W. King Street Martinsburg 25401 United States;X-APPLE-RADIUS=500;X-TITLE=200 W. King Street:geo:-77.9652544,39.4568997
END:VEVENT
BEGIN:VEVENT
DTSTART;TZID=America/New_York:20191024T190000
DTEND;TZID=America/New_York:20191024T200000
DTSTAMP:20260422T212043
CREATED:20190830T021303Z
LAST-MODIFIED:20190830T021900Z
UID:10000053-1571943600-1571947200@trinitymartinsburg.org
SUMMARY:Choir Rehearsal
DESCRIPTION:
URL:https://trinitymartinsburg.org/calendar-event/choir-rehearsal/2019-10-24/
LOCATION:Trinity Episcopal Church\, 200 W. King Street\, Martinsburg\, 25401\, United States
CATEGORIES:Worship
ATTACH;FMTTYPE=image/png:https://trinitymartinsburg.org/wp-content/uploads/2019/08/Music-Notes-1.png
GEO:39.4568997;-77.9652544
X-APPLE-STRUCTURED-LOCATION;VALUE=URI;X-ADDRESS=Trinity Episcopal Church 200 W. King Street Martinsburg 25401 United States;X-APPLE-RADIUS=500;X-TITLE=200 W. King Street:geo:-77.9652544,39.4568997
END:VEVENT
BEGIN:VEVENT
DTSTART;TZID=America/New_York:20191021T180000
DTEND;TZID=America/New_York:20191021T200000
DTSTAMP:20260422T212043
CREATED:20190905T005243Z
LAST-MODIFIED:20200516T113438Z
UID:10000083-1571680800-1571688000@trinitymartinsburg.org
SUMMARY:Vestry  Meeting
DESCRIPTION:Meeting of lay members elected by the congregation to run the business of a church. parish. \nTo digitally join click here
URL:https://trinitymartinsburg.org/calendar-event/vestry-meeting/2019-10-21/
LOCATION:Trinity Episcopal Church Library
CATEGORIES:Meetings
ATTACH;FMTTYPE=image/png:https://trinitymartinsburg.org/wp-content/uploads/2019/09/meeting.png
END:VEVENT
BEGIN:VEVENT
DTSTART;TZID=America/New_York:20191020T093000
DTEND;TZID=America/New_York:20191020T101500
DTSTAMP:20260422T212043
CREATED:20190830T001148Z
LAST-MODIFIED:20190903T003629Z
UID:10000007-1571563800-1571566500@trinitymartinsburg.org
SUMMARY:Christian Formation
DESCRIPTION:Separated into groups by age: \nCatechesis1: ages 3-6\nCatechesis 2: ages 7-12\nTweens: ages 13-17\nAdults \nThis week’s lesson plan \nLesson Plans that Work 
URL:https://trinitymartinsburg.org/calendar-event/christian-formation-2019-10-20/
LOCATION:Trinity Episcopal Church\, 200 W. King Street\, Martinsburg\, 25401\, United States
CATEGORIES:Formation
ATTACH;FMTTYPE=image/jpeg:https://trinitymartinsburg.org/wp-content/uploads/2018/03/IMG_3334-e1567938205417.jpg
GEO:39.4568997;-77.9652544
X-APPLE-STRUCTURED-LOCATION;VALUE=URI;X-ADDRESS=Trinity Episcopal Church 200 W. King Street Martinsburg 25401 United States;X-APPLE-RADIUS=500;X-TITLE=200 W. King Street:geo:-77.9652544,39.4568997
END:VEVENT
BEGIN:VEVENT
DTSTART;TZID=America/New_York:20191020T093000
DTEND;TZID=America/New_York:20191020T100000
DTSTAMP:20260422T212043
CREATED:20190830T022204Z
LAST-MODIFIED:20191008T175332Z
UID:10000070-1571563800-1571565600@trinitymartinsburg.org
SUMMARY:Choir Rehearsal
DESCRIPTION:
URL:https://trinitymartinsburg.org/calendar-event/choir-rehearsal-2/2019-10-20/
LOCATION:Trinity Episcopal Church\, 200 W. King Street\, Martinsburg\, 25401\, United States
CATEGORIES:Worship
ATTACH;FMTTYPE=image/png:https://trinitymartinsburg.org/wp-content/uploads/2019/08/Music-Notes-1.png
GEO:39.4568997;-77.9652544
X-APPLE-STRUCTURED-LOCATION;VALUE=URI;X-ADDRESS=Trinity Episcopal Church 200 W. King Street Martinsburg 25401 United States;X-APPLE-RADIUS=500;X-TITLE=200 W. King Street:geo:-77.9652544,39.4568997
END:VEVENT
BEGIN:VEVENT
DTSTART;TZID=America/New_York:20191017T190000
DTEND;TZID=America/New_York:20191017T200000
DTSTAMP:20260422T212043
CREATED:20190830T021303Z
LAST-MODIFIED:20190830T021900Z
UID:10000052-1571338800-1571342400@trinitymartinsburg.org
SUMMARY:Choir Rehearsal
DESCRIPTION:
URL:https://trinitymartinsburg.org/calendar-event/choir-rehearsal/2019-10-17/
LOCATION:Trinity Episcopal Church\, 200 W. King Street\, Martinsburg\, 25401\, United States
CATEGORIES:Worship
ATTACH;FMTTYPE=image/png:https://trinitymartinsburg.org/wp-content/uploads/2019/08/Music-Notes-1.png
GEO:39.4568997;-77.9652544
X-APPLE-STRUCTURED-LOCATION;VALUE=URI;X-ADDRESS=Trinity Episcopal Church 200 W. King Street Martinsburg 25401 United States;X-APPLE-RADIUS=500;X-TITLE=200 W. King Street:geo:-77.9652544,39.4568997
END:VEVENT
BEGIN:VEVENT
DTSTART;TZID=America/New_York:20191013T093000
DTEND;TZID=America/New_York:20191013T101500
DTSTAMP:20260422T212043
CREATED:20190830T001148Z
LAST-MODIFIED:20190903T003511Z
UID:10000006-1570959000-1570961700@trinitymartinsburg.org
SUMMARY:Christian Formation
DESCRIPTION:Separated into groups by age: \nCatechesis1: ages 3-6\nCatechesis 2: ages 7-12\nTweens: ages 13-17\nAdults \nThis week’s lesson plan \nLesson Plans that Work 
URL:https://trinitymartinsburg.org/calendar-event/christian-formation-2019-10-13/
LOCATION:Trinity Episcopal Church\, 200 W. King Street\, Martinsburg\, 25401\, United States
CATEGORIES:Formation
ATTACH;FMTTYPE=image/jpeg:https://trinitymartinsburg.org/wp-content/uploads/2018/03/IMG_3334-e1567938205417.jpg
GEO:39.4568997;-77.9652544
X-APPLE-STRUCTURED-LOCATION;VALUE=URI;X-ADDRESS=Trinity Episcopal Church 200 W. King Street Martinsburg 25401 United States;X-APPLE-RADIUS=500;X-TITLE=200 W. King Street:geo:-77.9652544,39.4568997
END:VEVENT
BEGIN:VEVENT
DTSTART;TZID=America/New_York:20191013T093000
DTEND;TZID=America/New_York:20191013T100000
DTSTAMP:20260422T212043
CREATED:20190830T022204Z
LAST-MODIFIED:20191008T175332Z
UID:10000069-1570959000-1570960800@trinitymartinsburg.org
SUMMARY:Choir Rehearsal
DESCRIPTION:
URL:https://trinitymartinsburg.org/calendar-event/choir-rehearsal-2/2019-10-13/
LOCATION:Trinity Episcopal Church\, 200 W. King Street\, Martinsburg\, 25401\, United States
CATEGORIES:Worship
ATTACH;FMTTYPE=image/png:https://trinitymartinsburg.org/wp-content/uploads/2019/08/Music-Notes-1.png
GEO:39.4568997;-77.9652544
X-APPLE-STRUCTURED-LOCATION;VALUE=URI;X-ADDRESS=Trinity Episcopal Church 200 W. King Street Martinsburg 25401 United States;X-APPLE-RADIUS=500;X-TITLE=200 W. King Street:geo:-77.9652544,39.4568997
END:VEVENT
BEGIN:VEVENT
DTSTART;TZID=America/New_York:20191010T190000
DTEND;TZID=America/New_York:20191010T200000
DTSTAMP:20260422T212043
CREATED:20190830T021303Z
LAST-MODIFIED:20190830T021900Z
UID:10000051-1570734000-1570737600@trinitymartinsburg.org
SUMMARY:Choir Rehearsal
DESCRIPTION:
URL:https://trinitymartinsburg.org/calendar-event/choir-rehearsal/2019-10-10/
LOCATION:Trinity Episcopal Church\, 200 W. King Street\, Martinsburg\, 25401\, United States
CATEGORIES:Worship
ATTACH;FMTTYPE=image/png:https://trinitymartinsburg.org/wp-content/uploads/2019/08/Music-Notes-1.png
GEO:39.4568997;-77.9652544
X-APPLE-STRUCTURED-LOCATION;VALUE=URI;X-ADDRESS=Trinity Episcopal Church 200 W. King Street Martinsburg 25401 United States;X-APPLE-RADIUS=500;X-TITLE=200 W. King Street:geo:-77.9652544,39.4568997
END:VEVENT
BEGIN:VEVENT
DTSTART;TZID=America/New_York:20191006T120000
DTEND;TZID=America/New_York:20191006T140000
DTSTAMP:20260422T212043
CREATED:20191002T001749Z
LAST-MODIFIED:20191002T005605Z
UID:10000094-1570363200-1570370400@trinitymartinsburg.org
SUMMARY:FAREWELL RECEPTION FOR REV. JULIE
DESCRIPTION:St. Mary’s Guild  will host luncheon reception for Rev. Julie following following the the 10:30 am service
URL:https://trinitymartinsburg.org/calendar-event/farewell-reception-for-rev-julie/
LOCATION:Trinity Episcopal Church\, 200 W. King Street\, Martinsburg\, 25401\, United States
CATEGORIES:Fellowship
ATTACH;FMTTYPE=image/jpeg:https://trinitymartinsburg.org/wp-content/uploads/2016/01/IMG_1892-e1569975016666.jpg
GEO:39.4568997;-77.9652544
X-APPLE-STRUCTURED-LOCATION;VALUE=URI;X-ADDRESS=Trinity Episcopal Church 200 W. King Street Martinsburg 25401 United States;X-APPLE-RADIUS=500;X-TITLE=200 W. King Street:geo:-77.9652544,39.4568997
END:VEVENT
BEGIN:VEVENT
DTSTART;TZID=America/New_York:20191006T093000
DTEND;TZID=America/New_York:20191006T101500
DTSTAMP:20260422T212043
CREATED:20190830T001148Z
LAST-MODIFIED:20190903T003400Z
UID:10000005-1570354200-1570356900@trinitymartinsburg.org
SUMMARY:Christian Formation
DESCRIPTION:Separated into groups by age: \nCatechesis1: ages 3-6\nCatechesis 2: ages 7-12\nTweens: ages 13-17\nAdults \nThis week’s lesson plan \nLesson Plans that Work 
URL:https://trinitymartinsburg.org/calendar-event/christian-formation-2019-10-06/
LOCATION:Trinity Episcopal Church\, 200 W. King Street\, Martinsburg\, 25401\, United States
CATEGORIES:Formation
ATTACH;FMTTYPE=image/jpeg:https://trinitymartinsburg.org/wp-content/uploads/2018/03/IMG_3334-e1567938205417.jpg
GEO:39.4568997;-77.9652544
X-APPLE-STRUCTURED-LOCATION;VALUE=URI;X-ADDRESS=Trinity Episcopal Church 200 W. King Street Martinsburg 25401 United States;X-APPLE-RADIUS=500;X-TITLE=200 W. King Street:geo:-77.9652544,39.4568997
END:VEVENT
BEGIN:VEVENT
DTSTART;TZID=America/New_York:20191006T093000
DTEND;TZID=America/New_York:20191006T100000
DTSTAMP:20260422T212043
CREATED:20190830T022204Z
LAST-MODIFIED:20191008T175332Z
UID:10000068-1570354200-1570356000@trinitymartinsburg.org
SUMMARY:Choir Rehearsal
DESCRIPTION:
URL:https://trinitymartinsburg.org/calendar-event/choir-rehearsal-2/2019-10-06/
LOCATION:Trinity Episcopal Church\, 200 W. King Street\, Martinsburg\, 25401\, United States
CATEGORIES:Worship
ATTACH;FMTTYPE=image/png:https://trinitymartinsburg.org/wp-content/uploads/2019/08/Music-Notes-1.png
GEO:39.4568997;-77.9652544
X-APPLE-STRUCTURED-LOCATION;VALUE=URI;X-ADDRESS=Trinity Episcopal Church 200 W. King Street Martinsburg 25401 United States;X-APPLE-RADIUS=500;X-TITLE=200 W. King Street:geo:-77.9652544,39.4568997
END:VEVENT
BEGIN:VEVENT
DTSTART;TZID=America/New_York:20191003T190000
DTEND;TZID=America/New_York:20191003T200000
DTSTAMP:20260422T212043
CREATED:20190830T021303Z
LAST-MODIFIED:20190830T021900Z
UID:10000050-1570129200-1570132800@trinitymartinsburg.org
SUMMARY:Choir Rehearsal
DESCRIPTION:
URL:https://trinitymartinsburg.org/calendar-event/choir-rehearsal/2019-10-03/
LOCATION:Trinity Episcopal Church\, 200 W. King Street\, Martinsburg\, 25401\, United States
CATEGORIES:Worship
ATTACH;FMTTYPE=image/png:https://trinitymartinsburg.org/wp-content/uploads/2019/08/Music-Notes-1.png
GEO:39.4568997;-77.9652544
X-APPLE-STRUCTURED-LOCATION;VALUE=URI;X-ADDRESS=Trinity Episcopal Church 200 W. King Street Martinsburg 25401 United States;X-APPLE-RADIUS=500;X-TITLE=200 W. King Street:geo:-77.9652544,39.4568997
END:VEVENT
BEGIN:VEVENT
DTSTART;TZID=America/New_York:20190929T093000
DTEND;TZID=America/New_York:20190929T101500
DTSTAMP:20260422T212043
CREATED:20190830T001148Z
LAST-MODIFIED:20190903T003114Z
UID:10000004-1569749400-1569752100@trinitymartinsburg.org
SUMMARY:Christian Formation
DESCRIPTION:Separated into groups by age: \nCatechesis1: ages 3-6\nCatechesis 2: ages 7-12\nTweens: ages 13-17\nAdults \nThis week’s lesson plan \nLesson Plans that Work 
URL:https://trinitymartinsburg.org/calendar-event/christian-formation-2019-09-29/
LOCATION:Trinity Episcopal Church\, 200 W. King Street\, Martinsburg\, 25401\, United States
CATEGORIES:Formation
ATTACH;FMTTYPE=image/jpeg:https://trinitymartinsburg.org/wp-content/uploads/2018/03/IMG_3334-e1567938205417.jpg
GEO:39.4568997;-77.9652544
X-APPLE-STRUCTURED-LOCATION;VALUE=URI;X-ADDRESS=Trinity Episcopal Church 200 W. King Street Martinsburg 25401 United States;X-APPLE-RADIUS=500;X-TITLE=200 W. King Street:geo:-77.9652544,39.4568997
END:VEVENT
BEGIN:VEVENT
DTSTART;TZID=America/New_York:20190929T093000
DTEND;TZID=America/New_York:20190929T100000
DTSTAMP:20260422T212043
CREATED:20190830T022204Z
LAST-MODIFIED:20191008T175332Z
UID:10000067-1569749400-1569751200@trinitymartinsburg.org
SUMMARY:Choir Rehearsal
DESCRIPTION:
URL:https://trinitymartinsburg.org/calendar-event/choir-rehearsal-2/2019-09-29/
LOCATION:Trinity Episcopal Church\, 200 W. King Street\, Martinsburg\, 25401\, United States
CATEGORIES:Worship
ATTACH;FMTTYPE=image/png:https://trinitymartinsburg.org/wp-content/uploads/2019/08/Music-Notes-1.png
GEO:39.4568997;-77.9652544
X-APPLE-STRUCTURED-LOCATION;VALUE=URI;X-ADDRESS=Trinity Episcopal Church 200 W. King Street Martinsburg 25401 United States;X-APPLE-RADIUS=500;X-TITLE=200 W. King Street:geo:-77.9652544,39.4568997
END:VEVENT
BEGIN:VEVENT
DTSTART;TZID=America/New_York:20190926T190000
DTEND;TZID=America/New_York:20190926T200000
DTSTAMP:20260422T212043
CREATED:20190830T021303Z
LAST-MODIFIED:20190830T021900Z
UID:10000049-1569524400-1569528000@trinitymartinsburg.org
SUMMARY:Choir Rehearsal
DESCRIPTION:
URL:https://trinitymartinsburg.org/calendar-event/choir-rehearsal/2019-09-26/
LOCATION:Trinity Episcopal Church\, 200 W. King Street\, Martinsburg\, 25401\, United States
CATEGORIES:Worship
ATTACH;FMTTYPE=image/png:https://trinitymartinsburg.org/wp-content/uploads/2019/08/Music-Notes-1.png
GEO:39.4568997;-77.9652544
X-APPLE-STRUCTURED-LOCATION;VALUE=URI;X-ADDRESS=Trinity Episcopal Church 200 W. King Street Martinsburg 25401 United States;X-APPLE-RADIUS=500;X-TITLE=200 W. King Street:geo:-77.9652544,39.4568997
END:VEVENT
BEGIN:VEVENT
DTSTART;TZID=America/New_York:20190923T140000
DTEND;TZID=America/New_York:20190923T153000
DTSTAMP:20260422T212043
CREATED:20190830T020922Z
LAST-MODIFIED:20200516T114553Z
UID:10000041-1569247200-1569252600@trinitymartinsburg.org
SUMMARY:Saint Mary's Guild
DESCRIPTION:Digital meeting click here
URL:https://trinitymartinsburg.org/calendar-event/saint-marys-guild/2019-09-23/
LOCATION:Trinity Episcopal Church\, 200 W. King Street\, Martinsburg\, 25401\, United States
CATEGORIES:Fellowship
ATTACH;FMTTYPE=image/jpeg:https://trinitymartinsburg.org/wp-content/uploads/2019/08/380172-e1571863950421.jpg
GEO:39.4568997;-77.9652544
X-APPLE-STRUCTURED-LOCATION;VALUE=URI;X-ADDRESS=Trinity Episcopal Church 200 W. King Street Martinsburg 25401 United States;X-APPLE-RADIUS=500;X-TITLE=200 W. King Street:geo:-77.9652544,39.4568997
END:VEVENT
BEGIN:VEVENT
DTSTART;TZID=America/New_York:20190922T093000
DTEND;TZID=America/New_York:20190922T101500
DTSTAMP:20260422T212043
CREATED:20190830T001148Z
LAST-MODIFIED:20190903T003005Z
UID:10000003-1569144600-1569147300@trinitymartinsburg.org
SUMMARY:Christian Formation
DESCRIPTION:Separated into groups by age: \nCatechesis1: ages 3-6\nCatechesis 2: ages 7-12\nTweens: ages 13-17\nAdults \nThis week’s lesson plan \nLesson Plans that Work 
URL:https://trinitymartinsburg.org/calendar-event/christian-formation/
LOCATION:Trinity Episcopal Church\, 200 W. King Street\, Martinsburg\, 25401\, United States
CATEGORIES:Formation
ATTACH;FMTTYPE=image/jpeg:https://trinitymartinsburg.org/wp-content/uploads/2018/03/IMG_3334-e1567938205417.jpg
GEO:39.4568997;-77.9652544
X-APPLE-STRUCTURED-LOCATION;VALUE=URI;X-ADDRESS=Trinity Episcopal Church 200 W. King Street Martinsburg 25401 United States;X-APPLE-RADIUS=500;X-TITLE=200 W. King Street:geo:-77.9652544,39.4568997
END:VEVENT
BEGIN:VEVENT
DTSTART;TZID=America/New_York:20190922T093000
DTEND;TZID=America/New_York:20190922T100000
DTSTAMP:20260422T212043
CREATED:20190830T022204Z
LAST-MODIFIED:20191008T175332Z
UID:10000066-1569144600-1569146400@trinitymartinsburg.org
SUMMARY:Choir Rehearsal
DESCRIPTION:
URL:https://trinitymartinsburg.org/calendar-event/choir-rehearsal-2/2019-09-22/
LOCATION:Trinity Episcopal Church\, 200 W. King Street\, Martinsburg\, 25401\, United States
CATEGORIES:Worship
ATTACH;FMTTYPE=image/png:https://trinitymartinsburg.org/wp-content/uploads/2019/08/Music-Notes-1.png
GEO:39.4568997;-77.9652544
X-APPLE-STRUCTURED-LOCATION;VALUE=URI;X-ADDRESS=Trinity Episcopal Church 200 W. King Street Martinsburg 25401 United States;X-APPLE-RADIUS=500;X-TITLE=200 W. King Street:geo:-77.9652544,39.4568997
END:VEVENT
BEGIN:VEVENT
DTSTART;TZID=America/New_York:20190919T190000
DTEND;TZID=America/New_York:20190919T200000
DTSTAMP:20260422T212043
CREATED:20190830T021303Z
LAST-MODIFIED:20190830T021900Z
UID:10000048-1568919600-1568923200@trinitymartinsburg.org
SUMMARY:Choir Rehearsal
DESCRIPTION:
URL:https://trinitymartinsburg.org/calendar-event/choir-rehearsal/2019-09-19/
LOCATION:Trinity Episcopal Church\, 200 W. King Street\, Martinsburg\, 25401\, United States
CATEGORIES:Worship
ATTACH;FMTTYPE=image/png:https://trinitymartinsburg.org/wp-content/uploads/2019/08/Music-Notes-1.png
GEO:39.4568997;-77.9652544
X-APPLE-STRUCTURED-LOCATION;VALUE=URI;X-ADDRESS=Trinity Episcopal Church 200 W. King Street Martinsburg 25401 United States;X-APPLE-RADIUS=500;X-TITLE=200 W. King Street:geo:-77.9652544,39.4568997
END:VEVENT
BEGIN:VEVENT
DTSTART;TZID=America/New_York:20190916T180000
DTEND;TZID=America/New_York:20190916T200000
DTSTAMP:20260422T212043
CREATED:20190905T005243Z
LAST-MODIFIED:20200516T113438Z
UID:10000082-1568656800-1568664000@trinitymartinsburg.org
SUMMARY:Vestry  Meeting
DESCRIPTION:Meeting of lay members elected by the congregation to run the business of a church. parish. \nTo digitally join click here
URL:https://trinitymartinsburg.org/calendar-event/vestry-meeting/2019-09-16/
LOCATION:Trinity Episcopal Church Library
CATEGORIES:Meetings
ATTACH;FMTTYPE=image/png:https://trinitymartinsburg.org/wp-content/uploads/2019/09/meeting.png
END:VEVENT
BEGIN:VEVENT
DTSTART;TZID=America/New_York:20190915T093000
DTEND;TZID=America/New_York:20190915T103000
DTSTAMP:20260422T212043
CREATED:20190829T235217Z
LAST-MODIFIED:20190830T204804Z
UID:10000002-1568539800-1568543400@trinitymartinsburg.org
SUMMARY:Kick Off Sunday Christian Formation Registration and Picnic
DESCRIPTION:We plan to kick off the new Christian formation  year with a pot luck covered dish meal/breakfast.
URL:https://trinitymartinsburg.org/calendar-event/kick-off-sunday-christian-formation-registration-and-picnic/
LOCATION:Trinity Episcopal Church\, 200 W. King Street\, Martinsburg\, 25401\, United States
CATEGORIES:Formation
GEO:39.4568997;-77.9652544
X-APPLE-STRUCTURED-LOCATION;VALUE=URI;X-ADDRESS=Trinity Episcopal Church 200 W. King Street Martinsburg 25401 United States;X-APPLE-RADIUS=500;X-TITLE=200 W. King Street:geo:-77.9652544,39.4568997
END:VEVENT
BEGIN:VEVENT
DTSTART;TZID=America/New_York:20190915T093000
DTEND;TZID=America/New_York:20190915T100000
DTSTAMP:20260422T212043
CREATED:20190830T022204Z
LAST-MODIFIED:20191008T175332Z
UID:10000065-1568539800-1568541600@trinitymartinsburg.org
SUMMARY:Choir Rehearsal
DESCRIPTION:
URL:https://trinitymartinsburg.org/calendar-event/choir-rehearsal-2/2019-09-15/
LOCATION:Trinity Episcopal Church\, 200 W. King Street\, Martinsburg\, 25401\, United States
CATEGORIES:Worship
ATTACH;FMTTYPE=image/png:https://trinitymartinsburg.org/wp-content/uploads/2019/08/Music-Notes-1.png
GEO:39.4568997;-77.9652544
X-APPLE-STRUCTURED-LOCATION;VALUE=URI;X-ADDRESS=Trinity Episcopal Church 200 W. King Street Martinsburg 25401 United States;X-APPLE-RADIUS=500;X-TITLE=200 W. King Street:geo:-77.9652544,39.4568997
END:VEVENT
BEGIN:VEVENT
DTSTART;TZID=America/New_York:20190912T190000
DTEND;TZID=America/New_York:20190912T200000
DTSTAMP:20260422T212043
CREATED:20190830T021303Z
LAST-MODIFIED:20190830T021900Z
UID:10000047-1568314800-1568318400@trinitymartinsburg.org
SUMMARY:Choir Rehearsal
DESCRIPTION:
URL:https://trinitymartinsburg.org/calendar-event/choir-rehearsal/2019-09-12/
LOCATION:Trinity Episcopal Church\, 200 W. King Street\, Martinsburg\, 25401\, United States
CATEGORIES:Worship
ATTACH;FMTTYPE=image/png:https://trinitymartinsburg.org/wp-content/uploads/2019/08/Music-Notes-1.png
GEO:39.4568997;-77.9652544
X-APPLE-STRUCTURED-LOCATION;VALUE=URI;X-ADDRESS=Trinity Episcopal Church 200 W. King Street Martinsburg 25401 United States;X-APPLE-RADIUS=500;X-TITLE=200 W. King Street:geo:-77.9652544,39.4568997
END:VEVENT
END:VCALENDAR