BEGIN:VCALENDAR
VERSION:2.0
PRODID:-//Trinity Episcopal Church - ECPv6.15.20//NONSGML v1.0//EN
CALSCALE:GREGORIAN
METHOD:PUBLISH
X-ORIGINAL-URL:https://trinitymartinsburg.org
X-WR-CALDESC:Events for Trinity Episcopal Church
REFRESH-INTERVAL;VALUE=DURATION:PT1H
X-Robots-Tag:noindex
X-PUBLISHED-TTL:PT1H
BEGIN:VTIMEZONE
TZID:America/New_York
BEGIN:DAYLIGHT
TZOFFSETFROM:-0500
TZOFFSETTO:-0400
TZNAME:EDT
DTSTART:20200308T070000
END:DAYLIGHT
BEGIN:STANDARD
TZOFFSETFROM:-0400
TZOFFSETTO:-0500
TZNAME:EST
DTSTART:20201101T060000
END:STANDARD
BEGIN:DAYLIGHT
TZOFFSETFROM:-0500
TZOFFSETTO:-0400
TZNAME:EDT
DTSTART:20210314T070000
END:DAYLIGHT
BEGIN:STANDARD
TZOFFSETFROM:-0400
TZOFFSETTO:-0500
TZNAME:EST
DTSTART:20211107T060000
END:STANDARD
BEGIN:DAYLIGHT
TZOFFSETFROM:-0500
TZOFFSETTO:-0400
TZNAME:EDT
DTSTART:20220313T070000
END:DAYLIGHT
BEGIN:STANDARD
TZOFFSETFROM:-0400
TZOFFSETTO:-0500
TZNAME:EST
DTSTART:20221106T060000
END:STANDARD
END:VTIMEZONE
BEGIN:VEVENT
DTSTART;TZID=America/New_York:20211212T113000
DTEND;TZID=America/New_York:20211212T123000
DTSTAMP:20260419T153745
CREATED:20200511T214125Z
LAST-MODIFIED:20200511T214158Z
UID:10000186-1639308600-1639312200@trinitymartinsburg.org
SUMMARY:Fellowship Digital Time
DESCRIPTION:To join click here
URL:https://trinitymartinsburg.org/calendar-event/fellowship-digital-time/2021-12-12/
LOCATION:Trinity Episcopal Church\, 200 W. King Street\, Martinsburg\, 25401\, United States
CATEGORIES:Fellowship
ATTACH;FMTTYPE=image/jpeg:https://trinitymartinsburg.org/wp-content/uploads/2020/05/37635-e1589226634374.jpg
GEO:39.4568997;-77.9652544
X-APPLE-STRUCTURED-LOCATION;VALUE=URI;X-ADDRESS=Trinity Episcopal Church 200 W. King Street Martinsburg 25401 United States;X-APPLE-RADIUS=500;X-TITLE=200 W. King Street:geo:-77.9652544,39.4568997
END:VEVENT
BEGIN:VEVENT
DTSTART;TZID=America/New_York:20211205T113000
DTEND;TZID=America/New_York:20211205T123000
DTSTAMP:20260419T153745
CREATED:20200511T214125Z
LAST-MODIFIED:20200511T214158Z
UID:10000185-1638703800-1638707400@trinitymartinsburg.org
SUMMARY:Fellowship Digital Time
DESCRIPTION:To join click here
URL:https://trinitymartinsburg.org/calendar-event/fellowship-digital-time/2021-12-05/
LOCATION:Trinity Episcopal Church\, 200 W. King Street\, Martinsburg\, 25401\, United States
CATEGORIES:Fellowship
ATTACH;FMTTYPE=image/jpeg:https://trinitymartinsburg.org/wp-content/uploads/2020/05/37635-e1589226634374.jpg
GEO:39.4568997;-77.9652544
X-APPLE-STRUCTURED-LOCATION;VALUE=URI;X-ADDRESS=Trinity Episcopal Church 200 W. King Street Martinsburg 25401 United States;X-APPLE-RADIUS=500;X-TITLE=200 W. King Street:geo:-77.9652544,39.4568997
END:VEVENT
BEGIN:VEVENT
DTSTART;TZID=America/New_York:20211128T113000
DTEND;TZID=America/New_York:20211128T123000
DTSTAMP:20260419T153745
CREATED:20200511T214125Z
LAST-MODIFIED:20200511T214158Z
UID:10000184-1638099000-1638102600@trinitymartinsburg.org
SUMMARY:Fellowship Digital Time
DESCRIPTION:To join click here
URL:https://trinitymartinsburg.org/calendar-event/fellowship-digital-time/2021-11-28/
LOCATION:Trinity Episcopal Church\, 200 W. King Street\, Martinsburg\, 25401\, United States
CATEGORIES:Fellowship
ATTACH;FMTTYPE=image/jpeg:https://trinitymartinsburg.org/wp-content/uploads/2020/05/37635-e1589226634374.jpg
GEO:39.4568997;-77.9652544
X-APPLE-STRUCTURED-LOCATION;VALUE=URI;X-ADDRESS=Trinity Episcopal Church 200 W. King Street Martinsburg 25401 United States;X-APPLE-RADIUS=500;X-TITLE=200 W. King Street:geo:-77.9652544,39.4568997
END:VEVENT
BEGIN:VEVENT
DTSTART;TZID=America/New_York:20211122T140000
DTEND;TZID=America/New_York:20211122T153000
DTSTAMP:20260419T153745
CREATED:20200523T022427Z
LAST-MODIFIED:20201016T160933Z
UID:10000244-1637589600-1637595000@trinitymartinsburg.org
SUMMARY:St. Mary's Guild
DESCRIPTION:All are welcome – for more information click here
URL:https://trinitymartinsburg.org/calendar-event/st-marys-guild/2021-11-22/
LOCATION:Trinity Episcopal Church\, 200 W. King Street\, Martinsburg\, 25401\, United States
ATTACH;FMTTYPE=image/jpeg:https://trinitymartinsburg.org/wp-content/uploads/2019/08/380172-e1571863950421.jpg
GEO:39.4568997;-77.9652544
X-APPLE-STRUCTURED-LOCATION;VALUE=URI;X-ADDRESS=Trinity Episcopal Church 200 W. King Street Martinsburg 25401 United States;X-APPLE-RADIUS=500;X-TITLE=200 W. King Street:geo:-77.9652544,39.4568997
END:VEVENT
BEGIN:VEVENT
DTSTART;TZID=America/New_York:20211121T113000
DTEND;TZID=America/New_York:20211121T123000
DTSTAMP:20260419T153745
CREATED:20200511T214125Z
LAST-MODIFIED:20200511T214158Z
UID:10000183-1637494200-1637497800@trinitymartinsburg.org
SUMMARY:Fellowship Digital Time
DESCRIPTION:To join click here
URL:https://trinitymartinsburg.org/calendar-event/fellowship-digital-time/2021-11-21/
LOCATION:Trinity Episcopal Church\, 200 W. King Street\, Martinsburg\, 25401\, United States
CATEGORIES:Fellowship
ATTACH;FMTTYPE=image/jpeg:https://trinitymartinsburg.org/wp-content/uploads/2020/05/37635-e1589226634374.jpg
GEO:39.4568997;-77.9652544
X-APPLE-STRUCTURED-LOCATION;VALUE=URI;X-ADDRESS=Trinity Episcopal Church 200 W. King Street Martinsburg 25401 United States;X-APPLE-RADIUS=500;X-TITLE=200 W. King Street:geo:-77.9652544,39.4568997
END:VEVENT
BEGIN:VEVENT
DTSTART;TZID=America/New_York:20211114T113000
DTEND;TZID=America/New_York:20211114T123000
DTSTAMP:20260419T153745
CREATED:20200511T214125Z
LAST-MODIFIED:20200511T214158Z
UID:10000182-1636889400-1636893000@trinitymartinsburg.org
SUMMARY:Fellowship Digital Time
DESCRIPTION:To join click here
URL:https://trinitymartinsburg.org/calendar-event/fellowship-digital-time/2021-11-14/
LOCATION:Trinity Episcopal Church\, 200 W. King Street\, Martinsburg\, 25401\, United States
CATEGORIES:Fellowship
ATTACH;FMTTYPE=image/jpeg:https://trinitymartinsburg.org/wp-content/uploads/2020/05/37635-e1589226634374.jpg
GEO:39.4568997;-77.9652544
X-APPLE-STRUCTURED-LOCATION;VALUE=URI;X-ADDRESS=Trinity Episcopal Church 200 W. King Street Martinsburg 25401 United States;X-APPLE-RADIUS=500;X-TITLE=200 W. King Street:geo:-77.9652544,39.4568997
END:VEVENT
BEGIN:VEVENT
DTSTART;TZID=America/New_York:20211107T113000
DTEND;TZID=America/New_York:20211107T123000
DTSTAMP:20260419T153745
CREATED:20200511T214125Z
LAST-MODIFIED:20200511T214158Z
UID:10000181-1636284600-1636288200@trinitymartinsburg.org
SUMMARY:Fellowship Digital Time
DESCRIPTION:To join click here
URL:https://trinitymartinsburg.org/calendar-event/fellowship-digital-time/2021-11-07/
LOCATION:Trinity Episcopal Church\, 200 W. King Street\, Martinsburg\, 25401\, United States
CATEGORIES:Fellowship
ATTACH;FMTTYPE=image/jpeg:https://trinitymartinsburg.org/wp-content/uploads/2020/05/37635-e1589226634374.jpg
GEO:39.4568997;-77.9652544
X-APPLE-STRUCTURED-LOCATION;VALUE=URI;X-ADDRESS=Trinity Episcopal Church 200 W. King Street Martinsburg 25401 United States;X-APPLE-RADIUS=500;X-TITLE=200 W. King Street:geo:-77.9652544,39.4568997
END:VEVENT
BEGIN:VEVENT
DTSTART;TZID=America/New_York:20211031T113000
DTEND;TZID=America/New_York:20211031T123000
DTSTAMP:20260419T153745
CREATED:20200511T214125Z
LAST-MODIFIED:20200511T214158Z
UID:10000180-1635679800-1635683400@trinitymartinsburg.org
SUMMARY:Fellowship Digital Time
DESCRIPTION:To join click here
URL:https://trinitymartinsburg.org/calendar-event/fellowship-digital-time/2021-10-31/
LOCATION:Trinity Episcopal Church\, 200 W. King Street\, Martinsburg\, 25401\, United States
CATEGORIES:Fellowship
ATTACH;FMTTYPE=image/jpeg:https://trinitymartinsburg.org/wp-content/uploads/2020/05/37635-e1589226634374.jpg
GEO:39.4568997;-77.9652544
X-APPLE-STRUCTURED-LOCATION;VALUE=URI;X-ADDRESS=Trinity Episcopal Church 200 W. King Street Martinsburg 25401 United States;X-APPLE-RADIUS=500;X-TITLE=200 W. King Street:geo:-77.9652544,39.4568997
END:VEVENT
BEGIN:VEVENT
DTSTART;TZID=America/New_York:20211025T140000
DTEND;TZID=America/New_York:20211025T153000
DTSTAMP:20260419T153745
CREATED:20200523T022427Z
LAST-MODIFIED:20201016T160933Z
UID:10000243-1635170400-1635175800@trinitymartinsburg.org
SUMMARY:St. Mary's Guild
DESCRIPTION:All are welcome – for more information click here
URL:https://trinitymartinsburg.org/calendar-event/st-marys-guild/2021-10-25/
LOCATION:Trinity Episcopal Church\, 200 W. King Street\, Martinsburg\, 25401\, United States
ATTACH;FMTTYPE=image/jpeg:https://trinitymartinsburg.org/wp-content/uploads/2019/08/380172-e1571863950421.jpg
GEO:39.4568997;-77.9652544
X-APPLE-STRUCTURED-LOCATION;VALUE=URI;X-ADDRESS=Trinity Episcopal Church 200 W. King Street Martinsburg 25401 United States;X-APPLE-RADIUS=500;X-TITLE=200 W. King Street:geo:-77.9652544,39.4568997
END:VEVENT
BEGIN:VEVENT
DTSTART;TZID=America/New_York:20211024T113000
DTEND;TZID=America/New_York:20211024T123000
DTSTAMP:20260419T153745
CREATED:20200511T214125Z
LAST-MODIFIED:20200511T214158Z
UID:10000179-1635075000-1635078600@trinitymartinsburg.org
SUMMARY:Fellowship Digital Time
DESCRIPTION:To join click here
URL:https://trinitymartinsburg.org/calendar-event/fellowship-digital-time/2021-10-24/
LOCATION:Trinity Episcopal Church\, 200 W. King Street\, Martinsburg\, 25401\, United States
CATEGORIES:Fellowship
ATTACH;FMTTYPE=image/jpeg:https://trinitymartinsburg.org/wp-content/uploads/2020/05/37635-e1589226634374.jpg
GEO:39.4568997;-77.9652544
X-APPLE-STRUCTURED-LOCATION;VALUE=URI;X-ADDRESS=Trinity Episcopal Church 200 W. King Street Martinsburg 25401 United States;X-APPLE-RADIUS=500;X-TITLE=200 W. King Street:geo:-77.9652544,39.4568997
END:VEVENT
BEGIN:VEVENT
DTSTART;TZID=America/New_York:20211017T113000
DTEND;TZID=America/New_York:20211017T123000
DTSTAMP:20260419T153745
CREATED:20200511T214125Z
LAST-MODIFIED:20200511T214158Z
UID:10000178-1634470200-1634473800@trinitymartinsburg.org
SUMMARY:Fellowship Digital Time
DESCRIPTION:To join click here
URL:https://trinitymartinsburg.org/calendar-event/fellowship-digital-time/2021-10-17/
LOCATION:Trinity Episcopal Church\, 200 W. King Street\, Martinsburg\, 25401\, United States
CATEGORIES:Fellowship
ATTACH;FMTTYPE=image/jpeg:https://trinitymartinsburg.org/wp-content/uploads/2020/05/37635-e1589226634374.jpg
GEO:39.4568997;-77.9652544
X-APPLE-STRUCTURED-LOCATION;VALUE=URI;X-ADDRESS=Trinity Episcopal Church 200 W. King Street Martinsburg 25401 United States;X-APPLE-RADIUS=500;X-TITLE=200 W. King Street:geo:-77.9652544,39.4568997
END:VEVENT
BEGIN:VEVENT
DTSTART;TZID=America/New_York:20211010T113000
DTEND;TZID=America/New_York:20211010T123000
DTSTAMP:20260419T153745
CREATED:20200511T214125Z
LAST-MODIFIED:20200511T214158Z
UID:10000177-1633865400-1633869000@trinitymartinsburg.org
SUMMARY:Fellowship Digital Time
DESCRIPTION:To join click here
URL:https://trinitymartinsburg.org/calendar-event/fellowship-digital-time/2021-10-10/
LOCATION:Trinity Episcopal Church\, 200 W. King Street\, Martinsburg\, 25401\, United States
CATEGORIES:Fellowship
ATTACH;FMTTYPE=image/jpeg:https://trinitymartinsburg.org/wp-content/uploads/2020/05/37635-e1589226634374.jpg
GEO:39.4568997;-77.9652544
X-APPLE-STRUCTURED-LOCATION;VALUE=URI;X-ADDRESS=Trinity Episcopal Church 200 W. King Street Martinsburg 25401 United States;X-APPLE-RADIUS=500;X-TITLE=200 W. King Street:geo:-77.9652544,39.4568997
END:VEVENT
BEGIN:VEVENT
DTSTART;TZID=America/New_York:20211003T113000
DTEND;TZID=America/New_York:20211003T123000
DTSTAMP:20260419T153745
CREATED:20200511T214125Z
LAST-MODIFIED:20200511T214158Z
UID:10000176-1633260600-1633264200@trinitymartinsburg.org
SUMMARY:Fellowship Digital Time
DESCRIPTION:To join click here
URL:https://trinitymartinsburg.org/calendar-event/fellowship-digital-time/2021-10-03/
LOCATION:Trinity Episcopal Church\, 200 W. King Street\, Martinsburg\, 25401\, United States
CATEGORIES:Fellowship
ATTACH;FMTTYPE=image/jpeg:https://trinitymartinsburg.org/wp-content/uploads/2020/05/37635-e1589226634374.jpg
GEO:39.4568997;-77.9652544
X-APPLE-STRUCTURED-LOCATION;VALUE=URI;X-ADDRESS=Trinity Episcopal Church 200 W. King Street Martinsburg 25401 United States;X-APPLE-RADIUS=500;X-TITLE=200 W. King Street:geo:-77.9652544,39.4568997
END:VEVENT
BEGIN:VEVENT
DTSTART;TZID=America/New_York:20210927T140000
DTEND;TZID=America/New_York:20210927T153000
DTSTAMP:20260419T153745
CREATED:20200523T022427Z
LAST-MODIFIED:20201016T160933Z
UID:10000242-1632751200-1632756600@trinitymartinsburg.org
SUMMARY:St. Mary's Guild
DESCRIPTION:All are welcome – for more information click here
URL:https://trinitymartinsburg.org/calendar-event/st-marys-guild/2021-09-27/
LOCATION:Trinity Episcopal Church\, 200 W. King Street\, Martinsburg\, 25401\, United States
ATTACH;FMTTYPE=image/jpeg:https://trinitymartinsburg.org/wp-content/uploads/2019/08/380172-e1571863950421.jpg
GEO:39.4568997;-77.9652544
X-APPLE-STRUCTURED-LOCATION;VALUE=URI;X-ADDRESS=Trinity Episcopal Church 200 W. King Street Martinsburg 25401 United States;X-APPLE-RADIUS=500;X-TITLE=200 W. King Street:geo:-77.9652544,39.4568997
END:VEVENT
BEGIN:VEVENT
DTSTART;TZID=America/New_York:20210926T113000
DTEND;TZID=America/New_York:20210926T123000
DTSTAMP:20260419T153745
CREATED:20200511T214125Z
LAST-MODIFIED:20200511T214158Z
UID:10000175-1632655800-1632659400@trinitymartinsburg.org
SUMMARY:Fellowship Digital Time
DESCRIPTION:To join click here
URL:https://trinitymartinsburg.org/calendar-event/fellowship-digital-time/2021-09-26/
LOCATION:Trinity Episcopal Church\, 200 W. King Street\, Martinsburg\, 25401\, United States
CATEGORIES:Fellowship
ATTACH;FMTTYPE=image/jpeg:https://trinitymartinsburg.org/wp-content/uploads/2020/05/37635-e1589226634374.jpg
GEO:39.4568997;-77.9652544
X-APPLE-STRUCTURED-LOCATION;VALUE=URI;X-ADDRESS=Trinity Episcopal Church 200 W. King Street Martinsburg 25401 United States;X-APPLE-RADIUS=500;X-TITLE=200 W. King Street:geo:-77.9652544,39.4568997
END:VEVENT
BEGIN:VEVENT
DTSTART;TZID=America/New_York:20210919T113000
DTEND;TZID=America/New_York:20210919T123000
DTSTAMP:20260419T153745
CREATED:20200511T214125Z
LAST-MODIFIED:20200511T214158Z
UID:10000174-1632051000-1632054600@trinitymartinsburg.org
SUMMARY:Fellowship Digital Time
DESCRIPTION:To join click here
URL:https://trinitymartinsburg.org/calendar-event/fellowship-digital-time/2021-09-19/
LOCATION:Trinity Episcopal Church\, 200 W. King Street\, Martinsburg\, 25401\, United States
CATEGORIES:Fellowship
ATTACH;FMTTYPE=image/jpeg:https://trinitymartinsburg.org/wp-content/uploads/2020/05/37635-e1589226634374.jpg
GEO:39.4568997;-77.9652544
X-APPLE-STRUCTURED-LOCATION;VALUE=URI;X-ADDRESS=Trinity Episcopal Church 200 W. King Street Martinsburg 25401 United States;X-APPLE-RADIUS=500;X-TITLE=200 W. King Street:geo:-77.9652544,39.4568997
END:VEVENT
BEGIN:VEVENT
DTSTART;TZID=America/New_York:20210912T113000
DTEND;TZID=America/New_York:20210912T123000
DTSTAMP:20260419T153745
CREATED:20200511T214125Z
LAST-MODIFIED:20200511T214158Z
UID:10000173-1631446200-1631449800@trinitymartinsburg.org
SUMMARY:Fellowship Digital Time
DESCRIPTION:To join click here
URL:https://trinitymartinsburg.org/calendar-event/fellowship-digital-time/2021-09-12/
LOCATION:Trinity Episcopal Church\, 200 W. King Street\, Martinsburg\, 25401\, United States
CATEGORIES:Fellowship
ATTACH;FMTTYPE=image/jpeg:https://trinitymartinsburg.org/wp-content/uploads/2020/05/37635-e1589226634374.jpg
GEO:39.4568997;-77.9652544
X-APPLE-STRUCTURED-LOCATION;VALUE=URI;X-ADDRESS=Trinity Episcopal Church 200 W. King Street Martinsburg 25401 United States;X-APPLE-RADIUS=500;X-TITLE=200 W. King Street:geo:-77.9652544,39.4568997
END:VEVENT
BEGIN:VEVENT
DTSTART;TZID=America/New_York:20210905T113000
DTEND;TZID=America/New_York:20210905T123000
DTSTAMP:20260419T153745
CREATED:20200511T214125Z
LAST-MODIFIED:20200511T214158Z
UID:10000172-1630841400-1630845000@trinitymartinsburg.org
SUMMARY:Fellowship Digital Time
DESCRIPTION:To join click here
URL:https://trinitymartinsburg.org/calendar-event/fellowship-digital-time/2021-09-05/
LOCATION:Trinity Episcopal Church\, 200 W. King Street\, Martinsburg\, 25401\, United States
CATEGORIES:Fellowship
ATTACH;FMTTYPE=image/jpeg:https://trinitymartinsburg.org/wp-content/uploads/2020/05/37635-e1589226634374.jpg
GEO:39.4568997;-77.9652544
X-APPLE-STRUCTURED-LOCATION;VALUE=URI;X-ADDRESS=Trinity Episcopal Church 200 W. King Street Martinsburg 25401 United States;X-APPLE-RADIUS=500;X-TITLE=200 W. King Street:geo:-77.9652544,39.4568997
END:VEVENT
BEGIN:VEVENT
DTSTART;TZID=America/New_York:20210829T113000
DTEND;TZID=America/New_York:20210829T123000
DTSTAMP:20260419T153745
CREATED:20200511T214125Z
LAST-MODIFIED:20200511T214158Z
UID:10000171-1630236600-1630240200@trinitymartinsburg.org
SUMMARY:Fellowship Digital Time
DESCRIPTION:To join click here
URL:https://trinitymartinsburg.org/calendar-event/fellowship-digital-time/2021-08-29/
LOCATION:Trinity Episcopal Church\, 200 W. King Street\, Martinsburg\, 25401\, United States
CATEGORIES:Fellowship
ATTACH;FMTTYPE=image/jpeg:https://trinitymartinsburg.org/wp-content/uploads/2020/05/37635-e1589226634374.jpg
GEO:39.4568997;-77.9652544
X-APPLE-STRUCTURED-LOCATION;VALUE=URI;X-ADDRESS=Trinity Episcopal Church 200 W. King Street Martinsburg 25401 United States;X-APPLE-RADIUS=500;X-TITLE=200 W. King Street:geo:-77.9652544,39.4568997
END:VEVENT
BEGIN:VEVENT
DTSTART;TZID=America/New_York:20210823T140000
DTEND;TZID=America/New_York:20210823T153000
DTSTAMP:20260419T153745
CREATED:20200523T022427Z
LAST-MODIFIED:20201016T160933Z
UID:10000241-1629727200-1629732600@trinitymartinsburg.org
SUMMARY:St. Mary's Guild
DESCRIPTION:All are welcome – for more information click here
URL:https://trinitymartinsburg.org/calendar-event/st-marys-guild/2021-08-23/
LOCATION:Trinity Episcopal Church\, 200 W. King Street\, Martinsburg\, 25401\, United States
ATTACH;FMTTYPE=image/jpeg:https://trinitymartinsburg.org/wp-content/uploads/2019/08/380172-e1571863950421.jpg
GEO:39.4568997;-77.9652544
X-APPLE-STRUCTURED-LOCATION;VALUE=URI;X-ADDRESS=Trinity Episcopal Church 200 W. King Street Martinsburg 25401 United States;X-APPLE-RADIUS=500;X-TITLE=200 W. King Street:geo:-77.9652544,39.4568997
END:VEVENT
BEGIN:VEVENT
DTSTART;TZID=America/New_York:20210822T113000
DTEND;TZID=America/New_York:20210822T123000
DTSTAMP:20260419T153745
CREATED:20200511T214125Z
LAST-MODIFIED:20200511T214158Z
UID:10000170-1629631800-1629635400@trinitymartinsburg.org
SUMMARY:Fellowship Digital Time
DESCRIPTION:To join click here
URL:https://trinitymartinsburg.org/calendar-event/fellowship-digital-time/2021-08-22/
LOCATION:Trinity Episcopal Church\, 200 W. King Street\, Martinsburg\, 25401\, United States
CATEGORIES:Fellowship
ATTACH;FMTTYPE=image/jpeg:https://trinitymartinsburg.org/wp-content/uploads/2020/05/37635-e1589226634374.jpg
GEO:39.4568997;-77.9652544
X-APPLE-STRUCTURED-LOCATION;VALUE=URI;X-ADDRESS=Trinity Episcopal Church 200 W. King Street Martinsburg 25401 United States;X-APPLE-RADIUS=500;X-TITLE=200 W. King Street:geo:-77.9652544,39.4568997
END:VEVENT
BEGIN:VEVENT
DTSTART;TZID=America/New_York:20210815T113000
DTEND;TZID=America/New_York:20210815T123000
DTSTAMP:20260419T153745
CREATED:20200511T214125Z
LAST-MODIFIED:20200511T214158Z
UID:10000169-1629027000-1629030600@trinitymartinsburg.org
SUMMARY:Fellowship Digital Time
DESCRIPTION:To join click here
URL:https://trinitymartinsburg.org/calendar-event/fellowship-digital-time/2021-08-15/
LOCATION:Trinity Episcopal Church\, 200 W. King Street\, Martinsburg\, 25401\, United States
CATEGORIES:Fellowship
ATTACH;FMTTYPE=image/jpeg:https://trinitymartinsburg.org/wp-content/uploads/2020/05/37635-e1589226634374.jpg
GEO:39.4568997;-77.9652544
X-APPLE-STRUCTURED-LOCATION;VALUE=URI;X-ADDRESS=Trinity Episcopal Church 200 W. King Street Martinsburg 25401 United States;X-APPLE-RADIUS=500;X-TITLE=200 W. King Street:geo:-77.9652544,39.4568997
END:VEVENT
BEGIN:VEVENT
DTSTART;TZID=America/New_York:20210808T113000
DTEND;TZID=America/New_York:20210808T123000
DTSTAMP:20260419T153745
CREATED:20200511T214125Z
LAST-MODIFIED:20200511T214158Z
UID:10000168-1628422200-1628425800@trinitymartinsburg.org
SUMMARY:Fellowship Digital Time
DESCRIPTION:To join click here
URL:https://trinitymartinsburg.org/calendar-event/fellowship-digital-time/2021-08-08/
LOCATION:Trinity Episcopal Church\, 200 W. King Street\, Martinsburg\, 25401\, United States
CATEGORIES:Fellowship
ATTACH;FMTTYPE=image/jpeg:https://trinitymartinsburg.org/wp-content/uploads/2020/05/37635-e1589226634374.jpg
GEO:39.4568997;-77.9652544
X-APPLE-STRUCTURED-LOCATION;VALUE=URI;X-ADDRESS=Trinity Episcopal Church 200 W. King Street Martinsburg 25401 United States;X-APPLE-RADIUS=500;X-TITLE=200 W. King Street:geo:-77.9652544,39.4568997
END:VEVENT
BEGIN:VEVENT
DTSTART;TZID=America/New_York:20210801T113000
DTEND;TZID=America/New_York:20210801T123000
DTSTAMP:20260419T153745
CREATED:20200511T214125Z
LAST-MODIFIED:20200511T214158Z
UID:10000167-1627817400-1627821000@trinitymartinsburg.org
SUMMARY:Fellowship Digital Time
DESCRIPTION:To join click here
URL:https://trinitymartinsburg.org/calendar-event/fellowship-digital-time/2021-08-01/
LOCATION:Trinity Episcopal Church\, 200 W. King Street\, Martinsburg\, 25401\, United States
CATEGORIES:Fellowship
ATTACH;FMTTYPE=image/jpeg:https://trinitymartinsburg.org/wp-content/uploads/2020/05/37635-e1589226634374.jpg
GEO:39.4568997;-77.9652544
X-APPLE-STRUCTURED-LOCATION;VALUE=URI;X-ADDRESS=Trinity Episcopal Church 200 W. King Street Martinsburg 25401 United States;X-APPLE-RADIUS=500;X-TITLE=200 W. King Street:geo:-77.9652544,39.4568997
END:VEVENT
BEGIN:VEVENT
DTSTART;TZID=America/New_York:20210726T140000
DTEND;TZID=America/New_York:20210726T153000
DTSTAMP:20260419T153745
CREATED:20200523T022427Z
LAST-MODIFIED:20201016T160933Z
UID:10000240-1627308000-1627313400@trinitymartinsburg.org
SUMMARY:St. Mary's Guild
DESCRIPTION:All are welcome – for more information click here
URL:https://trinitymartinsburg.org/calendar-event/st-marys-guild/2021-07-26/
LOCATION:Trinity Episcopal Church\, 200 W. King Street\, Martinsburg\, 25401\, United States
ATTACH;FMTTYPE=image/jpeg:https://trinitymartinsburg.org/wp-content/uploads/2019/08/380172-e1571863950421.jpg
GEO:39.4568997;-77.9652544
X-APPLE-STRUCTURED-LOCATION;VALUE=URI;X-ADDRESS=Trinity Episcopal Church 200 W. King Street Martinsburg 25401 United States;X-APPLE-RADIUS=500;X-TITLE=200 W. King Street:geo:-77.9652544,39.4568997
END:VEVENT
BEGIN:VEVENT
DTSTART;TZID=America/New_York:20210725T113000
DTEND;TZID=America/New_York:20210725T123000
DTSTAMP:20260419T153745
CREATED:20200511T214125Z
LAST-MODIFIED:20200511T214158Z
UID:10000166-1627212600-1627216200@trinitymartinsburg.org
SUMMARY:Fellowship Digital Time
DESCRIPTION:To join click here
URL:https://trinitymartinsburg.org/calendar-event/fellowship-digital-time/2021-07-25/
LOCATION:Trinity Episcopal Church\, 200 W. King Street\, Martinsburg\, 25401\, United States
CATEGORIES:Fellowship
ATTACH;FMTTYPE=image/jpeg:https://trinitymartinsburg.org/wp-content/uploads/2020/05/37635-e1589226634374.jpg
GEO:39.4568997;-77.9652544
X-APPLE-STRUCTURED-LOCATION;VALUE=URI;X-ADDRESS=Trinity Episcopal Church 200 W. King Street Martinsburg 25401 United States;X-APPLE-RADIUS=500;X-TITLE=200 W. King Street:geo:-77.9652544,39.4568997
END:VEVENT
BEGIN:VEVENT
DTSTART;TZID=America/New_York:20210718T113000
DTEND;TZID=America/New_York:20210718T123000
DTSTAMP:20260419T153745
CREATED:20200511T214125Z
LAST-MODIFIED:20200511T214158Z
UID:10000165-1626607800-1626611400@trinitymartinsburg.org
SUMMARY:Fellowship Digital Time
DESCRIPTION:To join click here
URL:https://trinitymartinsburg.org/calendar-event/fellowship-digital-time/2021-07-18/
LOCATION:Trinity Episcopal Church\, 200 W. King Street\, Martinsburg\, 25401\, United States
CATEGORIES:Fellowship
ATTACH;FMTTYPE=image/jpeg:https://trinitymartinsburg.org/wp-content/uploads/2020/05/37635-e1589226634374.jpg
GEO:39.4568997;-77.9652544
X-APPLE-STRUCTURED-LOCATION;VALUE=URI;X-ADDRESS=Trinity Episcopal Church 200 W. King Street Martinsburg 25401 United States;X-APPLE-RADIUS=500;X-TITLE=200 W. King Street:geo:-77.9652544,39.4568997
END:VEVENT
BEGIN:VEVENT
DTSTART;TZID=America/New_York:20210711T113000
DTEND;TZID=America/New_York:20210711T123000
DTSTAMP:20260419T153745
CREATED:20200511T214125Z
LAST-MODIFIED:20200511T214158Z
UID:10000164-1626003000-1626006600@trinitymartinsburg.org
SUMMARY:Fellowship Digital Time
DESCRIPTION:To join click here
URL:https://trinitymartinsburg.org/calendar-event/fellowship-digital-time/2021-07-11/
LOCATION:Trinity Episcopal Church\, 200 W. King Street\, Martinsburg\, 25401\, United States
CATEGORIES:Fellowship
ATTACH;FMTTYPE=image/jpeg:https://trinitymartinsburg.org/wp-content/uploads/2020/05/37635-e1589226634374.jpg
GEO:39.4568997;-77.9652544
X-APPLE-STRUCTURED-LOCATION;VALUE=URI;X-ADDRESS=Trinity Episcopal Church 200 W. King Street Martinsburg 25401 United States;X-APPLE-RADIUS=500;X-TITLE=200 W. King Street:geo:-77.9652544,39.4568997
END:VEVENT
BEGIN:VEVENT
DTSTART;TZID=America/New_York:20210704T113000
DTEND;TZID=America/New_York:20210704T123000
DTSTAMP:20260419T153745
CREATED:20200511T214125Z
LAST-MODIFIED:20200511T214158Z
UID:10000163-1625398200-1625401800@trinitymartinsburg.org
SUMMARY:Fellowship Digital Time
DESCRIPTION:To join click here
URL:https://trinitymartinsburg.org/calendar-event/fellowship-digital-time/2021-07-04/
LOCATION:Trinity Episcopal Church\, 200 W. King Street\, Martinsburg\, 25401\, United States
CATEGORIES:Fellowship
ATTACH;FMTTYPE=image/jpeg:https://trinitymartinsburg.org/wp-content/uploads/2020/05/37635-e1589226634374.jpg
GEO:39.4568997;-77.9652544
X-APPLE-STRUCTURED-LOCATION;VALUE=URI;X-ADDRESS=Trinity Episcopal Church 200 W. King Street Martinsburg 25401 United States;X-APPLE-RADIUS=500;X-TITLE=200 W. King Street:geo:-77.9652544,39.4568997
END:VEVENT
BEGIN:VEVENT
DTSTART;TZID=America/New_York:20210628T140000
DTEND;TZID=America/New_York:20210628T153000
DTSTAMP:20260419T153745
CREATED:20200523T022427Z
LAST-MODIFIED:20201016T160933Z
UID:10000239-1624888800-1624894200@trinitymartinsburg.org
SUMMARY:St. Mary's Guild
DESCRIPTION:All are welcome – for more information click here
URL:https://trinitymartinsburg.org/calendar-event/st-marys-guild/2021-06-28/
LOCATION:Trinity Episcopal Church\, 200 W. King Street\, Martinsburg\, 25401\, United States
ATTACH;FMTTYPE=image/jpeg:https://trinitymartinsburg.org/wp-content/uploads/2019/08/380172-e1571863950421.jpg
GEO:39.4568997;-77.9652544
X-APPLE-STRUCTURED-LOCATION;VALUE=URI;X-ADDRESS=Trinity Episcopal Church 200 W. King Street Martinsburg 25401 United States;X-APPLE-RADIUS=500;X-TITLE=200 W. King Street:geo:-77.9652544,39.4568997
END:VEVENT
END:VCALENDAR