BEGIN:VCALENDAR
VERSION:2.0
PRODID:-//Trinity Episcopal Church - ECPv6.15.20//NONSGML v1.0//EN
CALSCALE:GREGORIAN
METHOD:PUBLISH
X-ORIGINAL-URL:https://trinitymartinsburg.org
X-WR-CALDESC:Events for Trinity Episcopal Church
REFRESH-INTERVAL;VALUE=DURATION:PT1H
X-Robots-Tag:noindex
X-PUBLISHED-TTL:PT1H
BEGIN:VTIMEZONE
TZID:America/New_York
BEGIN:DAYLIGHT
TZOFFSETFROM:-0500
TZOFFSETTO:-0400
TZNAME:EDT
DTSTART:20210314T070000
END:DAYLIGHT
BEGIN:STANDARD
TZOFFSETFROM:-0400
TZOFFSETTO:-0500
TZNAME:EST
DTSTART:20211107T060000
END:STANDARD
BEGIN:DAYLIGHT
TZOFFSETFROM:-0500
TZOFFSETTO:-0400
TZNAME:EDT
DTSTART:20220313T070000
END:DAYLIGHT
BEGIN:STANDARD
TZOFFSETFROM:-0400
TZOFFSETTO:-0500
TZNAME:EST
DTSTART:20221106T060000
END:STANDARD
BEGIN:DAYLIGHT
TZOFFSETFROM:-0500
TZOFFSETTO:-0400
TZNAME:EDT
DTSTART:20230312T070000
END:DAYLIGHT
BEGIN:STANDARD
TZOFFSETFROM:-0400
TZOFFSETTO:-0500
TZNAME:EST
DTSTART:20231105T060000
END:STANDARD
END:VTIMEZONE
BEGIN:VEVENT
DTSTART;TZID=America/New_York:20221024T140000
DTEND;TZID=America/New_York:20221024T153000
DTSTAMP:20260419T110630
CREATED:20200523T022427Z
LAST-MODIFIED:20201016T160933Z
UID:10000255-1666620000-1666625400@trinitymartinsburg.org
SUMMARY:St. Mary's Guild
DESCRIPTION:All are welcome – for more information click here
URL:https://trinitymartinsburg.org/calendar-event/st-marys-guild/2022-10-24/
LOCATION:Trinity Episcopal Church\, 200 W. King Street\, Martinsburg\, 25401\, United States
ATTACH;FMTTYPE=image/jpeg:https://trinitymartinsburg.org/wp-content/uploads/2019/08/380172-e1571863950421.jpg
GEO:39.4568997;-77.9652544
X-APPLE-STRUCTURED-LOCATION;VALUE=URI;X-ADDRESS=Trinity Episcopal Church 200 W. King Street Martinsburg 25401 United States;X-APPLE-RADIUS=500;X-TITLE=200 W. King Street:geo:-77.9652544,39.4568997
END:VEVENT
BEGIN:VEVENT
DTSTART;TZID=America/New_York:20220926T140000
DTEND;TZID=America/New_York:20220926T153000
DTSTAMP:20260419T110630
CREATED:20200523T022427Z
LAST-MODIFIED:20201016T160933Z
UID:10000254-1664200800-1664206200@trinitymartinsburg.org
SUMMARY:St. Mary's Guild
DESCRIPTION:All are welcome – for more information click here
URL:https://trinitymartinsburg.org/calendar-event/st-marys-guild/2022-09-26/
LOCATION:Trinity Episcopal Church\, 200 W. King Street\, Martinsburg\, 25401\, United States
ATTACH;FMTTYPE=image/jpeg:https://trinitymartinsburg.org/wp-content/uploads/2019/08/380172-e1571863950421.jpg
GEO:39.4568997;-77.9652544
X-APPLE-STRUCTURED-LOCATION;VALUE=URI;X-ADDRESS=Trinity Episcopal Church 200 W. King Street Martinsburg 25401 United States;X-APPLE-RADIUS=500;X-TITLE=200 W. King Street:geo:-77.9652544,39.4568997
END:VEVENT
BEGIN:VEVENT
DTSTART;TZID=America/New_York:20220911T113000
DTEND;TZID=America/New_York:20220911T123000
DTSTAMP:20260419T110630
CREATED:20200511T214125Z
LAST-MODIFIED:20200511T214158Z
UID:10000225-1662895800-1662899400@trinitymartinsburg.org
SUMMARY:Fellowship Digital Time
DESCRIPTION:To join click here
URL:https://trinitymartinsburg.org/calendar-event/fellowship-digital-time/2022-09-11/
LOCATION:Trinity Episcopal Church\, 200 W. King Street\, Martinsburg\, 25401\, United States
CATEGORIES:Fellowship
ATTACH;FMTTYPE=image/jpeg:https://trinitymartinsburg.org/wp-content/uploads/2020/05/37635-e1589226634374.jpg
GEO:39.4568997;-77.9652544
X-APPLE-STRUCTURED-LOCATION;VALUE=URI;X-ADDRESS=Trinity Episcopal Church 200 W. King Street Martinsburg 25401 United States;X-APPLE-RADIUS=500;X-TITLE=200 W. King Street:geo:-77.9652544,39.4568997
END:VEVENT
BEGIN:VEVENT
DTSTART;TZID=America/New_York:20220904T113000
DTEND;TZID=America/New_York:20220904T123000
DTSTAMP:20260419T110630
CREATED:20200511T214125Z
LAST-MODIFIED:20200511T214158Z
UID:10000224-1662291000-1662294600@trinitymartinsburg.org
SUMMARY:Fellowship Digital Time
DESCRIPTION:To join click here
URL:https://trinitymartinsburg.org/calendar-event/fellowship-digital-time/2022-09-04/
LOCATION:Trinity Episcopal Church\, 200 W. King Street\, Martinsburg\, 25401\, United States
CATEGORIES:Fellowship
ATTACH;FMTTYPE=image/jpeg:https://trinitymartinsburg.org/wp-content/uploads/2020/05/37635-e1589226634374.jpg
GEO:39.4568997;-77.9652544
X-APPLE-STRUCTURED-LOCATION;VALUE=URI;X-ADDRESS=Trinity Episcopal Church 200 W. King Street Martinsburg 25401 United States;X-APPLE-RADIUS=500;X-TITLE=200 W. King Street:geo:-77.9652544,39.4568997
END:VEVENT
BEGIN:VEVENT
DTSTART;TZID=America/New_York:20220828T113000
DTEND;TZID=America/New_York:20220828T123000
DTSTAMP:20260419T110630
CREATED:20200511T214125Z
LAST-MODIFIED:20200511T214158Z
UID:10000223-1661686200-1661689800@trinitymartinsburg.org
SUMMARY:Fellowship Digital Time
DESCRIPTION:To join click here
URL:https://trinitymartinsburg.org/calendar-event/fellowship-digital-time/2022-08-28/
LOCATION:Trinity Episcopal Church\, 200 W. King Street\, Martinsburg\, 25401\, United States
CATEGORIES:Fellowship
ATTACH;FMTTYPE=image/jpeg:https://trinitymartinsburg.org/wp-content/uploads/2020/05/37635-e1589226634374.jpg
GEO:39.4568997;-77.9652544
X-APPLE-STRUCTURED-LOCATION;VALUE=URI;X-ADDRESS=Trinity Episcopal Church 200 W. King Street Martinsburg 25401 United States;X-APPLE-RADIUS=500;X-TITLE=200 W. King Street:geo:-77.9652544,39.4568997
END:VEVENT
BEGIN:VEVENT
DTSTART;TZID=America/New_York:20220822T140000
DTEND;TZID=America/New_York:20220822T153000
DTSTAMP:20260419T110630
CREATED:20200523T022427Z
LAST-MODIFIED:20201016T160933Z
UID:10000253-1661176800-1661182200@trinitymartinsburg.org
SUMMARY:St. Mary's Guild
DESCRIPTION:All are welcome – for more information click here
URL:https://trinitymartinsburg.org/calendar-event/st-marys-guild/2022-08-22/
LOCATION:Trinity Episcopal Church\, 200 W. King Street\, Martinsburg\, 25401\, United States
ATTACH;FMTTYPE=image/jpeg:https://trinitymartinsburg.org/wp-content/uploads/2019/08/380172-e1571863950421.jpg
GEO:39.4568997;-77.9652544
X-APPLE-STRUCTURED-LOCATION;VALUE=URI;X-ADDRESS=Trinity Episcopal Church 200 W. King Street Martinsburg 25401 United States;X-APPLE-RADIUS=500;X-TITLE=200 W. King Street:geo:-77.9652544,39.4568997
END:VEVENT
BEGIN:VEVENT
DTSTART;TZID=America/New_York:20220821T113000
DTEND;TZID=America/New_York:20220821T123000
DTSTAMP:20260419T110630
CREATED:20200511T214125Z
LAST-MODIFIED:20200511T214158Z
UID:10000222-1661081400-1661085000@trinitymartinsburg.org
SUMMARY:Fellowship Digital Time
DESCRIPTION:To join click here
URL:https://trinitymartinsburg.org/calendar-event/fellowship-digital-time/2022-08-21/
LOCATION:Trinity Episcopal Church\, 200 W. King Street\, Martinsburg\, 25401\, United States
CATEGORIES:Fellowship
ATTACH;FMTTYPE=image/jpeg:https://trinitymartinsburg.org/wp-content/uploads/2020/05/37635-e1589226634374.jpg
GEO:39.4568997;-77.9652544
X-APPLE-STRUCTURED-LOCATION;VALUE=URI;X-ADDRESS=Trinity Episcopal Church 200 W. King Street Martinsburg 25401 United States;X-APPLE-RADIUS=500;X-TITLE=200 W. King Street:geo:-77.9652544,39.4568997
END:VEVENT
BEGIN:VEVENT
DTSTART;TZID=America/New_York:20220814T113000
DTEND;TZID=America/New_York:20220814T123000
DTSTAMP:20260419T110630
CREATED:20200511T214125Z
LAST-MODIFIED:20200511T214158Z
UID:10000221-1660476600-1660480200@trinitymartinsburg.org
SUMMARY:Fellowship Digital Time
DESCRIPTION:To join click here
URL:https://trinitymartinsburg.org/calendar-event/fellowship-digital-time/2022-08-14/
LOCATION:Trinity Episcopal Church\, 200 W. King Street\, Martinsburg\, 25401\, United States
CATEGORIES:Fellowship
ATTACH;FMTTYPE=image/jpeg:https://trinitymartinsburg.org/wp-content/uploads/2020/05/37635-e1589226634374.jpg
GEO:39.4568997;-77.9652544
X-APPLE-STRUCTURED-LOCATION;VALUE=URI;X-ADDRESS=Trinity Episcopal Church 200 W. King Street Martinsburg 25401 United States;X-APPLE-RADIUS=500;X-TITLE=200 W. King Street:geo:-77.9652544,39.4568997
END:VEVENT
BEGIN:VEVENT
DTSTART;TZID=America/New_York:20220807T113000
DTEND;TZID=America/New_York:20220807T123000
DTSTAMP:20260419T110630
CREATED:20200511T214125Z
LAST-MODIFIED:20200511T214158Z
UID:10000220-1659871800-1659875400@trinitymartinsburg.org
SUMMARY:Fellowship Digital Time
DESCRIPTION:To join click here
URL:https://trinitymartinsburg.org/calendar-event/fellowship-digital-time/2022-08-07/
LOCATION:Trinity Episcopal Church\, 200 W. King Street\, Martinsburg\, 25401\, United States
CATEGORIES:Fellowship
ATTACH;FMTTYPE=image/jpeg:https://trinitymartinsburg.org/wp-content/uploads/2020/05/37635-e1589226634374.jpg
GEO:39.4568997;-77.9652544
X-APPLE-STRUCTURED-LOCATION;VALUE=URI;X-ADDRESS=Trinity Episcopal Church 200 W. King Street Martinsburg 25401 United States;X-APPLE-RADIUS=500;X-TITLE=200 W. King Street:geo:-77.9652544,39.4568997
END:VEVENT
BEGIN:VEVENT
DTSTART;TZID=America/New_York:20220731T113000
DTEND;TZID=America/New_York:20220731T123000
DTSTAMP:20260419T110630
CREATED:20200511T214125Z
LAST-MODIFIED:20200511T214158Z
UID:10000219-1659267000-1659270600@trinitymartinsburg.org
SUMMARY:Fellowship Digital Time
DESCRIPTION:To join click here
URL:https://trinitymartinsburg.org/calendar-event/fellowship-digital-time/2022-07-31/
LOCATION:Trinity Episcopal Church\, 200 W. King Street\, Martinsburg\, 25401\, United States
CATEGORIES:Fellowship
ATTACH;FMTTYPE=image/jpeg:https://trinitymartinsburg.org/wp-content/uploads/2020/05/37635-e1589226634374.jpg
GEO:39.4568997;-77.9652544
X-APPLE-STRUCTURED-LOCATION;VALUE=URI;X-ADDRESS=Trinity Episcopal Church 200 W. King Street Martinsburg 25401 United States;X-APPLE-RADIUS=500;X-TITLE=200 W. King Street:geo:-77.9652544,39.4568997
END:VEVENT
BEGIN:VEVENT
DTSTART;TZID=America/New_York:20220725T140000
DTEND;TZID=America/New_York:20220725T153000
DTSTAMP:20260419T110630
CREATED:20200523T022427Z
LAST-MODIFIED:20201016T160933Z
UID:10000252-1658757600-1658763000@trinitymartinsburg.org
SUMMARY:St. Mary's Guild
DESCRIPTION:All are welcome – for more information click here
URL:https://trinitymartinsburg.org/calendar-event/st-marys-guild/2022-07-25/
LOCATION:Trinity Episcopal Church\, 200 W. King Street\, Martinsburg\, 25401\, United States
ATTACH;FMTTYPE=image/jpeg:https://trinitymartinsburg.org/wp-content/uploads/2019/08/380172-e1571863950421.jpg
GEO:39.4568997;-77.9652544
X-APPLE-STRUCTURED-LOCATION;VALUE=URI;X-ADDRESS=Trinity Episcopal Church 200 W. King Street Martinsburg 25401 United States;X-APPLE-RADIUS=500;X-TITLE=200 W. King Street:geo:-77.9652544,39.4568997
END:VEVENT
BEGIN:VEVENT
DTSTART;TZID=America/New_York:20220724T113000
DTEND;TZID=America/New_York:20220724T123000
DTSTAMP:20260419T110630
CREATED:20200511T214125Z
LAST-MODIFIED:20200511T214158Z
UID:10000218-1658662200-1658665800@trinitymartinsburg.org
SUMMARY:Fellowship Digital Time
DESCRIPTION:To join click here
URL:https://trinitymartinsburg.org/calendar-event/fellowship-digital-time/2022-07-24/
LOCATION:Trinity Episcopal Church\, 200 W. King Street\, Martinsburg\, 25401\, United States
CATEGORIES:Fellowship
ATTACH;FMTTYPE=image/jpeg:https://trinitymartinsburg.org/wp-content/uploads/2020/05/37635-e1589226634374.jpg
GEO:39.4568997;-77.9652544
X-APPLE-STRUCTURED-LOCATION;VALUE=URI;X-ADDRESS=Trinity Episcopal Church 200 W. King Street Martinsburg 25401 United States;X-APPLE-RADIUS=500;X-TITLE=200 W. King Street:geo:-77.9652544,39.4568997
END:VEVENT
BEGIN:VEVENT
DTSTART;TZID=America/New_York:20220717T113000
DTEND;TZID=America/New_York:20220717T123000
DTSTAMP:20260419T110630
CREATED:20200511T214125Z
LAST-MODIFIED:20200511T214158Z
UID:10000217-1658057400-1658061000@trinitymartinsburg.org
SUMMARY:Fellowship Digital Time
DESCRIPTION:To join click here
URL:https://trinitymartinsburg.org/calendar-event/fellowship-digital-time/2022-07-17/
LOCATION:Trinity Episcopal Church\, 200 W. King Street\, Martinsburg\, 25401\, United States
CATEGORIES:Fellowship
ATTACH;FMTTYPE=image/jpeg:https://trinitymartinsburg.org/wp-content/uploads/2020/05/37635-e1589226634374.jpg
GEO:39.4568997;-77.9652544
X-APPLE-STRUCTURED-LOCATION;VALUE=URI;X-ADDRESS=Trinity Episcopal Church 200 W. King Street Martinsburg 25401 United States;X-APPLE-RADIUS=500;X-TITLE=200 W. King Street:geo:-77.9652544,39.4568997
END:VEVENT
BEGIN:VEVENT
DTSTART;TZID=America/New_York:20220710T113000
DTEND;TZID=America/New_York:20220710T123000
DTSTAMP:20260419T110630
CREATED:20200511T214125Z
LAST-MODIFIED:20200511T214158Z
UID:10000216-1657452600-1657456200@trinitymartinsburg.org
SUMMARY:Fellowship Digital Time
DESCRIPTION:To join click here
URL:https://trinitymartinsburg.org/calendar-event/fellowship-digital-time/2022-07-10/
LOCATION:Trinity Episcopal Church\, 200 W. King Street\, Martinsburg\, 25401\, United States
CATEGORIES:Fellowship
ATTACH;FMTTYPE=image/jpeg:https://trinitymartinsburg.org/wp-content/uploads/2020/05/37635-e1589226634374.jpg
GEO:39.4568997;-77.9652544
X-APPLE-STRUCTURED-LOCATION;VALUE=URI;X-ADDRESS=Trinity Episcopal Church 200 W. King Street Martinsburg 25401 United States;X-APPLE-RADIUS=500;X-TITLE=200 W. King Street:geo:-77.9652544,39.4568997
END:VEVENT
BEGIN:VEVENT
DTSTART;TZID=America/New_York:20220703T113000
DTEND;TZID=America/New_York:20220703T123000
DTSTAMP:20260419T110630
CREATED:20200511T214125Z
LAST-MODIFIED:20200511T214158Z
UID:10000215-1656847800-1656851400@trinitymartinsburg.org
SUMMARY:Fellowship Digital Time
DESCRIPTION:To join click here
URL:https://trinitymartinsburg.org/calendar-event/fellowship-digital-time/2022-07-03/
LOCATION:Trinity Episcopal Church\, 200 W. King Street\, Martinsburg\, 25401\, United States
CATEGORIES:Fellowship
ATTACH;FMTTYPE=image/jpeg:https://trinitymartinsburg.org/wp-content/uploads/2020/05/37635-e1589226634374.jpg
GEO:39.4568997;-77.9652544
X-APPLE-STRUCTURED-LOCATION;VALUE=URI;X-ADDRESS=Trinity Episcopal Church 200 W. King Street Martinsburg 25401 United States;X-APPLE-RADIUS=500;X-TITLE=200 W. King Street:geo:-77.9652544,39.4568997
END:VEVENT
BEGIN:VEVENT
DTSTART;TZID=America/New_York:20220627T140000
DTEND;TZID=America/New_York:20220627T153000
DTSTAMP:20260419T110630
CREATED:20200523T022427Z
LAST-MODIFIED:20201016T160933Z
UID:10000251-1656338400-1656343800@trinitymartinsburg.org
SUMMARY:St. Mary's Guild
DESCRIPTION:All are welcome – for more information click here
URL:https://trinitymartinsburg.org/calendar-event/st-marys-guild/2022-06-27/
LOCATION:Trinity Episcopal Church\, 200 W. King Street\, Martinsburg\, 25401\, United States
ATTACH;FMTTYPE=image/jpeg:https://trinitymartinsburg.org/wp-content/uploads/2019/08/380172-e1571863950421.jpg
GEO:39.4568997;-77.9652544
X-APPLE-STRUCTURED-LOCATION;VALUE=URI;X-ADDRESS=Trinity Episcopal Church 200 W. King Street Martinsburg 25401 United States;X-APPLE-RADIUS=500;X-TITLE=200 W. King Street:geo:-77.9652544,39.4568997
END:VEVENT
BEGIN:VEVENT
DTSTART;TZID=America/New_York:20220626T113000
DTEND;TZID=America/New_York:20220626T123000
DTSTAMP:20260419T110630
CREATED:20200511T214125Z
LAST-MODIFIED:20200511T214158Z
UID:10000214-1656243000-1656246600@trinitymartinsburg.org
SUMMARY:Fellowship Digital Time
DESCRIPTION:To join click here
URL:https://trinitymartinsburg.org/calendar-event/fellowship-digital-time/2022-06-26/
LOCATION:Trinity Episcopal Church\, 200 W. King Street\, Martinsburg\, 25401\, United States
CATEGORIES:Fellowship
ATTACH;FMTTYPE=image/jpeg:https://trinitymartinsburg.org/wp-content/uploads/2020/05/37635-e1589226634374.jpg
GEO:39.4568997;-77.9652544
X-APPLE-STRUCTURED-LOCATION;VALUE=URI;X-ADDRESS=Trinity Episcopal Church 200 W. King Street Martinsburg 25401 United States;X-APPLE-RADIUS=500;X-TITLE=200 W. King Street:geo:-77.9652544,39.4568997
END:VEVENT
BEGIN:VEVENT
DTSTART;TZID=America/New_York:20220619T113000
DTEND;TZID=America/New_York:20220619T123000
DTSTAMP:20260419T110630
CREATED:20200511T214125Z
LAST-MODIFIED:20200511T214158Z
UID:10000213-1655638200-1655641800@trinitymartinsburg.org
SUMMARY:Fellowship Digital Time
DESCRIPTION:To join click here
URL:https://trinitymartinsburg.org/calendar-event/fellowship-digital-time/2022-06-19/
LOCATION:Trinity Episcopal Church\, 200 W. King Street\, Martinsburg\, 25401\, United States
CATEGORIES:Fellowship
ATTACH;FMTTYPE=image/jpeg:https://trinitymartinsburg.org/wp-content/uploads/2020/05/37635-e1589226634374.jpg
GEO:39.4568997;-77.9652544
X-APPLE-STRUCTURED-LOCATION;VALUE=URI;X-ADDRESS=Trinity Episcopal Church 200 W. King Street Martinsburg 25401 United States;X-APPLE-RADIUS=500;X-TITLE=200 W. King Street:geo:-77.9652544,39.4568997
END:VEVENT
BEGIN:VEVENT
DTSTART;TZID=America/New_York:20220612T113000
DTEND;TZID=America/New_York:20220612T123000
DTSTAMP:20260419T110630
CREATED:20200511T214125Z
LAST-MODIFIED:20200511T214158Z
UID:10000212-1655033400-1655037000@trinitymartinsburg.org
SUMMARY:Fellowship Digital Time
DESCRIPTION:To join click here
URL:https://trinitymartinsburg.org/calendar-event/fellowship-digital-time/2022-06-12/
LOCATION:Trinity Episcopal Church\, 200 W. King Street\, Martinsburg\, 25401\, United States
CATEGORIES:Fellowship
ATTACH;FMTTYPE=image/jpeg:https://trinitymartinsburg.org/wp-content/uploads/2020/05/37635-e1589226634374.jpg
GEO:39.4568997;-77.9652544
X-APPLE-STRUCTURED-LOCATION;VALUE=URI;X-ADDRESS=Trinity Episcopal Church 200 W. King Street Martinsburg 25401 United States;X-APPLE-RADIUS=500;X-TITLE=200 W. King Street:geo:-77.9652544,39.4568997
END:VEVENT
BEGIN:VEVENT
DTSTART;TZID=America/New_York:20220605T113000
DTEND;TZID=America/New_York:20220605T123000
DTSTAMP:20260419T110630
CREATED:20200511T214125Z
LAST-MODIFIED:20200511T214158Z
UID:10000211-1654428600-1654432200@trinitymartinsburg.org
SUMMARY:Fellowship Digital Time
DESCRIPTION:To join click here
URL:https://trinitymartinsburg.org/calendar-event/fellowship-digital-time/2022-06-05/
LOCATION:Trinity Episcopal Church\, 200 W. King Street\, Martinsburg\, 25401\, United States
CATEGORIES:Fellowship
ATTACH;FMTTYPE=image/jpeg:https://trinitymartinsburg.org/wp-content/uploads/2020/05/37635-e1589226634374.jpg
GEO:39.4568997;-77.9652544
X-APPLE-STRUCTURED-LOCATION;VALUE=URI;X-ADDRESS=Trinity Episcopal Church 200 W. King Street Martinsburg 25401 United States;X-APPLE-RADIUS=500;X-TITLE=200 W. King Street:geo:-77.9652544,39.4568997
END:VEVENT
BEGIN:VEVENT
DTSTART;TZID=America/New_York:20220529T113000
DTEND;TZID=America/New_York:20220529T123000
DTSTAMP:20260419T110630
CREATED:20200511T214125Z
LAST-MODIFIED:20200511T214158Z
UID:10000210-1653823800-1653827400@trinitymartinsburg.org
SUMMARY:Fellowship Digital Time
DESCRIPTION:To join click here
URL:https://trinitymartinsburg.org/calendar-event/fellowship-digital-time/2022-05-29/
LOCATION:Trinity Episcopal Church\, 200 W. King Street\, Martinsburg\, 25401\, United States
CATEGORIES:Fellowship
ATTACH;FMTTYPE=image/jpeg:https://trinitymartinsburg.org/wp-content/uploads/2020/05/37635-e1589226634374.jpg
GEO:39.4568997;-77.9652544
X-APPLE-STRUCTURED-LOCATION;VALUE=URI;X-ADDRESS=Trinity Episcopal Church 200 W. King Street Martinsburg 25401 United States;X-APPLE-RADIUS=500;X-TITLE=200 W. King Street:geo:-77.9652544,39.4568997
END:VEVENT
BEGIN:VEVENT
DTSTART;TZID=America/New_York:20220523T140000
DTEND;TZID=America/New_York:20220523T153000
DTSTAMP:20260419T110630
CREATED:20200523T022427Z
LAST-MODIFIED:20201016T160933Z
UID:10000250-1653314400-1653319800@trinitymartinsburg.org
SUMMARY:St. Mary's Guild
DESCRIPTION:All are welcome – for more information click here
URL:https://trinitymartinsburg.org/calendar-event/st-marys-guild/2022-05-23/
LOCATION:Trinity Episcopal Church\, 200 W. King Street\, Martinsburg\, 25401\, United States
ATTACH;FMTTYPE=image/jpeg:https://trinitymartinsburg.org/wp-content/uploads/2019/08/380172-e1571863950421.jpg
GEO:39.4568997;-77.9652544
X-APPLE-STRUCTURED-LOCATION;VALUE=URI;X-ADDRESS=Trinity Episcopal Church 200 W. King Street Martinsburg 25401 United States;X-APPLE-RADIUS=500;X-TITLE=200 W. King Street:geo:-77.9652544,39.4568997
END:VEVENT
BEGIN:VEVENT
DTSTART;TZID=America/New_York:20220522T113000
DTEND;TZID=America/New_York:20220522T123000
DTSTAMP:20260419T110630
CREATED:20200511T214125Z
LAST-MODIFIED:20200511T214158Z
UID:10000209-1653219000-1653222600@trinitymartinsburg.org
SUMMARY:Fellowship Digital Time
DESCRIPTION:To join click here
URL:https://trinitymartinsburg.org/calendar-event/fellowship-digital-time/2022-05-22/
LOCATION:Trinity Episcopal Church\, 200 W. King Street\, Martinsburg\, 25401\, United States
CATEGORIES:Fellowship
ATTACH;FMTTYPE=image/jpeg:https://trinitymartinsburg.org/wp-content/uploads/2020/05/37635-e1589226634374.jpg
GEO:39.4568997;-77.9652544
X-APPLE-STRUCTURED-LOCATION;VALUE=URI;X-ADDRESS=Trinity Episcopal Church 200 W. King Street Martinsburg 25401 United States;X-APPLE-RADIUS=500;X-TITLE=200 W. King Street:geo:-77.9652544,39.4568997
END:VEVENT
BEGIN:VEVENT
DTSTART;TZID=America/New_York:20220515T113000
DTEND;TZID=America/New_York:20220515T123000
DTSTAMP:20260419T110630
CREATED:20200511T214125Z
LAST-MODIFIED:20200511T214158Z
UID:10000208-1652614200-1652617800@trinitymartinsburg.org
SUMMARY:Fellowship Digital Time
DESCRIPTION:To join click here
URL:https://trinitymartinsburg.org/calendar-event/fellowship-digital-time/2022-05-15/
LOCATION:Trinity Episcopal Church\, 200 W. King Street\, Martinsburg\, 25401\, United States
CATEGORIES:Fellowship
ATTACH;FMTTYPE=image/jpeg:https://trinitymartinsburg.org/wp-content/uploads/2020/05/37635-e1589226634374.jpg
GEO:39.4568997;-77.9652544
X-APPLE-STRUCTURED-LOCATION;VALUE=URI;X-ADDRESS=Trinity Episcopal Church 200 W. King Street Martinsburg 25401 United States;X-APPLE-RADIUS=500;X-TITLE=200 W. King Street:geo:-77.9652544,39.4568997
END:VEVENT
BEGIN:VEVENT
DTSTART;TZID=America/New_York:20220508T113000
DTEND;TZID=America/New_York:20220508T123000
DTSTAMP:20260419T110630
CREATED:20200511T214125Z
LAST-MODIFIED:20200511T214158Z
UID:10000207-1652009400-1652013000@trinitymartinsburg.org
SUMMARY:Fellowship Digital Time
DESCRIPTION:To join click here
URL:https://trinitymartinsburg.org/calendar-event/fellowship-digital-time/2022-05-08/
LOCATION:Trinity Episcopal Church\, 200 W. King Street\, Martinsburg\, 25401\, United States
CATEGORIES:Fellowship
ATTACH;FMTTYPE=image/jpeg:https://trinitymartinsburg.org/wp-content/uploads/2020/05/37635-e1589226634374.jpg
GEO:39.4568997;-77.9652544
X-APPLE-STRUCTURED-LOCATION;VALUE=URI;X-ADDRESS=Trinity Episcopal Church 200 W. King Street Martinsburg 25401 United States;X-APPLE-RADIUS=500;X-TITLE=200 W. King Street:geo:-77.9652544,39.4568997
END:VEVENT
BEGIN:VEVENT
DTSTART;TZID=America/New_York:20220501T113000
DTEND;TZID=America/New_York:20220501T123000
DTSTAMP:20260419T110630
CREATED:20200511T214125Z
LAST-MODIFIED:20200511T214158Z
UID:10000206-1651404600-1651408200@trinitymartinsburg.org
SUMMARY:Fellowship Digital Time
DESCRIPTION:To join click here
URL:https://trinitymartinsburg.org/calendar-event/fellowship-digital-time/2022-05-01/
LOCATION:Trinity Episcopal Church\, 200 W. King Street\, Martinsburg\, 25401\, United States
CATEGORIES:Fellowship
ATTACH;FMTTYPE=image/jpeg:https://trinitymartinsburg.org/wp-content/uploads/2020/05/37635-e1589226634374.jpg
GEO:39.4568997;-77.9652544
X-APPLE-STRUCTURED-LOCATION;VALUE=URI;X-ADDRESS=Trinity Episcopal Church 200 W. King Street Martinsburg 25401 United States;X-APPLE-RADIUS=500;X-TITLE=200 W. King Street:geo:-77.9652544,39.4568997
END:VEVENT
BEGIN:VEVENT
DTSTART;TZID=America/New_York:20220425T140000
DTEND;TZID=America/New_York:20220425T153000
DTSTAMP:20260419T110630
CREATED:20200523T022427Z
LAST-MODIFIED:20201016T160933Z
UID:10000249-1650895200-1650900600@trinitymartinsburg.org
SUMMARY:St. Mary's Guild
DESCRIPTION:All are welcome – for more information click here
URL:https://trinitymartinsburg.org/calendar-event/st-marys-guild/2022-04-25/
LOCATION:Trinity Episcopal Church\, 200 W. King Street\, Martinsburg\, 25401\, United States
ATTACH;FMTTYPE=image/jpeg:https://trinitymartinsburg.org/wp-content/uploads/2019/08/380172-e1571863950421.jpg
GEO:39.4568997;-77.9652544
X-APPLE-STRUCTURED-LOCATION;VALUE=URI;X-ADDRESS=Trinity Episcopal Church 200 W. King Street Martinsburg 25401 United States;X-APPLE-RADIUS=500;X-TITLE=200 W. King Street:geo:-77.9652544,39.4568997
END:VEVENT
BEGIN:VEVENT
DTSTART;TZID=America/New_York:20220424T113000
DTEND;TZID=America/New_York:20220424T123000
DTSTAMP:20260419T110630
CREATED:20200511T214125Z
LAST-MODIFIED:20200511T214158Z
UID:10000205-1650799800-1650803400@trinitymartinsburg.org
SUMMARY:Fellowship Digital Time
DESCRIPTION:To join click here
URL:https://trinitymartinsburg.org/calendar-event/fellowship-digital-time/2022-04-24/
LOCATION:Trinity Episcopal Church\, 200 W. King Street\, Martinsburg\, 25401\, United States
CATEGORIES:Fellowship
ATTACH;FMTTYPE=image/jpeg:https://trinitymartinsburg.org/wp-content/uploads/2020/05/37635-e1589226634374.jpg
GEO:39.4568997;-77.9652544
X-APPLE-STRUCTURED-LOCATION;VALUE=URI;X-ADDRESS=Trinity Episcopal Church 200 W. King Street Martinsburg 25401 United States;X-APPLE-RADIUS=500;X-TITLE=200 W. King Street:geo:-77.9652544,39.4568997
END:VEVENT
BEGIN:VEVENT
DTSTART;TZID=America/New_York:20220417T113000
DTEND;TZID=America/New_York:20220417T123000
DTSTAMP:20260419T110630
CREATED:20200511T214125Z
LAST-MODIFIED:20200511T214158Z
UID:10000204-1650195000-1650198600@trinitymartinsburg.org
SUMMARY:Fellowship Digital Time
DESCRIPTION:To join click here
URL:https://trinitymartinsburg.org/calendar-event/fellowship-digital-time/2022-04-17/
LOCATION:Trinity Episcopal Church\, 200 W. King Street\, Martinsburg\, 25401\, United States
CATEGORIES:Fellowship
ATTACH;FMTTYPE=image/jpeg:https://trinitymartinsburg.org/wp-content/uploads/2020/05/37635-e1589226634374.jpg
GEO:39.4568997;-77.9652544
X-APPLE-STRUCTURED-LOCATION;VALUE=URI;X-ADDRESS=Trinity Episcopal Church 200 W. King Street Martinsburg 25401 United States;X-APPLE-RADIUS=500;X-TITLE=200 W. King Street:geo:-77.9652544,39.4568997
END:VEVENT
BEGIN:VEVENT
DTSTART;TZID=America/New_York:20220410T113000
DTEND;TZID=America/New_York:20220410T123000
DTSTAMP:20260419T110630
CREATED:20200511T214125Z
LAST-MODIFIED:20200511T214158Z
UID:10000203-1649590200-1649593800@trinitymartinsburg.org
SUMMARY:Fellowship Digital Time
DESCRIPTION:To join click here
URL:https://trinitymartinsburg.org/calendar-event/fellowship-digital-time/2022-04-10/
LOCATION:Trinity Episcopal Church\, 200 W. King Street\, Martinsburg\, 25401\, United States
CATEGORIES:Fellowship
ATTACH;FMTTYPE=image/jpeg:https://trinitymartinsburg.org/wp-content/uploads/2020/05/37635-e1589226634374.jpg
GEO:39.4568997;-77.9652544
X-APPLE-STRUCTURED-LOCATION;VALUE=URI;X-ADDRESS=Trinity Episcopal Church 200 W. King Street Martinsburg 25401 United States;X-APPLE-RADIUS=500;X-TITLE=200 W. King Street:geo:-77.9652544,39.4568997
END:VEVENT
END:VCALENDAR