BEGIN:VCALENDAR
VERSION:2.0
PRODID:-//Trinity Episcopal Church - ECPv6.15.20//NONSGML v1.0//EN
CALSCALE:GREGORIAN
METHOD:PUBLISH
X-ORIGINAL-URL:https://trinitymartinsburg.org
X-WR-CALDESC:Events for Trinity Episcopal Church
REFRESH-INTERVAL;VALUE=DURATION:PT1H
X-Robots-Tag:noindex
X-PUBLISHED-TTL:PT1H
BEGIN:VTIMEZONE
TZID:America/New_York
BEGIN:DAYLIGHT
TZOFFSETFROM:-0500
TZOFFSETTO:-0400
TZNAME:EDT
DTSTART:20180311T070000
END:DAYLIGHT
BEGIN:STANDARD
TZOFFSETFROM:-0400
TZOFFSETTO:-0500
TZNAME:EST
DTSTART:20181104T060000
END:STANDARD
BEGIN:DAYLIGHT
TZOFFSETFROM:-0500
TZOFFSETTO:-0400
TZNAME:EDT
DTSTART:20190310T070000
END:DAYLIGHT
BEGIN:STANDARD
TZOFFSETFROM:-0400
TZOFFSETTO:-0500
TZNAME:EST
DTSTART:20191103T060000
END:STANDARD
BEGIN:DAYLIGHT
TZOFFSETFROM:-0500
TZOFFSETTO:-0400
TZNAME:EDT
DTSTART:20200308T070000
END:DAYLIGHT
BEGIN:STANDARD
TZOFFSETFROM:-0400
TZOFFSETTO:-0500
TZNAME:EST
DTSTART:20201101T060000
END:STANDARD
END:VTIMEZONE
BEGIN:VEVENT
DTSTART;TZID=America/New_York:20190907T080000
DTEND;TZID=America/New_York:20190907T130000
DTSTAMP:20260423T052911
CREATED:20190829T234020Z
LAST-MODIFIED:20190830T204150Z
UID:10000001-1567843200-1567861200@trinitymartinsburg.org
SUMMARY:Courtyard Clean Up
DESCRIPTION:
URL:https://trinitymartinsburg.org/calendar-event/courtyard-clean-up/
LOCATION:Trinity Episcopal Church\, 200 W. King Street\, Martinsburg\, 25401\, United States
CATEGORIES:Fellowship
GEO:39.4568997;-77.9652544
X-APPLE-STRUCTURED-LOCATION;VALUE=URI;X-ADDRESS=Trinity Episcopal Church 200 W. King Street Martinsburg 25401 United States;X-APPLE-RADIUS=500;X-TITLE=200 W. King Street:geo:-77.9652544,39.4568997
END:VEVENT
BEGIN:VEVENT
DTSTART;TZID=America/New_York:20190905T190000
DTEND;TZID=America/New_York:20190905T200000
DTSTAMP:20260423T052911
CREATED:20190830T021303Z
LAST-MODIFIED:20190830T021900Z
UID:10000046-1567710000-1567713600@trinitymartinsburg.org
SUMMARY:Choir Rehearsal
DESCRIPTION:
URL:https://trinitymartinsburg.org/calendar-event/choir-rehearsal/2019-09-05/
LOCATION:Trinity Episcopal Church\, 200 W. King Street\, Martinsburg\, 25401\, United States
CATEGORIES:Worship
ATTACH;FMTTYPE=image/png:https://trinitymartinsburg.org/wp-content/uploads/2019/08/Music-Notes-1.png
GEO:39.4568997;-77.9652544
X-APPLE-STRUCTURED-LOCATION;VALUE=URI;X-ADDRESS=Trinity Episcopal Church 200 W. King Street Martinsburg 25401 United States;X-APPLE-RADIUS=500;X-TITLE=200 W. King Street:geo:-77.9652544,39.4568997
END:VEVENT
BEGIN:VEVENT
DTSTART;TZID=America/New_York:20190901T093000
DTEND;TZID=America/New_York:20190901T100000
DTSTAMP:20260423T052911
CREATED:20190830T022204Z
LAST-MODIFIED:20191008T175332Z
UID:10000063-1567330200-1567332000@trinitymartinsburg.org
SUMMARY:Choir Rehearsal
DESCRIPTION:
URL:https://trinitymartinsburg.org/calendar-event/choir-rehearsal-2/2019-09-01/
LOCATION:Trinity Episcopal Church\, 200 W. King Street\, Martinsburg\, 25401\, United States
CATEGORIES:Worship
ATTACH;FMTTYPE=image/png:https://trinitymartinsburg.org/wp-content/uploads/2019/08/Music-Notes-1.png
GEO:39.4568997;-77.9652544
X-APPLE-STRUCTURED-LOCATION;VALUE=URI;X-ADDRESS=Trinity Episcopal Church 200 W. King Street Martinsburg 25401 United States;X-APPLE-RADIUS=500;X-TITLE=200 W. King Street:geo:-77.9652544,39.4568997
END:VEVENT
BEGIN:VEVENT
DTSTART;TZID=America/New_York:20190829T190000
DTEND;TZID=America/New_York:20190829T200000
DTSTAMP:20260423T052911
CREATED:20190830T021303Z
LAST-MODIFIED:20190830T021900Z
UID:10000045-1567105200-1567108800@trinitymartinsburg.org
SUMMARY:Choir Rehearsal
DESCRIPTION:
URL:https://trinitymartinsburg.org/calendar-event/choir-rehearsal/2019-08-29/
LOCATION:Trinity Episcopal Church\, 200 W. King Street\, Martinsburg\, 25401\, United States
CATEGORIES:Worship
ATTACH;FMTTYPE=image/png:https://trinitymartinsburg.org/wp-content/uploads/2019/08/Music-Notes-1.png
GEO:39.4568997;-77.9652544
X-APPLE-STRUCTURED-LOCATION;VALUE=URI;X-ADDRESS=Trinity Episcopal Church 200 W. King Street Martinsburg 25401 United States;X-APPLE-RADIUS=500;X-TITLE=200 W. King Street:geo:-77.9652544,39.4568997
END:VEVENT
END:VCALENDAR