BEGIN:VCALENDAR
VERSION:2.0
PRODID:-//Trinity Episcopal Church - ECPv6.15.20//NONSGML v1.0//EN
CALSCALE:GREGORIAN
METHOD:PUBLISH
X-WR-CALNAME:Trinity Episcopal Church
X-ORIGINAL-URL:https://trinitymartinsburg.org
X-WR-CALDESC:Events for Trinity Episcopal Church
REFRESH-INTERVAL;VALUE=DURATION:PT1H
X-Robots-Tag:noindex
X-PUBLISHED-TTL:PT1H
BEGIN:VTIMEZONE
TZID:America/New_York
BEGIN:DAYLIGHT
TZOFFSETFROM:-0500
TZOFFSETTO:-0400
TZNAME:EDT
DTSTART:20200308T070000
END:DAYLIGHT
BEGIN:STANDARD
TZOFFSETFROM:-0400
TZOFFSETTO:-0500
TZNAME:EST
DTSTART:20201101T060000
END:STANDARD
BEGIN:DAYLIGHT
TZOFFSETFROM:-0500
TZOFFSETTO:-0400
TZNAME:EDT
DTSTART:20210314T070000
END:DAYLIGHT
BEGIN:STANDARD
TZOFFSETFROM:-0400
TZOFFSETTO:-0500
TZNAME:EST
DTSTART:20211107T060000
END:STANDARD
BEGIN:DAYLIGHT
TZOFFSETFROM:-0500
TZOFFSETTO:-0400
TZNAME:EDT
DTSTART:20220313T070000
END:DAYLIGHT
BEGIN:STANDARD
TZOFFSETFROM:-0400
TZOFFSETTO:-0500
TZNAME:EST
DTSTART:20221106T060000
END:STANDARD
END:VTIMEZONE
BEGIN:VEVENT
DTSTART;TZID=America/New_York:20210822T113000
DTEND;TZID=America/New_York:20210822T123000
DTSTAMP:20260419T223725
CREATED:20200511T214125Z
LAST-MODIFIED:20200511T214158Z
UID:10000170-1629631800-1629635400@trinitymartinsburg.org
SUMMARY:Fellowship Digital Time
DESCRIPTION:To join click here
URL:https://trinitymartinsburg.org/calendar-event/fellowship-digital-time/2021-08-22/
LOCATION:Trinity Episcopal Church\, 200 W. King Street\, Martinsburg\, 25401\, United States
CATEGORIES:Fellowship
ATTACH;FMTTYPE=image/jpeg:https://trinitymartinsburg.org/wp-content/uploads/2020/05/37635-e1589226634374.jpg
GEO:39.4568997;-77.9652544
X-APPLE-STRUCTURED-LOCATION;VALUE=URI;X-ADDRESS=Trinity Episcopal Church 200 W. King Street Martinsburg 25401 United States;X-APPLE-RADIUS=500;X-TITLE=200 W. King Street:geo:-77.9652544,39.4568997
END:VEVENT
BEGIN:VEVENT
DTSTART;TZID=America/New_York:20210815T113000
DTEND;TZID=America/New_York:20210815T123000
DTSTAMP:20260419T223725
CREATED:20200511T214125Z
LAST-MODIFIED:20200511T214158Z
UID:10000169-1629027000-1629030600@trinitymartinsburg.org
SUMMARY:Fellowship Digital Time
DESCRIPTION:To join click here
URL:https://trinitymartinsburg.org/calendar-event/fellowship-digital-time/2021-08-15/
LOCATION:Trinity Episcopal Church\, 200 W. King Street\, Martinsburg\, 25401\, United States
CATEGORIES:Fellowship
ATTACH;FMTTYPE=image/jpeg:https://trinitymartinsburg.org/wp-content/uploads/2020/05/37635-e1589226634374.jpg
GEO:39.4568997;-77.9652544
X-APPLE-STRUCTURED-LOCATION;VALUE=URI;X-ADDRESS=Trinity Episcopal Church 200 W. King Street Martinsburg 25401 United States;X-APPLE-RADIUS=500;X-TITLE=200 W. King Street:geo:-77.9652544,39.4568997
END:VEVENT
BEGIN:VEVENT
DTSTART;TZID=America/New_York:20210808T113000
DTEND;TZID=America/New_York:20210808T123000
DTSTAMP:20260419T223725
CREATED:20200511T214125Z
LAST-MODIFIED:20200511T214158Z
UID:10000168-1628422200-1628425800@trinitymartinsburg.org
SUMMARY:Fellowship Digital Time
DESCRIPTION:To join click here
URL:https://trinitymartinsburg.org/calendar-event/fellowship-digital-time/2021-08-08/
LOCATION:Trinity Episcopal Church\, 200 W. King Street\, Martinsburg\, 25401\, United States
CATEGORIES:Fellowship
ATTACH;FMTTYPE=image/jpeg:https://trinitymartinsburg.org/wp-content/uploads/2020/05/37635-e1589226634374.jpg
GEO:39.4568997;-77.9652544
X-APPLE-STRUCTURED-LOCATION;VALUE=URI;X-ADDRESS=Trinity Episcopal Church 200 W. King Street Martinsburg 25401 United States;X-APPLE-RADIUS=500;X-TITLE=200 W. King Street:geo:-77.9652544,39.4568997
END:VEVENT
BEGIN:VEVENT
DTSTART;TZID=America/New_York:20210801T113000
DTEND;TZID=America/New_York:20210801T123000
DTSTAMP:20260419T223725
CREATED:20200511T214125Z
LAST-MODIFIED:20200511T214158Z
UID:10000167-1627817400-1627821000@trinitymartinsburg.org
SUMMARY:Fellowship Digital Time
DESCRIPTION:To join click here
URL:https://trinitymartinsburg.org/calendar-event/fellowship-digital-time/2021-08-01/
LOCATION:Trinity Episcopal Church\, 200 W. King Street\, Martinsburg\, 25401\, United States
CATEGORIES:Fellowship
ATTACH;FMTTYPE=image/jpeg:https://trinitymartinsburg.org/wp-content/uploads/2020/05/37635-e1589226634374.jpg
GEO:39.4568997;-77.9652544
X-APPLE-STRUCTURED-LOCATION;VALUE=URI;X-ADDRESS=Trinity Episcopal Church 200 W. King Street Martinsburg 25401 United States;X-APPLE-RADIUS=500;X-TITLE=200 W. King Street:geo:-77.9652544,39.4568997
END:VEVENT
BEGIN:VEVENT
DTSTART;TZID=America/New_York:20210726T140000
DTEND;TZID=America/New_York:20210726T153000
DTSTAMP:20260419T223725
CREATED:20200523T022427Z
LAST-MODIFIED:20201016T160933Z
UID:10000240-1627308000-1627313400@trinitymartinsburg.org
SUMMARY:St. Mary's Guild
DESCRIPTION:All are welcome – for more information click here
URL:https://trinitymartinsburg.org/calendar-event/st-marys-guild/2021-07-26/
LOCATION:Trinity Episcopal Church\, 200 W. King Street\, Martinsburg\, 25401\, United States
ATTACH;FMTTYPE=image/jpeg:https://trinitymartinsburg.org/wp-content/uploads/2019/08/380172-e1571863950421.jpg
GEO:39.4568997;-77.9652544
X-APPLE-STRUCTURED-LOCATION;VALUE=URI;X-ADDRESS=Trinity Episcopal Church 200 W. King Street Martinsburg 25401 United States;X-APPLE-RADIUS=500;X-TITLE=200 W. King Street:geo:-77.9652544,39.4568997
END:VEVENT
BEGIN:VEVENT
DTSTART;TZID=America/New_York:20210725T113000
DTEND;TZID=America/New_York:20210725T123000
DTSTAMP:20260419T223725
CREATED:20200511T214125Z
LAST-MODIFIED:20200511T214158Z
UID:10000166-1627212600-1627216200@trinitymartinsburg.org
SUMMARY:Fellowship Digital Time
DESCRIPTION:To join click here
URL:https://trinitymartinsburg.org/calendar-event/fellowship-digital-time/2021-07-25/
LOCATION:Trinity Episcopal Church\, 200 W. King Street\, Martinsburg\, 25401\, United States
CATEGORIES:Fellowship
ATTACH;FMTTYPE=image/jpeg:https://trinitymartinsburg.org/wp-content/uploads/2020/05/37635-e1589226634374.jpg
GEO:39.4568997;-77.9652544
X-APPLE-STRUCTURED-LOCATION;VALUE=URI;X-ADDRESS=Trinity Episcopal Church 200 W. King Street Martinsburg 25401 United States;X-APPLE-RADIUS=500;X-TITLE=200 W. King Street:geo:-77.9652544,39.4568997
END:VEVENT
BEGIN:VEVENT
DTSTART;TZID=America/New_York:20210718T113000
DTEND;TZID=America/New_York:20210718T123000
DTSTAMP:20260419T223725
CREATED:20200511T214125Z
LAST-MODIFIED:20200511T214158Z
UID:10000165-1626607800-1626611400@trinitymartinsburg.org
SUMMARY:Fellowship Digital Time
DESCRIPTION:To join click here
URL:https://trinitymartinsburg.org/calendar-event/fellowship-digital-time/2021-07-18/
LOCATION:Trinity Episcopal Church\, 200 W. King Street\, Martinsburg\, 25401\, United States
CATEGORIES:Fellowship
ATTACH;FMTTYPE=image/jpeg:https://trinitymartinsburg.org/wp-content/uploads/2020/05/37635-e1589226634374.jpg
GEO:39.4568997;-77.9652544
X-APPLE-STRUCTURED-LOCATION;VALUE=URI;X-ADDRESS=Trinity Episcopal Church 200 W. King Street Martinsburg 25401 United States;X-APPLE-RADIUS=500;X-TITLE=200 W. King Street:geo:-77.9652544,39.4568997
END:VEVENT
BEGIN:VEVENT
DTSTART;TZID=America/New_York:20210711T113000
DTEND;TZID=America/New_York:20210711T123000
DTSTAMP:20260419T223725
CREATED:20200511T214125Z
LAST-MODIFIED:20200511T214158Z
UID:10000164-1626003000-1626006600@trinitymartinsburg.org
SUMMARY:Fellowship Digital Time
DESCRIPTION:To join click here
URL:https://trinitymartinsburg.org/calendar-event/fellowship-digital-time/2021-07-11/
LOCATION:Trinity Episcopal Church\, 200 W. King Street\, Martinsburg\, 25401\, United States
CATEGORIES:Fellowship
ATTACH;FMTTYPE=image/jpeg:https://trinitymartinsburg.org/wp-content/uploads/2020/05/37635-e1589226634374.jpg
GEO:39.4568997;-77.9652544
X-APPLE-STRUCTURED-LOCATION;VALUE=URI;X-ADDRESS=Trinity Episcopal Church 200 W. King Street Martinsburg 25401 United States;X-APPLE-RADIUS=500;X-TITLE=200 W. King Street:geo:-77.9652544,39.4568997
END:VEVENT
BEGIN:VEVENT
DTSTART;TZID=America/New_York:20210704T113000
DTEND;TZID=America/New_York:20210704T123000
DTSTAMP:20260419T223725
CREATED:20200511T214125Z
LAST-MODIFIED:20200511T214158Z
UID:10000163-1625398200-1625401800@trinitymartinsburg.org
SUMMARY:Fellowship Digital Time
DESCRIPTION:To join click here
URL:https://trinitymartinsburg.org/calendar-event/fellowship-digital-time/2021-07-04/
LOCATION:Trinity Episcopal Church\, 200 W. King Street\, Martinsburg\, 25401\, United States
CATEGORIES:Fellowship
ATTACH;FMTTYPE=image/jpeg:https://trinitymartinsburg.org/wp-content/uploads/2020/05/37635-e1589226634374.jpg
GEO:39.4568997;-77.9652544
X-APPLE-STRUCTURED-LOCATION;VALUE=URI;X-ADDRESS=Trinity Episcopal Church 200 W. King Street Martinsburg 25401 United States;X-APPLE-RADIUS=500;X-TITLE=200 W. King Street:geo:-77.9652544,39.4568997
END:VEVENT
BEGIN:VEVENT
DTSTART;TZID=America/New_York:20210628T140000
DTEND;TZID=America/New_York:20210628T153000
DTSTAMP:20260419T223725
CREATED:20200523T022427Z
LAST-MODIFIED:20201016T160933Z
UID:10000239-1624888800-1624894200@trinitymartinsburg.org
SUMMARY:St. Mary's Guild
DESCRIPTION:All are welcome – for more information click here
URL:https://trinitymartinsburg.org/calendar-event/st-marys-guild/2021-06-28/
LOCATION:Trinity Episcopal Church\, 200 W. King Street\, Martinsburg\, 25401\, United States
ATTACH;FMTTYPE=image/jpeg:https://trinitymartinsburg.org/wp-content/uploads/2019/08/380172-e1571863950421.jpg
GEO:39.4568997;-77.9652544
X-APPLE-STRUCTURED-LOCATION;VALUE=URI;X-ADDRESS=Trinity Episcopal Church 200 W. King Street Martinsburg 25401 United States;X-APPLE-RADIUS=500;X-TITLE=200 W. King Street:geo:-77.9652544,39.4568997
END:VEVENT
BEGIN:VEVENT
DTSTART;TZID=America/New_York:20210627T113000
DTEND;TZID=America/New_York:20210627T123000
DTSTAMP:20260419T223725
CREATED:20200511T214125Z
LAST-MODIFIED:20200511T214158Z
UID:10000162-1624793400-1624797000@trinitymartinsburg.org
SUMMARY:Fellowship Digital Time
DESCRIPTION:To join click here
URL:https://trinitymartinsburg.org/calendar-event/fellowship-digital-time/2021-06-27/
LOCATION:Trinity Episcopal Church\, 200 W. King Street\, Martinsburg\, 25401\, United States
CATEGORIES:Fellowship
ATTACH;FMTTYPE=image/jpeg:https://trinitymartinsburg.org/wp-content/uploads/2020/05/37635-e1589226634374.jpg
GEO:39.4568997;-77.9652544
X-APPLE-STRUCTURED-LOCATION;VALUE=URI;X-ADDRESS=Trinity Episcopal Church 200 W. King Street Martinsburg 25401 United States;X-APPLE-RADIUS=500;X-TITLE=200 W. King Street:geo:-77.9652544,39.4568997
END:VEVENT
BEGIN:VEVENT
DTSTART;TZID=America/New_York:20210620T113000
DTEND;TZID=America/New_York:20210620T123000
DTSTAMP:20260419T223725
CREATED:20200511T214125Z
LAST-MODIFIED:20200511T214158Z
UID:10000161-1624188600-1624192200@trinitymartinsburg.org
SUMMARY:Fellowship Digital Time
DESCRIPTION:To join click here
URL:https://trinitymartinsburg.org/calendar-event/fellowship-digital-time/2021-06-20/
LOCATION:Trinity Episcopal Church\, 200 W. King Street\, Martinsburg\, 25401\, United States
CATEGORIES:Fellowship
ATTACH;FMTTYPE=image/jpeg:https://trinitymartinsburg.org/wp-content/uploads/2020/05/37635-e1589226634374.jpg
GEO:39.4568997;-77.9652544
X-APPLE-STRUCTURED-LOCATION;VALUE=URI;X-ADDRESS=Trinity Episcopal Church 200 W. King Street Martinsburg 25401 United States;X-APPLE-RADIUS=500;X-TITLE=200 W. King Street:geo:-77.9652544,39.4568997
END:VEVENT
BEGIN:VEVENT
DTSTART;TZID=America/New_York:20210613T113000
DTEND;TZID=America/New_York:20210613T123000
DTSTAMP:20260419T223725
CREATED:20200511T214125Z
LAST-MODIFIED:20200511T214158Z
UID:10000160-1623583800-1623587400@trinitymartinsburg.org
SUMMARY:Fellowship Digital Time
DESCRIPTION:To join click here
URL:https://trinitymartinsburg.org/calendar-event/fellowship-digital-time/2021-06-13/
LOCATION:Trinity Episcopal Church\, 200 W. King Street\, Martinsburg\, 25401\, United States
CATEGORIES:Fellowship
ATTACH;FMTTYPE=image/jpeg:https://trinitymartinsburg.org/wp-content/uploads/2020/05/37635-e1589226634374.jpg
GEO:39.4568997;-77.9652544
X-APPLE-STRUCTURED-LOCATION;VALUE=URI;X-ADDRESS=Trinity Episcopal Church 200 W. King Street Martinsburg 25401 United States;X-APPLE-RADIUS=500;X-TITLE=200 W. King Street:geo:-77.9652544,39.4568997
END:VEVENT
BEGIN:VEVENT
DTSTART;TZID=America/New_York:20210606T113000
DTEND;TZID=America/New_York:20210606T123000
DTSTAMP:20260419T223725
CREATED:20200511T214125Z
LAST-MODIFIED:20200511T214158Z
UID:10000159-1622979000-1622982600@trinitymartinsburg.org
SUMMARY:Fellowship Digital Time
DESCRIPTION:To join click here
URL:https://trinitymartinsburg.org/calendar-event/fellowship-digital-time/2021-06-06/
LOCATION:Trinity Episcopal Church\, 200 W. King Street\, Martinsburg\, 25401\, United States
CATEGORIES:Fellowship
ATTACH;FMTTYPE=image/jpeg:https://trinitymartinsburg.org/wp-content/uploads/2020/05/37635-e1589226634374.jpg
GEO:39.4568997;-77.9652544
X-APPLE-STRUCTURED-LOCATION;VALUE=URI;X-ADDRESS=Trinity Episcopal Church 200 W. King Street Martinsburg 25401 United States;X-APPLE-RADIUS=500;X-TITLE=200 W. King Street:geo:-77.9652544,39.4568997
END:VEVENT
BEGIN:VEVENT
DTSTART;TZID=America/New_York:20210530T113000
DTEND;TZID=America/New_York:20210530T123000
DTSTAMP:20260419T223725
CREATED:20200511T214125Z
LAST-MODIFIED:20200511T214158Z
UID:10000158-1622374200-1622377800@trinitymartinsburg.org
SUMMARY:Fellowship Digital Time
DESCRIPTION:To join click here
URL:https://trinitymartinsburg.org/calendar-event/fellowship-digital-time/2021-05-30/
LOCATION:Trinity Episcopal Church\, 200 W. King Street\, Martinsburg\, 25401\, United States
CATEGORIES:Fellowship
ATTACH;FMTTYPE=image/jpeg:https://trinitymartinsburg.org/wp-content/uploads/2020/05/37635-e1589226634374.jpg
GEO:39.4568997;-77.9652544
X-APPLE-STRUCTURED-LOCATION;VALUE=URI;X-ADDRESS=Trinity Episcopal Church 200 W. King Street Martinsburg 25401 United States;X-APPLE-RADIUS=500;X-TITLE=200 W. King Street:geo:-77.9652544,39.4568997
END:VEVENT
BEGIN:VEVENT
DTSTART;TZID=America/New_York:20210524T140000
DTEND;TZID=America/New_York:20210524T153000
DTSTAMP:20260419T223725
CREATED:20200523T022427Z
LAST-MODIFIED:20201016T160933Z
UID:10000238-1621864800-1621870200@trinitymartinsburg.org
SUMMARY:St. Mary's Guild
DESCRIPTION:All are welcome – for more information click here
URL:https://trinitymartinsburg.org/calendar-event/st-marys-guild/2021-05-24/
LOCATION:Trinity Episcopal Church\, 200 W. King Street\, Martinsburg\, 25401\, United States
ATTACH;FMTTYPE=image/jpeg:https://trinitymartinsburg.org/wp-content/uploads/2019/08/380172-e1571863950421.jpg
GEO:39.4568997;-77.9652544
X-APPLE-STRUCTURED-LOCATION;VALUE=URI;X-ADDRESS=Trinity Episcopal Church 200 W. King Street Martinsburg 25401 United States;X-APPLE-RADIUS=500;X-TITLE=200 W. King Street:geo:-77.9652544,39.4568997
END:VEVENT
BEGIN:VEVENT
DTSTART;TZID=America/New_York:20210523T113000
DTEND;TZID=America/New_York:20210523T123000
DTSTAMP:20260419T223725
CREATED:20200511T214125Z
LAST-MODIFIED:20200511T214158Z
UID:10000157-1621769400-1621773000@trinitymartinsburg.org
SUMMARY:Fellowship Digital Time
DESCRIPTION:To join click here
URL:https://trinitymartinsburg.org/calendar-event/fellowship-digital-time/2021-05-23/
LOCATION:Trinity Episcopal Church\, 200 W. King Street\, Martinsburg\, 25401\, United States
CATEGORIES:Fellowship
ATTACH;FMTTYPE=image/jpeg:https://trinitymartinsburg.org/wp-content/uploads/2020/05/37635-e1589226634374.jpg
GEO:39.4568997;-77.9652544
X-APPLE-STRUCTURED-LOCATION;VALUE=URI;X-ADDRESS=Trinity Episcopal Church 200 W. King Street Martinsburg 25401 United States;X-APPLE-RADIUS=500;X-TITLE=200 W. King Street:geo:-77.9652544,39.4568997
END:VEVENT
BEGIN:VEVENT
DTSTART;TZID=America/New_York:20210516T113000
DTEND;TZID=America/New_York:20210516T123000
DTSTAMP:20260419T223725
CREATED:20200511T214125Z
LAST-MODIFIED:20200511T214158Z
UID:10000156-1621164600-1621168200@trinitymartinsburg.org
SUMMARY:Fellowship Digital Time
DESCRIPTION:To join click here
URL:https://trinitymartinsburg.org/calendar-event/fellowship-digital-time/2021-05-16/
LOCATION:Trinity Episcopal Church\, 200 W. King Street\, Martinsburg\, 25401\, United States
CATEGORIES:Fellowship
ATTACH;FMTTYPE=image/jpeg:https://trinitymartinsburg.org/wp-content/uploads/2020/05/37635-e1589226634374.jpg
GEO:39.4568997;-77.9652544
X-APPLE-STRUCTURED-LOCATION;VALUE=URI;X-ADDRESS=Trinity Episcopal Church 200 W. King Street Martinsburg 25401 United States;X-APPLE-RADIUS=500;X-TITLE=200 W. King Street:geo:-77.9652544,39.4568997
END:VEVENT
BEGIN:VEVENT
DTSTART;TZID=America/New_York:20210509T113000
DTEND;TZID=America/New_York:20210509T123000
DTSTAMP:20260419T223725
CREATED:20200511T214125Z
LAST-MODIFIED:20200511T214158Z
UID:10000155-1620559800-1620563400@trinitymartinsburg.org
SUMMARY:Fellowship Digital Time
DESCRIPTION:To join click here
URL:https://trinitymartinsburg.org/calendar-event/fellowship-digital-time/2021-05-09/
LOCATION:Trinity Episcopal Church\, 200 W. King Street\, Martinsburg\, 25401\, United States
CATEGORIES:Fellowship
ATTACH;FMTTYPE=image/jpeg:https://trinitymartinsburg.org/wp-content/uploads/2020/05/37635-e1589226634374.jpg
GEO:39.4568997;-77.9652544
X-APPLE-STRUCTURED-LOCATION;VALUE=URI;X-ADDRESS=Trinity Episcopal Church 200 W. King Street Martinsburg 25401 United States;X-APPLE-RADIUS=500;X-TITLE=200 W. King Street:geo:-77.9652544,39.4568997
END:VEVENT
BEGIN:VEVENT
DTSTART;TZID=America/New_York:20210502T113000
DTEND;TZID=America/New_York:20210502T123000
DTSTAMP:20260419T223725
CREATED:20200511T214125Z
LAST-MODIFIED:20200511T214158Z
UID:10000154-1619955000-1619958600@trinitymartinsburg.org
SUMMARY:Fellowship Digital Time
DESCRIPTION:To join click here
URL:https://trinitymartinsburg.org/calendar-event/fellowship-digital-time/2021-05-02/
LOCATION:Trinity Episcopal Church\, 200 W. King Street\, Martinsburg\, 25401\, United States
CATEGORIES:Fellowship
ATTACH;FMTTYPE=image/jpeg:https://trinitymartinsburg.org/wp-content/uploads/2020/05/37635-e1589226634374.jpg
GEO:39.4568997;-77.9652544
X-APPLE-STRUCTURED-LOCATION;VALUE=URI;X-ADDRESS=Trinity Episcopal Church 200 W. King Street Martinsburg 25401 United States;X-APPLE-RADIUS=500;X-TITLE=200 W. King Street:geo:-77.9652544,39.4568997
END:VEVENT
BEGIN:VEVENT
DTSTART;TZID=America/New_York:20210426T140000
DTEND;TZID=America/New_York:20210426T153000
DTSTAMP:20260419T223725
CREATED:20200523T022427Z
LAST-MODIFIED:20201016T160933Z
UID:10000237-1619445600-1619451000@trinitymartinsburg.org
SUMMARY:St. Mary's Guild
DESCRIPTION:All are welcome – for more information click here
URL:https://trinitymartinsburg.org/calendar-event/st-marys-guild/2021-04-26/
LOCATION:Trinity Episcopal Church\, 200 W. King Street\, Martinsburg\, 25401\, United States
ATTACH;FMTTYPE=image/jpeg:https://trinitymartinsburg.org/wp-content/uploads/2019/08/380172-e1571863950421.jpg
GEO:39.4568997;-77.9652544
X-APPLE-STRUCTURED-LOCATION;VALUE=URI;X-ADDRESS=Trinity Episcopal Church 200 W. King Street Martinsburg 25401 United States;X-APPLE-RADIUS=500;X-TITLE=200 W. King Street:geo:-77.9652544,39.4568997
END:VEVENT
BEGIN:VEVENT
DTSTART;TZID=America/New_York:20210425T113000
DTEND;TZID=America/New_York:20210425T123000
DTSTAMP:20260419T223725
CREATED:20200511T214125Z
LAST-MODIFIED:20200511T214158Z
UID:10000153-1619350200-1619353800@trinitymartinsburg.org
SUMMARY:Fellowship Digital Time
DESCRIPTION:To join click here
URL:https://trinitymartinsburg.org/calendar-event/fellowship-digital-time/2021-04-25/
LOCATION:Trinity Episcopal Church\, 200 W. King Street\, Martinsburg\, 25401\, United States
CATEGORIES:Fellowship
ATTACH;FMTTYPE=image/jpeg:https://trinitymartinsburg.org/wp-content/uploads/2020/05/37635-e1589226634374.jpg
GEO:39.4568997;-77.9652544
X-APPLE-STRUCTURED-LOCATION;VALUE=URI;X-ADDRESS=Trinity Episcopal Church 200 W. King Street Martinsburg 25401 United States;X-APPLE-RADIUS=500;X-TITLE=200 W. King Street:geo:-77.9652544,39.4568997
END:VEVENT
BEGIN:VEVENT
DTSTART;TZID=America/New_York:20210418T113000
DTEND;TZID=America/New_York:20210418T123000
DTSTAMP:20260419T223725
CREATED:20200511T214125Z
LAST-MODIFIED:20200511T214158Z
UID:10000152-1618745400-1618749000@trinitymartinsburg.org
SUMMARY:Fellowship Digital Time
DESCRIPTION:To join click here
URL:https://trinitymartinsburg.org/calendar-event/fellowship-digital-time/2021-04-18/
LOCATION:Trinity Episcopal Church\, 200 W. King Street\, Martinsburg\, 25401\, United States
CATEGORIES:Fellowship
ATTACH;FMTTYPE=image/jpeg:https://trinitymartinsburg.org/wp-content/uploads/2020/05/37635-e1589226634374.jpg
GEO:39.4568997;-77.9652544
X-APPLE-STRUCTURED-LOCATION;VALUE=URI;X-ADDRESS=Trinity Episcopal Church 200 W. King Street Martinsburg 25401 United States;X-APPLE-RADIUS=500;X-TITLE=200 W. King Street:geo:-77.9652544,39.4568997
END:VEVENT
BEGIN:VEVENT
DTSTART;TZID=America/New_York:20210411T113000
DTEND;TZID=America/New_York:20210411T123000
DTSTAMP:20260419T223725
CREATED:20200511T214125Z
LAST-MODIFIED:20200511T214158Z
UID:10000151-1618140600-1618144200@trinitymartinsburg.org
SUMMARY:Fellowship Digital Time
DESCRIPTION:To join click here
URL:https://trinitymartinsburg.org/calendar-event/fellowship-digital-time/2021-04-11/
LOCATION:Trinity Episcopal Church\, 200 W. King Street\, Martinsburg\, 25401\, United States
CATEGORIES:Fellowship
ATTACH;FMTTYPE=image/jpeg:https://trinitymartinsburg.org/wp-content/uploads/2020/05/37635-e1589226634374.jpg
GEO:39.4568997;-77.9652544
X-APPLE-STRUCTURED-LOCATION;VALUE=URI;X-ADDRESS=Trinity Episcopal Church 200 W. King Street Martinsburg 25401 United States;X-APPLE-RADIUS=500;X-TITLE=200 W. King Street:geo:-77.9652544,39.4568997
END:VEVENT
BEGIN:VEVENT
DTSTART;TZID=America/New_York:20210404T113000
DTEND;TZID=America/New_York:20210404T123000
DTSTAMP:20260419T223725
CREATED:20200511T214125Z
LAST-MODIFIED:20200511T214158Z
UID:10000150-1617535800-1617539400@trinitymartinsburg.org
SUMMARY:Fellowship Digital Time
DESCRIPTION:To join click here
URL:https://trinitymartinsburg.org/calendar-event/fellowship-digital-time/2021-04-04/
LOCATION:Trinity Episcopal Church\, 200 W. King Street\, Martinsburg\, 25401\, United States
CATEGORIES:Fellowship
ATTACH;FMTTYPE=image/jpeg:https://trinitymartinsburg.org/wp-content/uploads/2020/05/37635-e1589226634374.jpg
GEO:39.4568997;-77.9652544
X-APPLE-STRUCTURED-LOCATION;VALUE=URI;X-ADDRESS=Trinity Episcopal Church 200 W. King Street Martinsburg 25401 United States;X-APPLE-RADIUS=500;X-TITLE=200 W. King Street:geo:-77.9652544,39.4568997
END:VEVENT
BEGIN:VEVENT
DTSTART;TZID=America/New_York:20210328T113000
DTEND;TZID=America/New_York:20210328T123000
DTSTAMP:20260419T223725
CREATED:20200511T214125Z
LAST-MODIFIED:20200511T214158Z
UID:10000149-1616931000-1616934600@trinitymartinsburg.org
SUMMARY:Fellowship Digital Time
DESCRIPTION:To join click here
URL:https://trinitymartinsburg.org/calendar-event/fellowship-digital-time/2021-03-28/
LOCATION:Trinity Episcopal Church\, 200 W. King Street\, Martinsburg\, 25401\, United States
CATEGORIES:Fellowship
ATTACH;FMTTYPE=image/jpeg:https://trinitymartinsburg.org/wp-content/uploads/2020/05/37635-e1589226634374.jpg
GEO:39.4568997;-77.9652544
X-APPLE-STRUCTURED-LOCATION;VALUE=URI;X-ADDRESS=Trinity Episcopal Church 200 W. King Street Martinsburg 25401 United States;X-APPLE-RADIUS=500;X-TITLE=200 W. King Street:geo:-77.9652544,39.4568997
END:VEVENT
BEGIN:VEVENT
DTSTART;TZID=America/New_York:20210322T140000
DTEND;TZID=America/New_York:20210322T153000
DTSTAMP:20260419T223725
CREATED:20200523T022427Z
LAST-MODIFIED:20201016T160933Z
UID:10000236-1616421600-1616427000@trinitymartinsburg.org
SUMMARY:St. Mary's Guild
DESCRIPTION:All are welcome – for more information click here
URL:https://trinitymartinsburg.org/calendar-event/st-marys-guild/2021-03-22/
LOCATION:Trinity Episcopal Church\, 200 W. King Street\, Martinsburg\, 25401\, United States
ATTACH;FMTTYPE=image/jpeg:https://trinitymartinsburg.org/wp-content/uploads/2019/08/380172-e1571863950421.jpg
GEO:39.4568997;-77.9652544
X-APPLE-STRUCTURED-LOCATION;VALUE=URI;X-ADDRESS=Trinity Episcopal Church 200 W. King Street Martinsburg 25401 United States;X-APPLE-RADIUS=500;X-TITLE=200 W. King Street:geo:-77.9652544,39.4568997
END:VEVENT
BEGIN:VEVENT
DTSTART;TZID=America/New_York:20210321T113000
DTEND;TZID=America/New_York:20210321T123000
DTSTAMP:20260419T223725
CREATED:20200511T214125Z
LAST-MODIFIED:20200511T214158Z
UID:10000148-1616326200-1616329800@trinitymartinsburg.org
SUMMARY:Fellowship Digital Time
DESCRIPTION:To join click here
URL:https://trinitymartinsburg.org/calendar-event/fellowship-digital-time/2021-03-21/
LOCATION:Trinity Episcopal Church\, 200 W. King Street\, Martinsburg\, 25401\, United States
CATEGORIES:Fellowship
ATTACH;FMTTYPE=image/jpeg:https://trinitymartinsburg.org/wp-content/uploads/2020/05/37635-e1589226634374.jpg
GEO:39.4568997;-77.9652544
X-APPLE-STRUCTURED-LOCATION;VALUE=URI;X-ADDRESS=Trinity Episcopal Church 200 W. King Street Martinsburg 25401 United States;X-APPLE-RADIUS=500;X-TITLE=200 W. King Street:geo:-77.9652544,39.4568997
END:VEVENT
BEGIN:VEVENT
DTSTART;TZID=America/New_York:20210314T113000
DTEND;TZID=America/New_York:20210314T123000
DTSTAMP:20260419T223725
CREATED:20200511T214125Z
LAST-MODIFIED:20200511T214158Z
UID:10000147-1615721400-1615725000@trinitymartinsburg.org
SUMMARY:Fellowship Digital Time
DESCRIPTION:To join click here
URL:https://trinitymartinsburg.org/calendar-event/fellowship-digital-time/2021-03-14/
LOCATION:Trinity Episcopal Church\, 200 W. King Street\, Martinsburg\, 25401\, United States
CATEGORIES:Fellowship
ATTACH;FMTTYPE=image/jpeg:https://trinitymartinsburg.org/wp-content/uploads/2020/05/37635-e1589226634374.jpg
GEO:39.4568997;-77.9652544
X-APPLE-STRUCTURED-LOCATION;VALUE=URI;X-ADDRESS=Trinity Episcopal Church 200 W. King Street Martinsburg 25401 United States;X-APPLE-RADIUS=500;X-TITLE=200 W. King Street:geo:-77.9652544,39.4568997
END:VEVENT
BEGIN:VEVENT
DTSTART;TZID=America/New_York:20210307T113000
DTEND;TZID=America/New_York:20210307T123000
DTSTAMP:20260419T223725
CREATED:20200511T214125Z
LAST-MODIFIED:20200511T214158Z
UID:10000146-1615116600-1615120200@trinitymartinsburg.org
SUMMARY:Fellowship Digital Time
DESCRIPTION:To join click here
URL:https://trinitymartinsburg.org/calendar-event/fellowship-digital-time/2021-03-07/
LOCATION:Trinity Episcopal Church\, 200 W. King Street\, Martinsburg\, 25401\, United States
CATEGORIES:Fellowship
ATTACH;FMTTYPE=image/jpeg:https://trinitymartinsburg.org/wp-content/uploads/2020/05/37635-e1589226634374.jpg
GEO:39.4568997;-77.9652544
X-APPLE-STRUCTURED-LOCATION;VALUE=URI;X-ADDRESS=Trinity Episcopal Church 200 W. King Street Martinsburg 25401 United States;X-APPLE-RADIUS=500;X-TITLE=200 W. King Street:geo:-77.9652544,39.4568997
END:VEVENT
END:VCALENDAR